Workbook

Sheet IAA
D1: MATRIZ DE IDENTIFICACIÓN DE ASPECTOS AMBIENTALES | DY1: Código: GA-MT-001
DY2: Versión: 001
D3: E.S.E. HOSPITAL REGIONAL CENTRO | DY3: Actualización: 04/04/2025
DY4: Página 1 de 1
B6: Fecha de Realización: 4/05/2025 | D6: Área | F6: SERVICIO GENERAL | AP6: ESTERILIZACIÓN | BV6: LABORATORIO Y TOMA DE MUESTRAS | CF6: ÁREA RESIDUOS PELIGROSO (RESPEL) | DE6: DESTRUCCION Y TRITURACION | ED6: LIMPIEZA DE PLANTA
B7: Responsable: Líder Gestión Ambiental | D7: Actividades | F7: Recolección residuos comunes | N7: Recolección residuos riesgo biológico | U7: Recolección residuos riesgo químico | Y7: Descargue de residuos de riesgo biológico | AD7: Descargue de residuos de riesgo químico | AJ7: Lavado y desinfección de vehículos | AP7: Almacenamiento de residuos biosanitario | AW7: Empaqué y Amarre | BC7: Esterilización | BL7: Cargue de material | BQ7: Mantenimientos de equipos de esterilización | BV7: Almacenamiento de Anatomopatológicos, Corto puntanzates y animales | CC7: Mantenimientos del equipo | CF7: Clasificación de material | CJ7: Almacenamientos RESPEL | CP7: Alistamiento de material | CU7: Alistamiento de material para gestores | CZ7: Salidas | DE7: Almacenamiento | DI7: Trituración | DN7: Destrucción | DU7: Salida de material | DY7: Mantenimiento de equipos de destrucción y trituración | ED7: Limpieza y Desinfección.
B8: CALIFICACIÓN | C8: 3 | D8: 2 | E8: 1 | F8: Generación de olores | G8: Derrames de fluidos | H8: Generación de ruido | I8: Emisión de gases | J8: Manipulación de residuos ordinarios | K8: Generación de residuos sueltos | L8: Consumo de combustible | M8: Generación de lixiviados | N8: Generación de olores | O8: Derrames de fluidos | P8: Emisión de gases | Q8: Manipulación de residuos biológicos | R8: Generación de residuos sueltos | S8: Consumo de combustible | T8: Generación de lixiviados | U8: Emisión de gases | V8: Manipulación de residuos especiales | W8: Consumo de combustible | X8: Generación de lixiviados | Y8: Generación de residuos sueltos | Z8: Emisión de olores | AA8: Derrames de fluidos | AB8: Manipulación inapropiada de residuos peligrosos | AC8: Vertimiento de lixiviados | AD8: Generación de gases | AE8: Generación de residuos sueltos | AF8: Emisión de olores | AG8: Derrames de fluidos | AH8: Manipulación inapropiada de residuos peligrosos | AI8: Vertimiento de lixiviados | AJ8: Represamiento de fluidos | AK8: Generación de residuos | AL8: Consumo de agua | AM8: Acumulación de residuos infecciosos | AN8: Consumo de energía | AO8: manipulación inapropiada de residuos | AP8: Derrames de fluidos | AQ8: Acumulación de residuos | AR8: Residuos infecciosos sueltos | AS8: Manipulación inapropiada de residuos peligrosos | AT8: Emisión de olores | AU8: Consumo de energía | AV8: Proliferación de vectores | AW8: Manipulación inapropiada de residuos peligrosos | AX8: Residuos infecciosos sueltos | AY8: Derrames de fluidos | AZ8: Emisión de olores | BA8: Consumo de energía | BB8: Proliferación de vectores | BC8: Consumo de agua | BD8: Consumó de energía | BE8: Consumo de gas | BF8: Emisión de gases y olores | BG8: Manipulación inapropiada | BH8: Derrame de líquidos | BI8: Residuos en el suelo | BJ8: Generación de ruido | BK8: Proliferación de vectores | BL8: Emisión de olores | BM8: Generación de ruido | BN8: Emisión de gases | BO8: Derrames de lixiviado | BP8: Manipulación de residuos | BQ8: Generación de ruido | BR8: Acumulación de residuos peligrosos | BS8: Derrames de fluidos | BT8: Consumo de energía | BU8: Generación de residuos peligroso | BV8: Consumo de agua | BW8: Consumo de refrigerante | BX8: Consumo de energía | BY8: Acumulación de residuos peligrosos | BZ8: Generación de olores | CA8: Derrame de fluido | CB8: Residuos sueltos en el suelo | CC8: Acumulación de residuos peligrosos | CD8: Generación de ruido | CE8: Generación de residuos | CF8: Manipulación de residuos peligrosos sin mascara | CG8: Exposición a gases y malos olores | CH8: Derrames de fluidos | CI8: Residuos sueltos en el suelo | CJ8: Acumulación de residuos químicos | CK8: Generación de gases y vapores | CL8: Consumo de energía | CM8: Generación de olores | CN8: Derrames de fluidos | CO8: Proliferación de plagas | CP8: Manipulación de residuos peligrosos | CQ8: Derrames de fluidos | CR8: Generación de olores | CS8: Acumulación de residuos químicos | CT8: Generación de gases y vapores | CU8: Manipulación de residuos peligrosos | CV8: Derrames de fluidos | CW8: Generación de olores | CX8: Acumulación de residuos químicos | CY8: Generación de gases y vapores | CZ8: Emisiones de material volátil | DA8: Manipulación de residuos peligrosos | DB8: Generación de ruido | DC8: Generación de residuos peligrosos | DD8: Derrame de ceniza en el suelo | DE8: Contaminación de material aprovechable | DF8: Derrames de fluidos | DG8: Proliferación de vectores | DH8: Residuos sueltos | DI8: Residuos sueltos | DJ8: Generación de ruido | DK8: Generación de vibraciones | DL8: Derrame de fluidos | DM8: Contaminación de material aprovechable | DN8: Generación de ruido | DO8: Residuos sueltos | DP8: Generación de residuos | DQ8: Derrame de fluidos | DR8: Manipulación de residuos | DS8: Consumo de energía | DT8: Generación de vibraciones | DU8: Manipulación inapropiada | DV8: Derrame de fluidos | DW8: Residuos sueltos | DX8: Generación de lixiviado | DY8: Generación de ruido | DZ8: Acumulación de residuos | EA8: Derrames de fluidos | EB8: Consumo de energía | EC8: Generación de residuos peligroso | ED8: Consumo de agua | EE8: Consumo de energía | EF8: Consumo de desinfectante | EG8: Acumulación de residuos en canaleta | EH8: Vertimientos líquidos | EI8: Residuos remanentes de descargue
A9: A. PRIORIDAD AMBIENTAL | B9: PA.2 Severidad ¿Cuál es la severidad que el impacto produce sobre el ambiente? | C9: 3. Grave: Representa un alto riesgo para la salud y el entorno | D9: 2. Medio: Peligro para la salud y el entorno pero no daño fatal | E9: 1. Leve: Impacto no significativo | F9: 2 | G9: 2 | H9: 1 | I9: 2 | J9: 1 | K9: 1 | L9: 1 | M9: 2 | N9: 2 | O9: 2 | P9: 2 | Q9: 2 | R9: 2 | S9: 1 | T9: 2 | U9: 2 | V9: 2 | W9: 1 | X9: 2 | Y9: 2 | Z9: 2 | AA9: 2 | AB9: 2 | AC9: 3 | AD9: 2 | AE9: 2 | AF9: 2 | AG9: 2 | AH9: 2 | AI9: 2 | AJ9: 2 | AK9: 2 | AL9: 1 | AM9: 2 | AN9: 1 | AO9: 2 | AP9: 3 | AQ9: 2 | AR9: 2 | AS9: 2 | AT9: 2 | AU9: 1 | AV9: 3 | AW9: 2 | AX9: 2 | AY9: 3 | AZ9: 2 | BA9: 1 | BB9: 3 | BC9: 1 | BD9: 1 | BE9: 1 | BF9: 2 | BG9: 2 | BH9: 2 | BI9: 2 | BJ9: 2 | BK9: 3 | BL9: 2 | BM9: 2 | BN9: 2 | BO9: 2 | BP9: 2 | BQ9: 2 | BR9: 2 | BS9: 2 | BT9: 1 | BU9: 2 | BV9: 1 | BW9: 1 | BX9: 1 | BY9: 2 | BZ9: 2 | CA9: 3 | CB9: 2 | CC9: 2 | CD9: 1 | CE9: 2 | CF9: 2 | CG9: 2 | CH9: 2 | CI9: 2 | CJ9: 2 | CK9: 2 | CL9: 1 | CM9: 2 | CN9: 2 | CO9: 2 | CP9: 2 | CQ9: 2 | CR9: 2 | CS9: 2 | CT9: 2 | CU9: 2 | CV9: 2 | CW9: 2 | CX9: 2 | CY9: 2 | CZ9: 3 | DA9: 2 | DB9: 2 | DC9: 2 | DD9: 3 | DE9: 1 | DF9: 2 | DG9: 2 | DH9: 1 | DI9: 1 | DJ9: 2 | DK9: 2 | DL9: 2 | DM9: 1 | DN9: 2 | DO9: 1 | DP9: 1 | DQ9: 2 | DR9: 1 | DS9: 1 | DT9: 2 | DU9: 2 | DV9: 2 | DW9: 2 | DX9: 2 | DY9: 2 | DZ9: 2 | EA9: 2 | EB9: 1 | EC9: 2 | ED9: 1 | EE9: 1 | EF9: 1 | EG9: 2 | EH9: 2 | EI9: 3
B10: PA.4 Persistencia: ¿Qué tan permanente es el impacto? | C10: 3. Continuo | D10: 2. Intermitente | E10: 1. No es persistente | F10: 1 | G10: 1 | H10: 1 | I10: 1 | J10: 2 | K10: 2 | L10: 1 | M10: 3 | N10: 2 | O10: 2 | P10: 2 | Q10: 2 | R10: 2 | S10: 1 | T10: 3 | U10: 2 | V10: 2 | W10: 1 | X10: 3 | Y10: 2 | Z10: 2 | AA10: 2 | AB10: 2 | AC10: 3 | AD10: 2 | AE10: 2 | AF10: 2 | AG10: 2 | AH10: 2 | AI10: 2 | AJ10: 2 | AK10: 2 | AL10: 2 | AM10: 2 | AN10: 3 | AO10: 2 | AP10: 3 | AQ10: 3 | AR10: 2 | AS10: 2 | AT10: 3 | AU10: 2 | AV10: 2 | AW10: 3 | AX10: 3 | AY10: 3 | AZ10: 3 | BA10: 3 | BB10: 2 | BC10: 3 | BD10: 3 | BE10: 3 | BF10: 3 | BG10: 3 | BH10: 2 | BI10: 2 | BJ10: 3 | BK10: 2 | BL10: 2 | BM10: 2 | BN10: 2 | BO10: 2 | BP10: 3 | BQ10: 1 | BR10: 1 | BS10: 1 | BT10: 1 | BU10: 1 | BV10: 2 | BW10: 2 | BX10: 2 | BY10: 2 | BZ10: 2 | CA10: 2 | CB10: 2 | CC10: 2 | CD10: 2 | CE10: 2 | CF10: 3 | CG10: 3 | CH10: 3 | CI10: 3 | CJ10: 3 | CK10: 3 | CL10: 2 | CM10: 3 | CN10: 3 | CO10: 1 | CP10: 3 | CQ10: 2 | CR10: 2 | CS10: 2 | CT10: 2 | CU10: 3 | CV10: 2 | CW10: 2 | CX10: 2 | CY10: 2 | CZ10: 2 | DA10: 2 | DB10: 2 | DC10: 2 | DD10: 2 | DE10: 2 | DF10: 2 | DG10: 2 | DH10: 2 | DI10: 1 | DJ10: 2 | DK10: 2 | DL10: 2 | DM10: 1 | DN10: 2 | DO10: 2 | DP10: 2 | DQ10: 2 | DR10: 2 | DS10: 2 | DT10: 2 | DU10: 1 | DV10: 2 | DW10: 2 | DX10: 2 | DY10: 1 | DZ10: 1 | EA10: 1 | EB10: 1 | EC10: 1 | ED10: 2 | EE10: 2 | EF10: 2 | EG10: 2 | EH10: 2 | EI10: 2
A11: B. CONTROL OPERACIONAL | B11: CO.1 Control: ¿Existe algún control operacional que reduce el impacto causado por el aspecto? | C11: 3. No hay ningún control operacional | D11: 2. Los controles operacionales existentes reducen parcialmente el impacto. | E11: 1. Los controles operacionales existentes reducen completamente el impacto. | F11: 2 | G11: 2 | H11: 2 | I11: 2 | J11: 2 | K11: 2 | L11: 2 | M11: 2 | N11: 2 | O11: 2 | P11: 2 | Q11: 2 | R11: 2 | S11: 2 | T11: 2 | U11: 2 | V11: 2 | W11: 2 | X11: 2 | Y11: 2 | Z11: 2 | AA11: 2 | AB11: 2 | AC11: 2 | AD11: 2 | AE11: 2 | AF11: 2 | AG11: 2 | AH11: 2 | AI11: 2 | AJ11: 2 | AK11: 2 | AL11: 2 | AM11: 2 | AN11: 2 | AO11: 2 | AP11: 2 | AQ11: 2 | AR11: 2 | AS11: 2 | AT11: 2 | AU11: 2 | AV11: 2 | AW11: 2 | AX11: 2 | AY11: 2 | AZ11: 2 | BA11: 2 | BB11: 2 | BC11: 2 | BD11: 2 | BE11: 2 | BF11: 3 | BG11: 3 | BH11: 2 | BI11: 2 | BJ11: 2 | BK11: 2 | BL11: 2 | BM11: 2 | BN11: 2 | BO11: 2 | BP11: 2 | BQ11: 2 | BR11: 2 | BS11: 2 | BT11: 2 | BU11: 2 | BV11: 2 | BW11: 2 | BX11: 2 | BY11: 2 | BZ11: 2 | CA11: 2 | CB11: 2 | CC11: 2 | CD11: 2 | CE11: 2 | CF11: 2 | CG11: 2 | CH11: 2 | CI11: 2 | CJ11: 2 | CK11: 2 | CL11: 2 | CM11: 2 | CN11: 2 | CO11: 2 | CP11: 2 | CQ11: 2 | CR11: 2 | CS11: 2 | CT11: 2 | CU11: 2 | CV11: 2 | CW11: 2 | CX11: 2 | CY11: 2 | CZ11: 2 | DA11: 2 | DB11: 2 | DC11: 2 | DD11: 2 | DE11: 2 | DF11: 2 | DG11: 2 | DH11: 2 | DI11: 2 | DJ11: 2 | DK11: 2 | DL11: 2 | DM11: 2 | DN11: 2 | DO11: 2 | DP11: 2 | DQ11: 2 | DR11: 2 | DS11: 2 | DT11: 2 | DU11: 2 | DV11: 2 | DW11: 2 | DX11: 2 | DY11: 2 | DZ11: 2 | EA11: 2 | EB11: 2 | EC11: 2 | ED11: 2 | EE11: 2 | EF11: 2 | EG11: 2 | EH11: 2 | EI11: 3
B12: CO.2 Dificultad ¿Qué tan fácilmente se puede controlar el impacto? | C12: 3. Se requieren proyectos de ingeniería y altos recursos económicos para controlar efectivamente el impacto. | D12: 2. Se requiere intervención de otras áreas y recursos económicos aceptables para controlar el impacto. | E12: 1. Fácilmente controlable: Con cambios sencillos en el proceso o en el comportamiento se puede controlar efectivamente el impacto. | F12: 3 | G12: 2 | H12: 2 | I12: 2 | J12: 1 | K12: 1 | L12: 2 | M12: 2 | N12: 3 | O12: 2 | P12: 2 | Q12: 1 | R12: 1 | S12: 2 | T12: 2 | U12: 2 | V12: 1 | W12: 2 | X12: 2 | Y12: 1 | Z12: 3 | AA12: 1 | AB12: 1 | AC12: 2 | AD12: 3 | AE12: 1 | AF12: 3 | AG12: 1 | AH12: 1 | AI12: 2 | AJ12: 1 | AK12: 1 | AL12: 1 | AM12: 1 | AN12: 2 | AO12: 1 | AP12: 1 | AQ12: 2 | AR12: 1 | AS12: 1 | AT12: 3 | AU12: 2 | AV12: 1 | AW12: 1 | AX12: 1 | AY12: 1 | AZ12: 3 | BA12: 2 | BB12: 1 | BC12: 2 | BD12: 2 | BE12: 2 | BF12: 3 | BG12: 1 | BH12: 1 | BI12: 1 | BJ12: 3 | BK12: 1 | BL12: 3 | BM12: 3 | BN12: 3 | BO12: 2 | BP12: 1 | BQ12: 2 | BR12: 2 | BS12: 2 | BT12: 2 | BU12: 2 | BV12: 2 | BW12: 2 | BX12: 2 | BY12: 2 | BZ12: 3 | CA12: 1 | CB12: 1 | CC12: 2 | CD12: 2 | CE12: 1 | CF12: 1 | CG12: 2 | CH12: 1 | CI12: 1 | CJ12: 1 | CK12: 2 | CL12: 2 | CM12: 3 | CN12: 1 | CO12: 1 | CP12: 1 | CQ12: 1 | CR12: 2 | CS12: 2 | CT12: 2 | CU12: 1 | CV12: 1 | CW12: 3 | CX12: 2 | CY12: 2 | CZ12: 3 | DA12: 2 | DB12: 2 | DC12: 2 | DD12: 2 | DE12: 1 | DF12: 1 | DG12: 1 | DH12: 1 | DI12: 1 | DJ12: 2 | DK12: 3 | DL12: 1 | DM12: 1 | DN12: 2 | DO12: 1 | DP12: 2 | DQ12: 1 | DR12: 1 | DS12: 2 | DT12: 2 | DU12: 1 | DV12: 1 | DW12: 1 | DX12: 2 | DY12: 2 | DZ12: 2 | EA12: 2 | EB12: 2 | EC12: 2 | ED12: 2 | EE12: 2 | EF12: 1 | EG12: 1 | EH12: 2 | EI12: 1
B13: CO.3 Recursos Económicos. ¿Con qué recursos económicos se cuenta para controlar el Impacto en la compañía? | C13: 3. No se tienen recursos. | D13: 2. Se cuentan con los recursos económicos y técnicos para controlar parcialmente el impacto. | E13: 1. Se cuentan con todos los recursos económicos y técnicos para el control del impacto. | F13: 2 | G13: 1 | H13: 2 | I13: 2 | J13: 1 | K13: 1 | L13: 2 | M13: 2 | N13: 2 | O13: 2 | P13: 2 | Q13: 1 | R13: 1 | S13: 2 | T13: 1 | U13: 2 | V13: 1 | W13: 2 | X13: 1 | Y13: 1 | Z13: 2 | AA13: 1 | AB13: 1 | AC13: 2 | AD13: 2 | AE13: 1 | AF13: 2 | AG13: 1 | AH13: 1 | AI13: 2 | AJ13: 2 | AK13: 1 | AL13: 2 | AM13: 1 | AN13: 2 | AO13: 1 | AP13: 1 | AQ13: 2 | AR13: 1 | AS13: 1 | AT13: 2 | AU13: 2 | AV13: 1 | AW13: 1 | AX13: 1 | AY13: 1 | AZ13: 2 | BA13: 2 | BB13: 1 | BC13: 2 | BD13: 2 | BE13: 2 | BF13: 2 | BG13: 1 | BH13: 1 | BI13: 2 | BJ13: 2 | BK13: 1 | BL13: 2 | BM13: 2 | BN13: 2 | BO13: 2 | BP13: 2 | BQ13: 2 | BR13: 2 | BS13: 1 | BT13: 2 | BU13: 2 | BV13: 2 | BW13: 2 | BX13: 2 | BY13: 2 | BZ13: 2 | CA13: 1 | CB13: 1 | CC13: 1 | CD13: 2 | CE13: 1 | CF13: 1 | CG13: 2 | CH13: 1 | CI13: 1 | CJ13: 1 | CK13: 2 | CL13: 2 | CM13: 2 | CN13: 1 | CO13: 1 | CP13: 1 | CQ13: 1 | CR13: 2 | CS13: 2 | CT13: 2 | CU13: 1 | CV13: 1 | CW13: 2 | CX13: 2 | CY13: 2 | CZ13: 2 | DA13: 2 | DB13: 2 | DC13: 2 | DD13: 2 | DE13: 1 | DF13: 1 | DG13: 1 | DH13: 1 | DI13: 1 | DJ13: 2 | DK13: 2 | DL13: 1 | DM13: 1 | DN13: 2 | DO13: 1 | DP13: 2 | DQ13: 1 | DR13: 1 | DS13: 2 | DT13: 2 | DU13: 2 | DV13: 1 | DW13: 1 | DX13: 2 | DY13: 2 | DZ13: 2 | EA13: 1 | EB13: 2 | EC13: 2 | ED13: 2 | EE13: 2 | EF13: 2 | EG13: 1 | EH13: 2 | EI13: 1
A14: C. PARTE INTERESADA | B14: PI.1 Gestores externos ¿Qué tanto afecta la alianza con gestores externos? | C14: 3. Grave: Representa un alto riesgo para los gestores | D14: 2. Medio: afecta medianamente la relación. | E14: 1. Leve: No afecta en nada | F14: 0 | G14: 0 | H14: 0 | I14: 0 | J14: 0 | K14: 0 | L14: 0 | M14: 0 | N14: 0 | O14: 0 | P14: 0 | Q14: 0 | R14: 0 | S14: 0 | T14: 0 | U14: 0 | V14: 0 | W14: 0 | X14: 0 | Y14: 0 | Z14: 0 | AA14: 0 | AB14: 0 | AC14: 0 | AD14: 0 | AE14: 0 | AF14: 0 | AG14: 0 | AH14: 0 | AI14: 0 | AJ14: 0 | AK14: 0 | AL14: 0 | AM14: 0 | AN14: 0 | AO14: 0 | AP14: 0 | AQ14: 0 | AR14: 0 | AS14: 0 | AT14: 0 | AU14: 0 | AV14: 0 | AW14: 0 | AX14: 0 | AY14: 0 | AZ14: 0 | BA14: 0 | BB14: 0 | BC14: 0 | BD14: 0 | BE14: 0 | BF14: 0 | BG14: 0 | BH14: 0 | BI14: 0 | BJ14: 0 | BK14: 0 | BL14: 0 | BM14: 0 | BN14: 0 | BO14: 0 | BP14: 0 | BQ14: 0 | BR14: 0 | BS14: 0 | BT14: 0 | BU14: 0 | BV14: 0 | BW14: 0 | BX14: 0 | BY14: 0 | BZ14: 0 | CA14: 0 | CB14: 0 | CC14: 0 | CD14: 0 | CE14: 0 | CF14: 0 | CG14: 0 | CH14: 0 | CI14: 0 | CJ14: 0 | CK14: 0 | CL14: 0 | CM14: 0 | CN14: 0 | CO14: 0 | CP14: 0 | CQ14: 0 | CR14: 0 | CS14: 0 | CT14: 0 | CU14: 1 | CV14: 2 | CW14: 2 | CX14: 2 | CY14: 2 | CZ14: 2 | DA14: 1 | DB14: 1 | DC14: 1 | DD14: 2 | DE14: 0 | DF14: 0 | DG14: 0 | DH14: 0 | DI14: 0 | DJ14: 0 | DK14: 0 | DL14: 0 | DM14: 0 | DN14: 0 | DO14: 0 | DP14: 0 | DQ14: 0 | DR14: 0 | DS14: 0 | DT14: 0 | DU14: 0 | DV14: 0 | DW14: 0 | DX14: 0 | DY14: 0 | DZ14: 0 | EA14: 0 | EB14: 0 | EC14: 0 | ED14: 0 | EE14: 0 | EF14: 0 | EG14: 0 | EH14: 0 | EI14: 0
B15: PI.2 Clientes. ¿Es importante para los clientes este aspecto ambiental y su respectivo impacto? | C15: 3. Muy importante. Usualmente se muestran interesados. | D15: 2. Medianamente importante. | E15: 1. No es importante para ellos. | F15: 2 | G15: 2 | H15: 2 | I15: 2 | J15: 2 | K15: 2 | L15: 1 | M15: 2 | N15: 2 | O15: 2 | P15: 2 | Q15: 2 | R15: 2 | S15: 1 | T15: 2 | U15: 2 | V15: 2 | W15: 1 | X15: 2 | Y15: 2 | Z15: 2 | AA15: 2 | AB15: 2 | AC15: 2 | AD15: 2 | AE15: 2 | AF15: 2 | AG15: 2 | AH15: 2 | AI15: 2 | AJ15: 2 | AK15: 2 | AL15: 1 | AM15: 2 | AN15: 1 | AO15: 2 | AP15: 2 | AQ15: 2 | AR15: 2 | AS15: 2 | AT15: 2 | AU15: 2 | AV15: 2 | AW15: 2 | AX15: 2 | AY15: 2 | AZ15: 2 | BA15: 1 | BB15: 2 | BC15: 2 | BD15: 2 | BE15: 2 | BF15: 2 | BG15: 2 | BH15: 2 | BI15: 2 | BJ15: 2 | BK15: 2 | BL15: 2 | BM15: 2 | BN15: 2 | BO15: 2 | BP15: 2 | BQ15: 2 | BR15: 2 | BS15: 2 | BT15: 1 | BU15: 2 | BV15: 1 | BW15: 1 | BX15: 1 | BY15: 2 | BZ15: 2 | CA15: 2 | CB15: 2 | CC15: 2 | CD15: 2 | CE15: 2 | CF15: 2 | CG15: 2 | CH15: 2 | CI15: 2 | CJ15: 2 | CK15: 2 | CL15: 2 | CM15: 2 | CN15: 2 | CO15: 2 | CP15: 2 | CQ15: 2 | CR15: 2 | CS15: 2 | CT15: 2 | CU15: 2 | CV15: 2 | CW15: 2 | CX15: 2 | CY15: 2 | CZ15: 2 | DA15: 2 | DB15: 2 | DC15: 2 | DD15: 2 | DE15: 2 | DF15: 2 | DG15: 2 | DH15: 2 | DI15: 2 | DJ15: 2 | DK15: 2 | DL15: 2 | DM15: 2 | DN15: 2 | DO15: 2 | DP15: 2 | DQ15: 2 | DR15: 2 | DS15: 2 | DT15: 2 | DU15: 2 | DV15: 2 | DW15: 2 | DX15: 2 | DY15: 2 | DZ15: 2 | EA15: 2 | EB15: 1 | EC15: 2 | ED15: 2 | EE15: 2 | EF15: 2 | EG15: 2 | EH15: 2 | EI15: 2
B16: PA.3 Personal: ¿Es importante este aspecto ambiental, para el personal laboral? | C16: 3. Muy importante. El personal se muestra constantemente interesado, han existido quejas y/o riesgos. | D16: 2. Medianamente importante. Existe cierto interés. | E16: 1. No es importante. El personal no ha mostrado interés. | F16: 2 | G16: 2 | H16: 2 | I16: 2 | J16: 2 | K16: 2 | L16: 1 | M16: 2 | N16: 2 | O16: 2 | P16: 2 | Q16: 2 | R16: 2 | S16: 1 | T16: 2 | U16: 2 | V16: 2 | W16: 1 | X16: 2 | Y16: 2 | Z16: 2 | AA16: 2 | AB16: 2 | AC16: 2 | AD16: 2 | AE16: 2 | AF16: 2 | AG16: 2 | AH16: 2 | AI16: 2 | AJ16: 2 | AK16: 2 | AL16: 2 | AM16: 2 | AN16: 2 | AO16: 2 | AP16: 2 | AQ16: 2 | AR16: 2 | AS16: 2 | AT16: 2 | AU16: 1 | AV16: 2 | AW16: 2 | AX16: 2 | AY16: 2 | AZ16: 2 | BA16: 1 | BB16: 2 | BC16: 1 | BD16: 1 | BE16: 1 | BF16: 2 | BG16: 2 | BH16: 2 | BI16: 2 | BJ16: 2 | BK16: 2 | BL16: 2 | BM16: 2 | BN16: 2 | BO16: 2 | BP16: 2 | BQ16: 2 | BR16: 2 | BS16: 2 | BT16: 1 | BU16: 2 | BV16: 1 | BW16: 1 | BX16: 1 | BY16: 2 | BZ16: 2 | CA16: 2 | CB16: 2 | CC16: 1 | CD16: 1 | CE16: 1 | CF16: 2 | CG16: 2 | CH16: 2 | CI16: 2 | CJ16: 2 | CK16: 2 | CL16: 1 | CM16: 2 | CN16: 2 | CO16: 2 | CP16: 2 | CQ16: 2 | CR16: 2 | CS16: 2 | CT16: 2 | CU16: 2 | CV16: 2 | CW16: 2 | CX16: 2 | CY16: 2 | CZ16: 2 | DA16: 2 | DB16: 2 | DC16: 2 | DD16: 2 | DE16: 1 | DF16: 2 | DG16: 2 | DH16: 2 | DI16: 1 | DJ16: 2 | DK16: 2 | DL16: 2 | DM16: 1 | DN16: 2 | DO16: 2 | DP16: 2 | DQ16: 2 | DR16: 2 | DS16: 2 | DT16: 2 | DU16: 1 | DV16: 2 | DW16: 2 | DX16: 2 | DY16: 2 | DZ16: 2 | EA16: 2 | EB16: 1 | EC16: 2 | ED16: 1 | EE16: 1 | EF16: 1 | EG16: 2 | EH16: 2 | EI16: 3
B17: PA.4 Comunidad. ¿Es importante para la comunidad en general este aspecto? | C17: 3. Muy importante. El personal se muestra constantemente interesado, han existido quejas y/o riesgos. | D17: 2. Medianamente importante. Existe cierto interés. | E17: 1. No es importante. El personal no ha mostrado interés. | F17: 2 | G17: 2 | H17: 2 | I17: 2 | J17: 1 | K17: 2 | L17: 2 | M17: 2 | N17: 2 | O17: 2 | P17: 2 | Q17: 1 | R17: 2 | S17: 1 | T17: 2 | U17: 2 | V17: 1 | W17: 1 | X17: 2 | Y17: 0 | Z17: 0 | AA17: 0 | AB17: 0 | AC17: 0 | AD17: 0 | AE17: 0 | AF17: 0 | AG17: 0 | AH17: 0 | AI17: 0 | AJ17: 0 | AK17: 0 | AL17: 0 | AM17: 0 | AN17: 0 | AO17: 0 | AP17: 0 | AQ17: 0 | AR17: 0 | AS17: 0 | AT17: 0 | AU17: 0 | AV17: 0 | AW17: 0 | AX17: 0 | AY17: 0 | AZ17: 0 | BA17: 0 | BB17: 0 | BC17: 0 | BD17: 0 | BE17: 0 | BF17: 2 | BG17: 0 | BH17: 0 | BI17: 0 | BJ17: 2 | BK17: 2 | BL17: 0 | BM17: 2 | BN17: 2 | BO17: 0 | BP17: 0 | BQ17: 0 | BR17: 0 | BS17: 0 | BT17: 0 | BU17: 0 | BV17: 0 | BW17: 0 | BX17: 0 | BY17: 0 | BZ17: 0 | CA17: 0 | CB17: 0 | CC17: 0 | CD17: 0 | CE17: 0 | CF17: 0 | CG17: 0 | CH17: 0 | CI17: 0 | CJ17: 0 | CK17: 0 | CL17: 0 | CM17: 2 | CN17: 0 | CO17: 2 | CP17: 0 | CQ17: 0 | CR17: 2 | CS17: 0 | CT17: 0 | CU17: 0 | CV17: 0 | CW17: 2 | CX17: 0 | CY17: 2 | CZ17: 0 | DA17: 0 | DB17: 2 | DC17: 0 | DD17: 0 | DE17: 0 | DF17: 0 | DG17: 0 | DH17: 0 | DI17: 0 | DJ17: 0 | DK17: 0 | DL17: 0 | DM17: 0 | DN17: 0 | DO17: 0 | DP17: 0 | DQ17: 0 | DR17: 0 | DS17: 0 | DT17: 0 | DU17: 0 | DV17: 0 | DW17: 0 | DX17: 0 | DY17: 0 | DZ17: 0 | EA17: 0 | EB17: 0 | EC17: 0 | ED17: 0 | EE17: 0 | EF17: 0 | EG17: 0 | EH17: 0 | EI17: 0
A18: D. CUMPLIMIENTO LEGAL | B18: CL.1 Regulación local: ¿Este aspecto ambiental viola alguna norma o regulación local? | C18: 3. Sí. En su totalidad | D18: 2. Regular. En contra de un requisito legal aplicable especifico | E18: 1. No. | F18: 2 | G18: 2 | H18: 2 | I18: 2 | J18: 2 | K18: 2 | L18: 1 | M18: 2 | N18: 2 | O18: 2 | P18: 2 | Q18: 2 | R18: 2 | S18: 1 | T18: 2 | U18: 2 | V18: 2 | W18: 1 | X18: 2 | Y18: 2 | Z18: 2 | AA18: 1 | AB18: 2 | AC18: 1 | AD18: 2 | AE18: 2 | AF18: 2 | AG18: 1 | AH18: 2 | AI18: 2 | AJ18: 2 | AK18: 1 | AL18: 1 | AM18: 2 | AN18: 1 | AO18: 2 | AP18: 2 | AQ18: 2 | AR18: 2 | AS18: 2 | AT18: 2 | AU18: 1 | AV18: 2 | AW18: 2 | AX18: 2 | AY18: 2 | AZ18: 2 | BA18: 1 | BB18: 2 | BC18: 1 | BD18: 1 | BE18: 1 | BF18: 2 | BG18: 2 | BH18: 2 | BI18: 2 | BJ18: 2 | BK18: 2 | BL18: 2 | BM18: 2 | BN18: 2 | BO18: 2 | BP18: 2 | BQ18: 2 | BR18: 2 | BS18: 2 | BT18: 1 | BU18: 2 | BV18: 1 | BW18: 1 | BX18: 1 | BY18: 2 | BZ18: 2 | CA18: 2 | CB18: 2 | CC18: 1 | CD18: 1 | CE18: 1 | CF18: 1 | CG18: 1 | CH18: 1 | CI18: 1 | CJ18: 1 | CK18: 1 | CL18: 1 | CM18: 1 | CN18: 1 | CO18: 2 | CP18: 2 | CQ18: 1 | CR18: 1 | CS18: 1 | CT18: 1 | CU18: 2 | CV18: 1 | CW18: 1 | CX18: 1 | CY18: 1 | CZ18: 1 | DA18: 2 | DB18: 1 | DC18: 1 | DD18: 2 | DE18: 1 | DF18: 2 | DG18: 2 | DH18: 2 | DI18: 2 | DJ18: 2 | DK18: 2 | DL18: 2 | DM18: 2 | DN18: 2 | DO18: 2 | DP18: 2 | DQ18: 2 | DR18: 2 | DS18: 2 | DT18: 2 | DU18: 2 | DV18: 2 | DW18: 2 | DX18: 2 | DY18: 2 | DZ18: 2 | EA18: 2 | EB18: 1 | EC18: 2 | ED18: 1 | EE18: 1 | EF18: 1 | EG18: 2 | EH18: 1 | EI18: 2
B19: D.2 Políticas Corporativas: ¿Este aspecto ambiental viola alguna de las políticas de la Organización? | C19: 3. Sí. En su totalidad | D19: 2.Regular. Un artículo especifico | E19: 1. No. | F19: 2 | G19: 2 | H19: 2 | I19: 2 | J19: 2 | K19: 2 | L19: 1 | M19: 2 | N19: 2 | O19: 2 | P19: 2 | Q19: 2 | R19: 2 | S19: 1 | T19: 2 | U19: 2 | V19: 2 | W19: 1 | X19: 2 | Y19: 2 | Z19: 2 | AA19: 2 | AB19: 2 | AC19: 2 | AD19: 2 | AE19: 2 | AF19: 2 | AG19: 2 | AH19: 2 | AI19: 2 | AJ19: 2 | AK19: 2 | AL19: 2 | AM19: 2 | AN19: 2 | AO19: 2 | AP19: 2 | AQ19: 2 | AR19: 2 | AS19: 2 | AT19: 2 | AU19: 2 | AV19: 2 | AW19: 2 | AX19: 2 | AY19: 2 | AZ19: 2 | BA19: 2 | BB19: 2 | BC19: 2 | BD19: 2 | BE19: 2 | BF19: 2 | BG19: 2 | BH19: 2 | BI19: 2 | BJ19: 2 | BK19: 2 | BL19: 2 | BM19: 2 | BN19: 2 | BO19: 2 | BP19: 2 | BQ19: 2 | BR19: 2 | BS19: 2 | BT19: 2 | BU19: 2 | BV19: 2 | BW19: 2 | BX19: 2 | BY19: 2 | BZ19: 2 | CA19: 2 | CB19: 2 | CC19: 1 | CD19: 1 | CE19: 1 | CF19: 2 | CG19: 2 | CH19: 2 | CI19: 2 | CJ19: 1 | CK19: 1 | CL19: 1 | CM19: 1 | CN19: 2 | CO19: 2 | CP19: 2 | CQ19: 1 | CR19: 2 | CS19: 1 | CT19: 2 | CU19: 2 | CV19: 1 | CW19: 2 | CX19: 1 | CY19: 2 | CZ19: 2 | DA19: 2 | DB19: 1 | DC19: 1 | DD19: 2 | DE19: 2 | DF19: 2 | DG19: 2 | DH19: 2 | DI19: 1 | DJ19: 1 | DK19: 1 | DL19: 1 | DM19: 2 | DN19: 2 | DO19: 2 | DP19: 2 | DQ19: 2 | DR19: 2 | DS19: 2 | DT19: 2 | DU19: 2 | DV19: 2 | DW19: 2 | DX19: 2 | DY19: 2 | DZ19: 2 | EA19: 2 | EB19: 2 | EC19: 2 | ED19: 2 | EE19: 2 | EF19: 2 | EG19: 2 | EH19: 2 | EI19: 2
B21: Comentarios: ____________________________________________________________________________________________________________________________________________________________________________________________________________________________________________________________________________________________________________________________________________________________________________________________________________________________________________________________________________________________________________________________________________________________________________________________________________________________________________________________________________________________________________________________________________

Sheet MAIA
B1: Responsable: Líder gestión ambiental | D1: MATRIZ DE IDENTIFICACIÓN DE ASPECTOS AMBIENTALES | R1: Código: GA-MT-01
R2: Versión: 001
B3: Fecha: 01/06/2025 | D3: E.S.E. HOSPITAL REGIONAL CENTRO | R3: Actualización: 04/04/2025
R4: Página 1 de 1
A5: INFORMACION PRELIMINAR | E5: Prioridad Ambiental | H5: Control Operacional | L5: Parte interesada | Q5: Cumplimiento legal
A6: AREA | B6: ACTIVIDAD | C6: ASPECTOS AMBIENTALES | D6: IMPACTOS AMBIENTALES | E6: PA.2 | F6: PA.4 | G6: Total | H6: CO.1 | I6: CO.2 | J6: CO.3 | K6: Total | L6: PI.1 | M6: PI.2 | N6: PI.3 | O6: PI.4 | P6: Total | Q6: CL.1 | R6: CL.2 | S6: Total | T6: Significativo
E7: Severidad | F7: Persistencia | H7: Control | I7: Dificultad | J7: R.Financiero | L7: Gestores externos | M7: Clientes | N7: Personal | O7: Comunidad | Q7: Regulación | R7: Política de RH S.A.S
A8: SERVICIO GENERAL | B8: Recolección de residuos comunes | C8: Generación de olores | D8: Contaminación del aire | E8: 2 | F8: 1 | G8: =IF(AVERAGE(E8:F8)<=1.5,"Bajo",IF(AND(AVERAGE(E8:F8)>=1.6,AVERAGE(E8:F8)<=2.5),"Medio",IF(AND(AVERAGE(E8:F8)>=2.6),"Alto"))) -> Bajo | H8: 2 | I8: 3 | J8: 2 | K8: =IF(AVERAGE(H8:J8)<=1.5,"Bajo",IF(AND(AVERAGE(H8:J8)>=1.6,AVERAGE(H8:J8)<=2.5),"Medio",IF(AND(AVERAGE(H8:J8)>=2.6),"Alto"))) -> Medio | L8: 0 | M8: 2 | N8: 2 | O8: 2 | P8: =IF(AVERAGE(L8:O8)<=1.5,"Bajo",IF(AND(AVERAGE(L8:O8)>=1.6,AVERAGE(L8:O8)<=2.5),"Medio",IF(AND(AVERAGE(L8:O8)>=2.6),"Alto"))) -> Bajo | Q8: 2 | R8: 2 | S8: =IF(AVERAGE(Q8:R8)<=1.5,"Bajo",IF(AND(AVERAGE(Q8:R8)>=1.6,AVERAGE(Q8:R8)<=2.5),"Medio",IF(AND(AVERAGE(Q8:R8)>=2.6),"Alto"))) -> Medio | T8: =IF(AVERAGE(E8:F8,H8:J8,L8:O8,Q8:R8)<1.6,"ACEPTABLE",IF(AND(AVERAGE(E8:F8,H8:J8,L8:O8,Q8:R8)>=1.6,AVERAGE(E8:F8,H8:J8,L8:O8,Q8:R8)<2.6),"MODERADO",IF(AND(AVERAGE(E8:F8,H8:J8,L8:O8,Q8:R8)>=2.6),"CRITICO"))) -> MODERADO
A9: SERVICIO GENERAL | B9: Recolección de residuos comunes | C9: Derrames de fluidos | D9: Contaminación del suelo/Riesgos a la salud | E9: 2 | F9: 1 | G9: =IF(AVERAGE(E9:F9)<=1.5,"Bajo",IF(AND(AVERAGE(E9:F9)>=1.6,AVERAGE(E9:F9)<=2.5),"Medio",IF(AND(AVERAGE(E9:F9)>=2.6),"Alto"))) -> Bajo | H9: 2 | I9: 2 | J9: 1 | K9: =IF(AVERAGE(H9:J9)<=1.5,"Bajo",IF(AND(AVERAGE(H9:J9)>=1.6,AVERAGE(H9:J9)<=2.5),"Medio",IF(AND(AVERAGE(H9:J9)>=2.6),"Alto"))) -> Medio | L9: 0 | M9: 2 | N9: 2 | O9: 2 | P9: =IF(AVERAGE(L9:O9)<=1.5,"Bajo",IF(AND(AVERAGE(L9:O9)>=1.6,AVERAGE(L9:O9)<=2.5),"Medio",IF(AND(AVERAGE(L9:O9)>=2.6),"Alto"))) -> Bajo | Q9: 2 | R9: 2 | S9: =IF(AVERAGE(Q9:R9)<=1.5,"Bajo",IF(AND(AVERAGE(Q9:R9)>=1.6,AVERAGE(Q9:R9)<=2.5),"Medio",IF(AND(AVERAGE(Q9:R9)>=2.6),"Alto"))) -> Medio | T9: =IF(AVERAGE(E9:F9,H9:J9,L9:O9,Q9:R9)<1.5,"ACEPTABLE",IF(AND(AVERAGE(E9:F9,H9:J9,L9:O9,Q9:R9)>=1.6,AVERAGE(E9:F9,H9:J9,L9:O9,Q9:R9)<2.6),"MODERADO",IF(AND(AVERAGE(E9:F9,H9:J9,L9:O9,Q9:R9)>=2.6),"CRITICO"))) -> MODERADO
A10: SERVICIO GENERAL | B10: Recolección de residuos comunes | C10: Generación de ruido | D10: Contaminación del entorno | E10: 1 | F10: 1 | G10: =IF(AVERAGE(E10:F10)<=1.5,"Bajo",IF(AND(AVERAGE(E10:F10)>=1.6,AVERAGE(E10:F10)<=2.5),"Medio",IF(AND(AVERAGE(E10:F10)>=2.6),"Alto"))) -> Bajo | H10: 2 | I10: 2 | J10: 2 | K10: =IF(AVERAGE(H10:J10)<=1.5,"Bajo",IF(AND(AVERAGE(H10:J10)>=1.6,AVERAGE(H10:J10)<=2.5),"Medio",IF(AND(AVERAGE(H10:J10)>=2.6),"Alto"))) -> Medio | L10: 0 | M10: 2 | N10: 2 | O10: 2 | P10: =IF(AVERAGE(L10:O10)<=1.5,"Bajo",IF(AND(AVERAGE(L10:O10)>=1.6,AVERAGE(L10:O10)<=2.5),"Medio",IF(AND(AVERAGE(L10:O10)>=2.6),"Alto"))) -> Bajo | Q10: 2 | R10: 2 | S10: =IF(AVERAGE(Q10:R10)<=1.5,"Bajo",IF(AND(AVERAGE(Q10:R10)>=1.6,AVERAGE(Q10:R10)<=2.5),"Medio",IF(AND(AVERAGE(Q10:R10)>=2.6),"Alto"))) -> Medio | T10: =IF(AVERAGE(E10:F10,H10:J10,L10:O10,Q10:R10)<1.6,"ACEPTABLE",IF(AND(AVERAGE(E10:F10,H10:J10,L10:O10,Q10:R10)>=1.6,AVERAGE(E10:F10,H10:J10,L10:O10,Q10:R10)<2.6),"MODERADO",IF(AND(AVERAGE(E10:F10,H10:J10,L10:O10,Q10:R10)>=2.6),"CRITICO"))) -> MODERADO
A11: SERVICIO GENERAL | B11: Recolección de residuos comunes | C11: Emisión de gases | D11: Contaminación del aire | E11: 2 | F11: 1 | G11: =IF(AVERAGE(E11:F11)<=1.5,"Bajo",IF(AND(AVERAGE(E11:F11)>=1.6,AVERAGE(E11:F11)<=2.5),"Medio",IF(AND(AVERAGE(E11:F11)>=2.6),"Alto"))) -> Bajo | H11: 2 | I11: 2 | J11: 2 | K11: =IF(AVERAGE(H11:J11)<=1.5,"Bajo",IF(AND(AVERAGE(H11:J11)>=1.6,AVERAGE(H11:J11)<=2.5),"Medio",IF(AND(AVERAGE(H11:J11)>=2.6),"Alto"))) -> Medio | L11: 0 | M11: 2 | N11: 2 | O11: 2 | P11: =IF(AVERAGE(L11:O11)<=1.5,"Bajo",IF(AND(AVERAGE(L11:O11)>=1.6,AVERAGE(L11:O11)<=2.5),"Medio",IF(AND(AVERAGE(L11:O11)>=2.6),"Alto"))) -> Bajo | Q11: 2 | R11: 2 | S11: =IF(AVERAGE(Q11:R11)<=1.5,"Bajo",IF(AND(AVERAGE(Q11:R11)>=1.6,AVERAGE(Q11:R11)<=2.5),"Medio",IF(AND(AVERAGE(Q11:R11)>=2.6),"Alto"))) -> Medio | T11: =IF(AVERAGE(E11:F11,H11:J11,L11:O11,Q11:R11)<1.6,"ACEPTABLE",IF(AND(AVERAGE(E11:F11,H11:J11,L11:O11,Q11:R11)>=1.6,AVERAGE(E11:F11,H11:J11,L11:O11,Q11:R11)<2.6),"MODERADO",IF(AND(AVERAGE(E11:F11,H11:J11,L11:O11,Q11:R11)>=2.6),"CRITICO"))) -> MODERADO
A12: SERVICIO GENERAL | B12: Recolección de residuos comunes | C12: Manipulación de residuos ordinarios | D12: Riesgos a la salud | E12: 1 | F12: 2 | G12: =IF(AVERAGE(E12:F12)<=1.5,"Bajo",IF(AND(AVERAGE(E12:F12)>=1.6,AVERAGE(E12:F12)<=2.5),"Medio",IF(AND(AVERAGE(E12:F12)>=2.6),"Alto"))) -> Bajo | H12: 2 | I12: 1 | J12: 1 | K12: =IF(AVERAGE(H12:J12)<=1.5,"Bajo",IF(AND(AVERAGE(H12:J12)>=1.6,AVERAGE(H12:J12)<=2.5),"Medio",IF(AND(AVERAGE(H12:J12)>=2.6),"Alto"))) -> Bajo | L12: 0 | M12: 2 | N12: 2 | O12: 1 | P12: =IF(AVERAGE(L12:O12)<=1.5,"Bajo",IF(AND(AVERAGE(L12:O12)>=1.6,AVERAGE(L12:O12)<=2.5),"Medio",IF(AND(AVERAGE(L12:O12)>=2.6),"Alto"))) -> Bajo | Q12: 2 | R12: 2 | S12: =IF(AVERAGE(Q12:R12)<=1.5,"Bajo",IF(AND(AVERAGE(Q12:R12)>=1.6,AVERAGE(Q12:R12)<=2.5),"Medio",IF(AND(AVERAGE(Q12:R12)>=2.6),"Alto"))) -> Medio | T12: =IF(AVERAGE(E12:F12,H12:J12,L12:O12,Q12:R12)<1.6,"ACEPTABLE",IF(AND(AVERAGE(E12:F12,H12:J12,L12:O12,Q12:R12)>=1.6,AVERAGE(E12:F12,H12:J12,L12:O12,Q12:R12)<2.6),"MODERADO",IF(AND(AVERAGE(E12:F12,H12:J12,L12:O12,Q12:R12)>=2.6),"CRITICO"))) -> ACEPTABLE
A13: SERVICIO GENERAL | B13: Recolección de residuos comunes | C13: Generación de residuos sueltos | D13: Contaminación del entorno | E13: 1 | F13: 2 | G13: =IF(AVERAGE(E13:F13)<=1.5,"Bajo",IF(AND(AVERAGE(E13:F13)>=1.6,AVERAGE(E13:F13)<=2.5),"Medio",IF(AND(AVERAGE(E13:F13)>=2.6),"Alto"))) -> Bajo | H13: 2 | I13: 1 | J13: 1 | K13: =IF(AVERAGE(H13:J13)<=1.5,"Bajo",IF(AND(AVERAGE(H13:J13)>=1.6,AVERAGE(H13:J13)<=2.5),"Medio",IF(AND(AVERAGE(H13:J13)>=2.6),"Alto"))) -> Bajo | L13: 0 | M13: 2 | N13: 2 | O13: 2 | P13: =IF(AVERAGE(L13:O13)<=1.5,"Bajo",IF(AND(AVERAGE(L13:O13)>=1.6,AVERAGE(L13:O13)<=2.5),"Medio",IF(AND(AVERAGE(L13:O13)>=2.6),"Alto"))) -> Bajo | Q13: 2 | R13: 2 | S13: =IF(AVERAGE(Q13:R13)<=1.5,"Bajo",IF(AND(AVERAGE(Q13:R13)>=1.6,AVERAGE(Q13:R13)<=2.5),"Medio",IF(AND(AVERAGE(Q13:R13)>=2.6),"Alto"))) -> Medio | T13: =IF(AVERAGE(E13:F13,H13:J13,L13:O13,Q13:R13)<1.6,"ACEPTABLE",IF(AND(AVERAGE(E13:F13,H13:J13,L13:O13,Q13:R13)>=1.6,AVERAGE(E13:F13,H13:J13,L13:O13,Q13:R13)<2.6),"MODERADO",IF(AND(AVERAGE(E13:F13,H13:J13,L13:O13,Q13:R13)>=2.6),"CRITICO"))) -> ACEPTABLE
A14: SERVICIO GENERAL | B14: Recolección de residuos comunes | C14: Consumo de combustible | D14: Reducción en el recurso natural | E14: 1 | F14: 1 | G14: =IF(AVERAGE(E14:F14)<=1.5,"Bajo",IF(AND(AVERAGE(E14:F14)>=1.6,AVERAGE(E14:F14)<=2.5),"Medio",IF(AND(AVERAGE(E14:F14)>=2.6),"Alto"))) -> Bajo | H14: 2 | I14: 2 | J14: 2 | K14: =IF(AVERAGE(H14:J14)<=1.5,"Bajo",IF(AND(AVERAGE(H14:J14)>=1.6,AVERAGE(H14:J14)<=2.5),"Medio",IF(AND(AVERAGE(H14:J14)>=2.6),"Alto"))) -> Medio | L14: 0 | M14: 1 | N14: 1 | O14: 2 | P14: =IF(AVERAGE(L14:O14)<=1.5,"Bajo",IF(AND(AVERAGE(L14:O14)>=1.6,AVERAGE(L14:O14)<=2.5),"Medio",IF(AND(AVERAGE(L14:O14)>=2.6),"Alto"))) -> Bajo | Q14: 1 | R14: 1 | S14: =IF(AVERAGE(Q14:R14)<=1.5,"Bajo",IF(AND(AVERAGE(Q14:R14)>=1.6,AVERAGE(Q14:R14)<=2.5),"Medio",IF(AND(AVERAGE(Q14:R14)>=2.6),"Alto"))) -> Bajo | T14: =IF(AVERAGE(E14:F14,H14:J14,L14:O14,Q14:R14)<1.6,"ACEPTABLE",IF(AND(AVERAGE(E14:F14,H14:J14,L14:O14,Q14:R14)>=1.6,AVERAGE(E14:F14,H14:J14,L14:O14,Q14:R14)<2.6),"MODERADO",IF(AND(AVERAGE(E14:F14,H14:J14,L14:O14,Q14:R14)>=2.6),"CRITICO"))) -> ACEPTABLE
A15: SERVICIO GENERAL | B15: Recolección de residuos comunes | C15: Generación de lixiviados | D15: Contaminación en el efluente | E15: 2 | F15: 3 | G15: =IF(AVERAGE(E15:F15)<=1.5,"Bajo",IF(AND(AVERAGE(E15:F15)>=1.6,AVERAGE(E15:F15)<=2.5),"Medio",IF(AND(AVERAGE(E15:F15)>=2.6),"Alto"))) -> Medio | H15: 2 | I15: 2 | J15: 2 | K15: =IF(AVERAGE(H15:J15)<=1.5,"Bajo",IF(AND(AVERAGE(H15:J15)>=1.6,AVERAGE(H15:J15)<=2.5),"Medio",IF(AND(AVERAGE(H15:J15)>=2.6),"Alto"))) -> Medio | L15: 0 | M15: 2 | N15: 2 | O15: 2 | P15: =IF(AVERAGE(L15:O15)<=1.5,"Bajo",IF(AND(AVERAGE(L15:O15)>=1.6,AVERAGE(L15:O15)<=2.5),"Medio",IF(AND(AVERAGE(L15:O15)>=2.6),"Alto"))) -> Bajo | Q15: 2 | R15: 2 | S15: =IF(AVERAGE(Q15:R15)<=1.5,"Bajo",IF(AND(AVERAGE(Q15:R15)>=1.6,AVERAGE(Q15:R15)<=2.5),"Medio",IF(AND(AVERAGE(Q15:R15)>=2.6),"Alto"))) -> Medio | T15: =IF(AVERAGE(E15:F15,H15:J15,L15:O15,Q15:R15)<1.6,"ACEPTABLE",IF(AND(AVERAGE(E15:F15,H15:J15,L15:O15,Q15:R15)>=1.6,AVERAGE(E15:F15,H15:J15,L15:O15,Q15:R15)<2.6),"MODERADO",IF(AND(AVERAGE(E15:F15,H15:J15,L15:O15,Q15:R15)>=2.6),"CRITICO"))) -> MODERADO
A16: SERVICIO GENERAL | B16: Recolección residuos riesgo biológico | C16: Generación de olores | D16: Contaminación en el aire | E16: 2 | F16: 2 | G16: =IF(AVERAGE(E16:F16)<=1.5,"Bajo",IF(AND(AVERAGE(E16:F16)>=1.6,AVERAGE(E16:F16)<=2.5),"Medio",IF(AND(AVERAGE(E16:F16)>=2.6),"Alto"))) -> Medio | H16: 2 | I16: 3 | J16: 2 | K16: =IF(AVERAGE(H16:J16)<=1.5,"Bajo",IF(AND(AVERAGE(H16:J16)>=1.6,AVERAGE(H16:J16)<=2.5),"Medio",IF(AND(AVERAGE(H16:J16)>=2.6),"Alto"))) -> Medio | L16: 0 | M16: 2 | N16: 2 | O16: 2 | P16: =IF(AVERAGE(L16:O16)<=1.5,"Bajo",IF(AND(AVERAGE(L16:O16)>=1.6,AVERAGE(L16:O16)<=2.5),"Medio",IF(AND(AVERAGE(L16:O16)>=2.6),"Alto"))) -> Bajo | Q16: 2 | R16: 2 | S16: =IF(AVERAGE(Q16:R16)<=1.5,"Bajo",IF(AND(AVERAGE(Q16:R16)>=1.6,AVERAGE(Q16:R16)<=2.5),"Medio",IF(AND(AVERAGE(Q16:R16)>=2.6),"Alto"))) -> Medio | T16: =IF(AVERAGE(E16:F16,H16:J16,L16:O16,Q16:R16)<1.6,"ACEPTABLE",IF(AND(AVERAGE(E16:F16,H16:J16,L16:O16,Q16:R16)>=1.6,AVERAGE(E16:F16,H16:J16,L16:O16,Q16:R16)<2.6),"MODERADO",IF(AND(AVERAGE(E16:F16,H16:J16,L16:O16,Q16:R16)>=2.6),"CRITICO"))) -> MODERADO
A17: SERVICIO GENERAL | B17: Recolección residuos riesgo biológico | C17: Derrames de fluidos | D17: Contaminación del suelo/Riesgos a la salud | E17: 2 | F17: 2 | G17: =IF(AVERAGE(E17:F17)<=1.5,"Bajo",IF(AND(AVERAGE(E17:F17)>=1.6,AVERAGE(E17:F17)<=2.5),"Medio",IF(AND(AVERAGE(E17:F17)>=2.6),"Alto"))) -> Medio | H17: 2 | I17: 2 | J17: 2 | K17: =IF(AVERAGE(H17:J17)<=1.5,"Bajo",IF(AND(AVERAGE(H17:J17)>=1.6,AVERAGE(H17:J17)<=2.5),"Medio",IF(AND(AVERAGE(H17:J17)>=2.6),"Alto"))) -> Medio | L17: 0 | M17: 2 | N17: 2 | O17: 2 | P17: =IF(AVERAGE(L17:O17)<=1.5,"Bajo",IF(AND(AVERAGE(L17:O17)>=1.6,AVERAGE(L17:O17)<=2.5),"Medio",IF(AND(AVERAGE(L17:O17)>=2.6),"Alto"))) -> Bajo | Q17: 2 | R17: 2 | S17: =IF(AVERAGE(Q17:R17)<=1.5,"Bajo",IF(AND(AVERAGE(Q17:R17)>=1.6,AVERAGE(Q17:R17)<=2.5),"Medio",IF(AND(AVERAGE(Q17:R17)>=2.6),"Alto"))) -> Medio | T17: =IF(AVERAGE(E17:F17,H17:J17,L17:O17,Q17:R17)<1.6,"ACEPTABLE",IF(AND(AVERAGE(E17:F17,H17:J17,L17:O17,Q17:R17)>=1.6,AVERAGE(E17:F17,H17:J17,L17:O17,Q17:R17)<2.6),"MODERADO",IF(AND(AVERAGE(E17:F17,H17:J17,L17:O17,Q17:R17)>=2.6),"CRITICO"))) -> MODERADO
A18: SERVICIO GENERAL | B18: Recolección residuos riesgo biológico | C18: Emisión de gases | D18: Contaminación en el aire | E18: 2 | F18: 2 | G18: =IF(AVERAGE(E18:F18)<=1.5,"Bajo",IF(AND(AVERAGE(E18:F18)>=1.6,AVERAGE(E18:F18)<=2.5),"Medio",IF(AND(AVERAGE(E18:F18)>=2.6),"Alto"))) -> Medio | H18: 2 | I18: 2 | J18: 2 | K18: =IF(AVERAGE(H18:J18)<=1.5,"Bajo",IF(AND(AVERAGE(H18:J18)>=1.6,AVERAGE(H18:J18)<=2.5),"Medio",IF(AND(AVERAGE(H18:J18)>=2.6),"Alto"))) -> Medio | L18: 0 | M18: 2 | N18: 2 | O18: 2 | P18: =IF(AVERAGE(L18:O18)<=1.5,"Bajo",IF(AND(AVERAGE(L18:O18)>=1.6,AVERAGE(L18:O18)<=2.5),"Medio",IF(AND(AVERAGE(L18:O18)>=2.6),"Alto"))) -> Bajo | Q18: 2 | R18: 2 | S18: =IF(AVERAGE(Q18:R18)<=1.5,"Bajo",IF(AND(AVERAGE(Q18:R18)>=1.6,AVERAGE(Q18:R18)<=2.5),"Medio",IF(AND(AVERAGE(Q18:R18)>=2.6),"Alto"))) -> Medio | T18: =IF(AVERAGE(E18:F18,H18:J18,L18:O18,Q18:R18)<1.6,"ACEPTABLE",IF(AND(AVERAGE(E18:F18,H18:J18,L18:O18,Q18:R18)>=1.6,AVERAGE(E18:F18,H18:J18,L18:O18,Q18:R18)<2.6),"MODERADO",IF(AND(AVERAGE(E18:F18,H18:J18,L18:O18,Q18:R18)>=2.6),"CRITICO"))) -> MODERADO
A19: SERVICIO GENERAL | B19: Recolección residuos riesgo biológico | C19: Manipulación de residuos biológicos | D19: Riesgos a la salud | E19: 2 | F19: 2 | G19: =IF(AVERAGE(E19:F19)<=1.5,"Bajo",IF(AND(AVERAGE(E19:F19)>=1.6,AVERAGE(E19:F19)<=2.5),"Medio",IF(AND(AVERAGE(E19:F19)>=2.6),"Alto"))) -> Medio | H19: 2 | I19: 1 | J19: 1 | K19: =IF(AVERAGE(H19:J19)<=1.5,"Bajo",IF(AND(AVERAGE(H19:J19)>=1.6,AVERAGE(H19:J19)<=2.5),"Medio",IF(AND(AVERAGE(H19:J19)>=2.6),"Alto"))) -> Bajo | L19: 0 | M19: 2 | N19: 2 | O19: 1 | P19: =IF(AVERAGE(L19:O19)<=1.5,"Bajo",IF(AND(AVERAGE(L19:O19)>=1.6,AVERAGE(L19:O19)<=2.5),"Medio",IF(AND(AVERAGE(L19:O19)>=2.6),"Alto"))) -> Bajo | Q19: 2 | R19: 2 | S19: =IF(AVERAGE(Q19:R19)<=1.5,"Bajo",IF(AND(AVERAGE(Q19:R19)>=1.6,AVERAGE(Q19:R19)<=2.5),"Medio",IF(AND(AVERAGE(Q19:R19)>=2.6),"Alto"))) -> Medio | T19: =IF(AVERAGE(E19:F19,H19:J19,L19:O19,Q19:R19)<1.6,"ACEPTABLE",IF(AND(AVERAGE(E19:F19,H19:J19,L19:O19,Q19:R19)>=1.6,AVERAGE(E19:F19,H19:J19,L19:O19,Q19:R19)<2.6),"MODERADO",IF(AND(AVERAGE(E19:F19,H19:J19,L19:O19,Q19:R19)>=2.6),"CRITICO"))) -> ACEPTABLE
A20: SERVICIO GENERAL | B20: Recolección residuos riesgo biológico | C20: Generación de residuos sueltos | D20: Riesgos a la salud, contaminación del entorno | E20: 2 | F20: 2 | G20: =IF(AVERAGE(E20:F20)<=1.5,"Bajo",IF(AND(AVERAGE(E20:F20)>=1.6,AVERAGE(E20:F20)<=2.5),"Medio",IF(AND(AVERAGE(E20:F20)>=2.6),"Alto"))) -> Medio | H20: 2 | I20: 1 | J20: 1 | K20: =IF(AVERAGE(H20:J20)<=1.5,"Bajo",IF(AND(AVERAGE(H20:J20)>=1.6,AVERAGE(H20:J20)<=2.5),"Medio",IF(AND(AVERAGE(H20:J20)>=2.6),"Alto"))) -> Bajo | L20: 0 | M20: 2 | N20: 2 | O20: 2 | P20: =IF(AVERAGE(L20:O20)<=1.5,"Bajo",IF(AND(AVERAGE(L20:O20)>=1.6,AVERAGE(L20:O20)<=2.5),"Medio",IF(AND(AVERAGE(L20:O20)>=2.6),"Alto"))) -> Bajo | Q20: 2 | R20: 2 | S20: =IF(AVERAGE(Q20:R20)<=1.5,"Bajo",IF(AND(AVERAGE(Q20:R20)>=1.6,AVERAGE(Q20:R20)<=2.5),"Medio",IF(AND(AVERAGE(Q20:R20)>=2.6),"Alto"))) -> Medio | T20: =IF(AVERAGE(E20:F20,H20:J20,L20:O20,Q20:R20)<1.6,"ACEPTABLE",IF(AND(AVERAGE(E20:F20,H20:J20,L20:O20,Q20:R20)>=1.6,AVERAGE(E20:F20,H20:J20,L20:O20,Q20:R20)<2.6),"MODERADO",IF(AND(AVERAGE(E20:F20,H20:J20,L20:O20,Q20:R20)>=2.6),"CRITICO"))) -> MODERADO
A21: SERVICIO GENERAL | B21: Recolección residuos riesgo biológico | C21: Consumo de combustible | D21: Reducción en el recurso natural | E21: 1 | F21: 1 | G21: =IF(AVERAGE(E21:F21)<=1.5,"Bajo",IF(AND(AVERAGE(E21:F21)>=1.6,AVERAGE(E21:F21)<=2.5),"Medio",IF(AND(AVERAGE(E21:F21)>=2.6),"Alto"))) -> Bajo | H21: 2 | I21: 2 | J21: 2 | K21: =IF(AVERAGE(H21:J21)<=1.5,"Bajo",IF(AND(AVERAGE(H21:J21)>=1.6,AVERAGE(H21:J21)<=2.5),"Medio",IF(AND(AVERAGE(H21:J21)>=2.6),"Alto"))) -> Medio | L21: 0 | M21: 1 | N21: 1 | O21: 1 | P21: =IF(AVERAGE(L21:O21)<=1.5,"Bajo",IF(AND(AVERAGE(L21:O21)>=1.6,AVERAGE(L21:O21)<=2.5),"Medio",IF(AND(AVERAGE(L21:O21)>=2.6),"Alto"))) -> Bajo | Q21: 1 | R21: 1 | S21: =IF(AVERAGE(Q21:R21)<=1.5,"Bajo",IF(AND(AVERAGE(Q21:R21)>=1.6,AVERAGE(Q21:R21)<=2.5),"Medio",IF(AND(AVERAGE(Q21:R21)>=2.6),"Alto"))) -> Bajo | T21: =IF(AVERAGE(E21:F21,H21:J21,L21:O21,Q21:R21)<1.6,"ACEPTABLE",IF(AND(AVERAGE(E21:F21,H21:J21,L21:O21,Q21:R21)>=1.6,AVERAGE(E21:F21,H21:J21,L21:O21,Q21:R21)<2.6),"MODERADO",IF(AND(AVERAGE(E21:F21,H21:J21,L21:O21,Q21:R21)>=2.6),"CRITICO"))) -> ACEPTABLE
... A126: TRITURACION Y DESTRUCCION | B126: Destrucción | C126: Generación de vibraciones | D126: Riesgos en la salud | E126: 2 | F126: 2 | G126: =IF(AVERAGE(E126:F126)<=1.5,"Bajo",IF(AND(AVERAGE(E126:F126)>=1.6,AVERAGE(E126:F126)<=2.5),"Medio",IF(AND(AVERAGE(E126:F126)>=2.6),"Alto"))) -> Medio | H126: 2 | I126: 2 | J126: 2 | K126: =IF(AVERAGE(H126:J126)<=1.5,"Bajo",IF(AND(AVERAGE(H126:J126)>=1.6,AVERAGE(H126:J126)<=2.5),"Medio",IF(AND(AVERAGE(H126:J126)>=2.6),"Alto"))) -> Medio | L126: 0 | M126: 2 | N126: 2 | O126: 0 | P126: =IF(AVERAGE(L126:O126)<=1.5,"Bajo",IF(AND(AVERAGE(L126:O126)>=1.6,AVERAGE(L126:O126)<=2.5),"Medio",IF(AND(AVERAGE(L126:O126)>=2.6),"Alto"))) -> Bajo | Q126: 2 | R126: 2 | S126: =IF(AVERAGE(Q126:R126)<=1.5,"Bajo",IF(AND(AVERAGE(Q126:R126)>=1.6,AVERAGE(Q126:R126)<=2.5),"Medio",IF(AND(AVERAGE(Q126:R126)>=2.6),"Alto"))) -> Medio | T126: =IF(AVERAGE(E126:F126,H126:J126,L126:O126,Q126:R126)<1.6,"ACEPTABLE",IF(AND(AVERAGE(E126:F126,H126:J126,L126:O126,Q126:R126)>=1.6,AVERAGE(E126:F126,H126:J126,L126:O126,Q126:R126)<2.6),"MODERADO",IF(AND(AVERAGE(E126:F126,H126:J126,L126:O126,Q126:R126)>=2.6),"CRITICO"))) -> MODERADO
A127: TRITURACION Y DESTRUCCION | B127: Salida de material | C127: Manipulación inapropiada | D127: Agotamiento de recursos naturales | E127: 2 | F127: 1 | G127: =IF(AVERAGE(E127:F127)<=1.5,"Bajo",IF(AND(AVERAGE(E127:F127)>=1.6,AVERAGE(E127:F127)<=2.5),"Medio",IF(AND(AVERAGE(E127:F127)>=2.6),"Alto"))) -> Bajo | H127: 2 | I127: 1 | J127: 2 | K127: =IF(AVERAGE(H127:J127)<=1.5,"Bajo",IF(AND(AVERAGE(H127:J127)>=1.6,AVERAGE(H127:J127)<=2.5),"Medio",IF(AND(AVERAGE(H127:J127)>=2.6),"Alto"))) -> Medio | L127: 0 | M127: 2 | N127: 1 | O127: 0 | P127: =IF(AVERAGE(L127:O127)<=1.5,"Bajo",IF(AND(AVERAGE(L127:O127)>=1.6,AVERAGE(L127:O127)<=2.5),"Medio",IF(AND(AVERAGE(L127:O127)>=2.6),"Alto"))) -> Bajo | Q127: 2 | R127: 2 | S127: =IF(AVERAGE(Q127:R127)<=1.5,"Bajo",IF(AND(AVERAGE(Q127:R127)>=1.6,AVERAGE(Q127:R127)<=2.5),"Medio",IF(AND(AVERAGE(Q127:R127)>=2.6),"Alto"))) -> Medio | T127: =IF(AVERAGE(E127:F127,H127:J127,L127:O127,Q127:R127)<1.6,"ACEPTABLE",IF(AND(AVERAGE(E127:F127,H127:J127,L127:O127,Q127:R127)>=1.6,AVERAGE(E127:F127,H127:J127,L127:O127,Q127:R127)<2.6),"MODERADO",IF(AND(AVERAGE(E127:F127,H127:J127,L127:O127,Q127:R127)>=2.6),"CRITICO"))) -> ACEPTABLE | Y127: 0.2 | Z127: 0.2 | AA127: 0.15 | AB127: 0.25 | AC127: 0.2 | AD127: =SUM(Y127:AC127) -> 1
A128: TRITURACION Y DESTRUCCION | B128: Salida de material | C128: Derrame de fluidos | D128: Riesgos a la salud, contaminación del entorno, | E128: 2 | F128: 2 | G128: =IF(AVERAGE(E128:F128)<=1.5,"Bajo",IF(AND(AVERAGE(E128:F128)>=1.6,AVERAGE(E128:F128)<=2.5),"Medio",IF(AND(AVERAGE(E128:F128)>=2.6),"Alto"))) -> Medio | H128: 2 | I128: 1 | J128: 1 | K128: =IF(AVERAGE(H128:J128)<=1.5,"Bajo",IF(AND(AVERAGE(H128:J128)>=1.6,AVERAGE(H128:J128)<=2.5),"Medio",IF(AND(AVERAGE(H128:J128)>=2.6),"Alto"))) -> Bajo | L128: 0 | M128: 2 | N128: 2 | O128: 0 | P128: =IF(AVERAGE(L128:O128)<=1.5,"Bajo",IF(AND(AVERAGE(L128:O128)>=1.6,AVERAGE(L128:O128)<=2.5),"Medio",IF(AND(AVERAGE(L128:O128)>=2.6),"Alto"))) -> Bajo | Q128: 2 | R128: 2 | S128: =IF(AVERAGE(Q128:R128)<=1.5,"Bajo",IF(AND(AVERAGE(Q128:R128)>=1.6,AVERAGE(Q128:R128)<=2.5),"Medio",IF(AND(AVERAGE(Q128:R128)>=2.6),"Alto"))) -> Medio | T128: =IF(AVERAGE(E128:F128,H128:J128,L128:O128,Q128:R128)<1.6,"ACEPTABLE",IF(AND(AVERAGE(E128:F128,H128:J128,L128:O128,Q128:R128)>=1.6,AVERAGE(E128:F128,H128:J128,L128:O128,Q128:R128)<2.6),"MODERADO",IF(AND(AVERAGE(E128:F128,H128:J128,L128:O128,Q128:R128)>=2.6),"CRITICO"))) -> ACEPTABLE | Y128: N1 | Z128: N2 | AA128: N3 | AB128: N4 | AC128: N5
A129: TRITURACION Y DESTRUCCION | B129: Salida de material | C129: Residuos sueltos | D129: Riesgos a la salud, contaminación del entorno, | E129: 2 | F129: 2 | G129: =IF(AVERAGE(E129:F129)<=1.5,"Bajo",IF(AND(AVERAGE(E129:F129)>=1.6,AVERAGE(E129:F129)<=2.5),"Medio",IF(AND(AVERAGE(E129:F129)>=2.6),"Alto"))) -> Medio | H129: 2 | I129: 1 | J129: 1 | K129: =IF(AVERAGE(H129:J129)<=1.5,"Bajo",IF(AND(AVERAGE(H129:J129)>=1.6,AVERAGE(H129:J129)<=2.5),"Medio",IF(AND(AVERAGE(H129:J129)>=2.6),"Alto"))) -> Bajo | L129: 0 | M129: 2 | N129: 2 | O129: 0 | P129: =IF(AVERAGE(L129:O129)<=1.5,"Bajo",IF(AND(AVERAGE(L129:O129)>=1.6,AVERAGE(L129:O129)<=2.5),"Medio",IF(AND(AVERAGE(L129:O129)>=2.6),"Alto"))) -> Bajo | Q129: 2 | R129: 2 | S129: =IF(AVERAGE(Q129:R129)<=1.5,"Bajo",IF(AND(AVERAGE(Q129:R129)>=1.6,AVERAGE(Q129:R129)<=2.5),"Medio",IF(AND(AVERAGE(Q129:R129)>=2.6),"Alto"))) -> Medio | T129: =IF(AVERAGE(E129:F129,H129:J129,L129:O129,Q129:R129)<1.6,"ACEPTABLE",IF(AND(AVERAGE(E129:F129,H129:J129,L129:O129,Q129:R129)>=1.6,AVERAGE(E129:F129,H129:J129,L129:O129,Q129:R129)<2.6),"MODERADO",IF(AND(AVERAGE(E129:F129,H129:J129,L129:O129,Q129:R129)>=2.6),"CRITICO"))) -> ACEPTABLE | Y129: 5 | Z129: 4.5 | AA129: 4.5 | AB129: 4 | AC129: 4.5 | AD129: =AVERAGE(Y129:AC129) -> 4.5
A130: TRITURACION Y DESTRUCCION | B130: Salida de material | C130: Generación de lixiviado | D130: Contaminación en el afluente | E130: 2 | F130: 2 | G130: =IF(AVERAGE(E130:F130)<=1.5,"Bajo",IF(AND(AVERAGE(E130:F130)>=1.6,AVERAGE(E130:F130)<=2.5),"Medio",IF(AND(AVERAGE(E130:F130)>=2.6),"Alto"))) -> Medio | H130: 2 | I130: 2 | J130: 2 | K130: =IF(AVERAGE(H130:J130)<=1.5,"Bajo",IF(AND(AVERAGE(H130:J130)>=1.6,AVERAGE(H130:J130)<=2.5),"Medio",IF(AND(AVERAGE(H130:J130)>=2.6),"Alto"))) -> Medio | L130: 0 | M130: 2 | N130: 2 | O130: 0 | P130: =IF(AVERAGE(L130:O130)<=1.5,"Bajo",IF(AND(AVERAGE(L130:O130)>=1.6,AVERAGE(L130:O130)<=2.5),"Medio",IF(AND(AVERAGE(L130:O130)>=2.6),"Alto"))) -> Bajo | Q130: 2 | R130: 2 | S130: =IF(AVERAGE(Q130:R130)<=1.5,"Bajo",IF(AND(AVERAGE(Q130:R130)>=1.6,AVERAGE(Q130:R130)<=2.5),"Medio",IF(AND(AVERAGE(Q130:R130)>=2.6),"Alto"))) -> Medio | T130: =IF(AVERAGE(E130:F130,H130:J130,L130:O130,Q130:R130)<1.6,"ACEPTABLE",IF(AND(AVERAGE(E130:F130,H130:J130,L130:O130,Q130:R130)>=1.6,AVERAGE(E130:F130,H130:J130,L130:O130,Q130:R130)<2.6),"MODERADO",IF(AND(AVERAGE(E130:F130,H130:J130,L130:O130,Q130:R130)>=2.6),"CRITICO"))) -> MODERADO | AD130: =Y129*Y127+Z129*Z127+AA129*AA127+AB129*AB127+AC129*AC127 -> 4.475
A131: TRITURACION Y DESTRUCCION | B131: Mantenimiento de equipos de destrucción y trituración | C131: Generación de ruido | D131: Riesgos a la salud, contaminación del entorno, | E131: 2 | F131: 1 | G131: =IF(AVERAGE(E131:F131)<=1.5,"Bajo",IF(AND(AVERAGE(E131:F131)>=1.6,AVERAGE(E131:F131)<=2.5),"Medio",IF(AND(AVERAGE(E131:F131)>=2.6),"Alto"))) -> Bajo | H131: 2 | I131: 2 | J131: 2 | K131: =IF(AVERAGE(H131:J131)<=1.5,"Bajo",IF(AND(AVERAGE(H131:J131)>=1.6,AVERAGE(H131:J131)<=2.5),"Medio",IF(AND(AVERAGE(H131:J131)>=2.6),"Alto"))) -> Medio | L131: 0 | M131: 2 | N131: 2 | O131: 0 | P131: =IF(AVERAGE(L131:O131)<=1.5,"Bajo",IF(AND(AVERAGE(L131:O131)>=1.6,AVERAGE(L131:O131)<=2.5),"Medio",IF(AND(AVERAGE(L131:O131)>=2.6),"Alto"))) -> Bajo | Q131: 2 | R131: 2 | S131: =IF(AVERAGE(Q131:R131)<=1.5,"Bajo",IF(AND(AVERAGE(Q131:R131)>=1.6,AVERAGE(Q131:R131)<=2.5),"Medio",IF(AND(AVERAGE(Q131:R131)>=2.6),"Alto"))) -> Medio | T131: =IF(AVERAGE(E131:F131,H131:J131,L131:O131,Q131:R131)<1.6,"ACEPTABLE",IF(AND(AVERAGE(E131:F131,H131:J131,L131:O131,Q131:R131)>=1.6,AVERAGE(E131:F131,H131:J131,L131:O131,Q131:R131)<2.6),"MODERADO",IF(AND(AVERAGE(E131:F131,H131:J131,L131:O131,Q131:R131)>=2.6),"CRITICO"))) -> ACEPTABLE
A132: TRITURACION Y DESTRUCCION | B132: Mantenimiento de equipos de destrucción y trituración | C132: Acumulación de residuos | D132: Riesgos a la salud, contaminación del entorno, | E132: 2 | F132: 1 | G132: =IF(AVERAGE(E132:F132)<=1.5,"Bajo",IF(AND(AVERAGE(E132:F132)>=1.6,AVERAGE(E132:F132)<=2.5),"Medio",IF(AND(AVERAGE(E132:F132)>=2.6),"Alto"))) -> Bajo | H132: 2 | I132: 2 | J132: 2 | K132: =IF(AVERAGE(H132:J132)<=1.5,"Bajo",IF(AND(AVERAGE(H132:J132)>=1.6,AVERAGE(H132:J132)<=2.5),"Medio",IF(AND(AVERAGE(H132:J132)>=2.6),"Alto"))) -> Medio | L132: 0 | M132: 2 | N132: 2 | O132: 0 | P132: =IF(AVERAGE(L132:O132)<=1.5,"Bajo",IF(AND(AVERAGE(L132:O132)>=1.6,AVERAGE(L132:O132)<=2.5),"Medio",IF(AND(AVERAGE(L132:O132)>=2.6),"Alto"))) -> Bajo | Q132: 2 | R132: 2 | S132: =IF(AVERAGE(Q132:R132)<=1.5,"Bajo",IF(AND(AVERAGE(Q132:R132)>=1.6,AVERAGE(Q132:R132)<=2.5),"Medio",IF(AND(AVERAGE(Q132:R132)>=2.6),"Alto"))) -> Medio | T132: =IF(AVERAGE(E132:F132,H132:J132,L132:O132,Q132:R132)<1.6,"ACEPTABLE",IF(AND(AVERAGE(E132:F132,H132:J132,L132:O132,Q132:R132)>=1.6,AVERAGE(E132:F132,H132:J132,L132:O132,Q132:R132)<2.6),"MODERADO",IF(AND(AVERAGE(E132:F132,H132:J132,L132:O132,Q132:R132)>=2.6),"CRITICO"))) -> ACEPTABLE
A133: TRITURACION Y DESTRUCCION | B133: Mantenimiento de equipos de destrucción y trituración | C133: Derrames de fluidos | D133: Riesgos a la salud, contaminación del entorno, | E133: 2 | F133: 1 | G133: =IF(AVERAGE(E133:F133)<=1.5,"Bajo",IF(AND(AVERAGE(E133:F133)>=1.6,AVERAGE(E133:F133)<=2.5),"Medio",IF(AND(AVERAGE(E133:F133)>=2.6),"Alto"))) -> Bajo | H133: 2 | I133: 2 | J133: 1 | K133: =IF(AVERAGE(H133:J133)<=1.5,"Bajo",IF(AND(AVERAGE(H133:J133)>=1.6,AVERAGE(H133:J133)<=2.5),"Medio",IF(AND(AVERAGE(H133:J133)>=2.6),"Alto"))) -> Medio | L133: 0 | M133: 2 | N133: 2 | O133: 0 | P133: =IF(AVERAGE(L133:O133)<=1.5,"Bajo",IF(AND(AVERAGE(L133:O133)>=1.6,AVERAGE(L133:O133)<=2.5),"Medio",IF(AND(AVERAGE(L133:O133)>=2.6),"Alto"))) -> Bajo | Q133: 2 | R133: 2 | S133: =IF(AVERAGE(Q133:R133)<=1.5,"Bajo",IF(AND(AVERAGE(Q133:R133)>=1.6,AVERAGE(Q133:R133)<=2.5),"Medio",IF(AND(AVERAGE(Q133:R133)>=2.6),"Alto"))) -> Medio | T133: =IF(AVERAGE(E133:F133,H133:J133,L133:O133,Q133:R133)<1.6,"ACEPTABLE",IF(AND(AVERAGE(E133:F133,H133:J133,L133:O133,Q133:R133)>=1.6,AVERAGE(E133:F133,H133:J133,L133:O133,Q133:R133)<2.6),"MODERADO",IF(AND(AVERAGE(E133:F133,H133:J133,L133:O133,Q133:R133)>=2.6),"CRITICO"))) -> ACEPTABLE
A134: TRITURACION Y DESTRUCCION | B134: Mantenimiento de equipos de destrucción y trituración | C134: Consumo de energía | D134: Agotamiento de recursos naturales | E134: 1 | F134: 1 | G134: =IF(AVERAGE(E134:F134)<=1.5,"Bajo",IF(AND(AVERAGE(E134:F134)>=1.6,AVERAGE(E134:F134)<=2.5),"Medio",IF(AND(AVERAGE(E134:F134)>=2.6),"Alto"))) -> Bajo | H134: 2 | I134: 2 | J134: 2 | K134: =IF(AVERAGE(H134:J134)<=1.5,"Bajo",IF(AND(AVERAGE(H134:J134)>=1.6,AVERAGE(H134:J134)<=2.5),"Medio",IF(AND(AVERAGE(H134:J134)>=2.6),"Alto"))) -> Medio | L134: 0 | M134: 1 | N134: 1 | O134: 0 | P134: =IF(AVERAGE(L134:O134)<=1.5,"Bajo",IF(AND(AVERAGE(L134:O134)>=1.6,AVERAGE(L134:O134)<=2.5),"Medio",IF(AND(AVERAGE(L134:O134)>=2.6),"Alto"))) -> Bajo | Q134: 1 | R134: 2 | S134: =IF(AVERAGE(Q134:R134)<=1.5,"Bajo",IF(AND(AVERAGE(Q134:R134)>=1.6,AVERAGE(Q134:R134)<=2.5),"Medio",IF(AND(AVERAGE(Q134:R134)>=2.6),"Alto"))) -> Bajo | T134: =IF(AVERAGE(E134:F134,H134:J134,L134:O134,Q134:R134)<1.6,"ACEPTABLE",IF(AND(AVERAGE(E134:F134,H134:J134,L134:O134,Q134:R134)>=1.6,AVERAGE(E134:F134,H134:J134,L134:O134,Q134:R134)<2.6),"MODERADO",IF(AND(AVERAGE(E134:F134,H134:J134,L134:O134,Q134:R134)>=2.6),"CRITICO"))) -> ACEPTABLE
A135: TRITURACION Y DESTRUCCION | B135: Mantenimiento de equipos de destrucción y trituración | C135: Generación de residuos peligroso | D135: Contaminación del entorno | E135: 2 | F135: 1 | G135: =IF(AVERAGE(E135:F135)<=1.5,"Bajo",IF(AND(AVERAGE(E135:F135)>=1.6,AVERAGE(E135:F135)<=2.5),"Medio",IF(AND(AVERAGE(E135:F135)>=2.6),"Alto"))) -> Bajo | H135: 2 | I135: 2 | J135: 2 | K135: =IF(AVERAGE(H135:J135)<=1.5,"Bajo",IF(AND(AVERAGE(H135:J135)>=1.6,AVERAGE(H135:J135)<=2.5),"Medio",IF(AND(AVERAGE(H135:J135)>=2.6),"Alto"))) -> Medio | L135: 0 | M135: 2 | N135: 2 | O135: 0 | P135: =IF(AVERAGE(L135:O135)<=1.5,"Bajo",IF(AND(AVERAGE(L135:O135)>=1.6,AVERAGE(L135:O135)<=2.5),"Medio",IF(AND(AVERAGE(L135:O135)>=2.6),"Alto"))) -> Bajo | Q135: 2 | R135: 2 | S135: =IF(AVERAGE(Q135:R135)<=1.5,"Bajo",IF(AND(AVERAGE(Q135:R135)>=1.6,AVERAGE(Q135:R135)<=2.5),"Medio",IF(AND(AVERAGE(Q135:R135)>=2.6),"Alto"))) -> Medio | T135: =IF(AVERAGE(E135:F135,H135:J135,L135:O135,Q135:R135)<1.6,"ACEPTABLE",IF(AND(AVERAGE(E135:F135,H135:J135,L135:O135,Q135:R135)>=1.6,AVERAGE(E135:F135,H135:J135,L135:O135,Q135:R135)<2.6),"MODERADO",IF(AND(AVERAGE(E135:F135,H135:J135,L135:O135,Q135:R135)>=2.6),"CRITICO"))) -> ACEPTABLE
A136: LIMPIEZA Y DESINFECCION | B136: Limpieza y Desinfección de la planta. | C136: Consumo de agua | D136: Agotamiento de recursos naturales | E136: 1 | F136: 2 | G136: =IF(AVERAGE(E136:F136)<=1.5,"Bajo",IF(AND(AVERAGE(E136:F136)>=1.6,AVERAGE(E136:F136)<=2.5),"Medio",IF(AND(AVERAGE(E136:F136)>=2.6),"Alto"))) -> Bajo | H136: 2 | I136: 2 | J136: 2 | K136: =IF(AVERAGE(H136:J136)<=1.5,"Bajo",IF(AND(AVERAGE(H136:J136)>=1.6,AVERAGE(H136:J136)<=2.5),"Medio",IF(AND(AVERAGE(H136:J136)>=2.6),"Alto"))) -> Medio | L136: 0 | M136: 2 | N136: 1 | O136: 0 | P136: =IF(AVERAGE(L136:O136)<=1.5,"Bajo",IF(AND(AVERAGE(L136:O136)>=1.6,AVERAGE(L136:O136)<=2.5),"Medio",IF(AND(AVERAGE(L136:O136)>=2.6),"Alto"))) -> Bajo | Q136: 1 | R136: 2 | S136: =IF(AVERAGE(Q136:R136)<=1.5,"Bajo",IF(AND(AVERAGE(Q136:R136)>=1.6,AVERAGE(Q136:R136)<=2.5),"Medio",IF(AND(AVERAGE(Q136:R136)>=2.6),"Alto"))) -> Bajo | T136: =IF(AVERAGE(E136:F136,H136:J136,L136:O136,Q136:R136)<1.6,"ACEPTABLE",IF(AND(AVERAGE(E136:F136,H136:J136,L136:O136,Q136:R136)>=1.6,AVERAGE(E136:F136,H136:J136,L136:O136,Q136:R136)<2.6),"MODERADO",IF(AND(AVERAGE(E136:F136,H136:J136,L136:O136,Q136:R136)>=2.6),"CRITICO"))) -> ACEPTABLE
A137: LIMPIEZA Y DESINFECCION | B137: Limpieza y Desinfección de la planta. | C137: Consumo de energía | D137: Agotamiento de recursos naturales | E137: 1 | F137: 2 | G137: =IF(AVERAGE(E137:F137)<=1.5,"Bajo",IF(AND(AVERAGE(E137:F137)>=1.6,AVERAGE(E137:F137)<=2.5),"Medio",IF(AND(AVERAGE(E137:F137)>=2.6),"Alto"))) -> Bajo | H137: 2 | I137: 2 | J137: 2 | K137: =IF(AVERAGE(H137:J137)<=1.5,"Bajo",IF(AND(AVERAGE(H137:J137)>=1.6,AVERAGE(H137:J137)<=2.5),"Medio",IF(AND(AVERAGE(H137:J137)>=2.6),"Alto"))) -> Medio | L137: 0 | M137: 2 | N137: 1 | O137: 0 | P137: =IF(AVERAGE(L137:O137)<=1.5,"Bajo",IF(AND(AVERAGE(L137:O137)>=1.6,AVERAGE(L137:O137)<=2.5),"Medio",IF(AND(AVERAGE(L137:O137)>=2.6),"Alto"))) -> Bajo | Q137: 1 | R137: 2 | S137: =IF(AVERAGE(Q137:R137)<=1.5,"Bajo",IF(AND(AVERAGE(Q137:R137)>=1.6,AVERAGE(Q137:R137)<=2.5),"Medio",IF(AND(AVERAGE(Q137:R137)>=2.6),"Alto"))) -> Bajo | T137: =IF(AVERAGE(E137:F137,H137:J137,L137:O137,Q137:R137)<1.6,"ACEPTABLE",IF(AND(AVERAGE(E137:F137,H137:J137,L137:O137,Q137:R137)>=1.6,AVERAGE(E137:F137,H137:J137,L137:O137,Q137:R137)<2.6),"MODERADO",IF(AND(AVERAGE(E137:F137,H137:J137,L137:O137,Q137:R137)>=2.6),"CRITICO"))) -> ACEPTABLE
A138: LIMPIEZA Y DESINFECCION | B138: Limpieza y Desinfección de la planta. | C138: Consumo de desinfectante | D138: Agotamiento de recursos naturales | E138: 1 | F138: 2 | G138: =IF(AVERAGE(E138:F138)<=1.5,"Bajo",IF(AND(AVERAGE(E138:F138)>=1.6,AVERAGE(E138:F138)<=2.5),"Medio",IF(AND(AVERAGE(E138:F138)>=2.6),"Alto"))) -> Bajo | H138: 2 | I138: 1 | J138: 2 | K138: =IF(AVERAGE(H138:J138)<=1.5,"Bajo",IF(AND(AVERAGE(H138:J138)>=1.6,AVERAGE(H138:J138)<=2.5),"Medio",IF(AND(AVERAGE(H138:J138)>=2.6),"Alto"))) -> Medio | L138: 0 | M138: 2 | N138: 1 | O138: 0 | P138: =IF(AVERAGE(L138:O138)<=1.5,"Bajo",IF(AND(AVERAGE(L138:O138)>=1.6,AVERAGE(L138:O138)<=2.5),"Medio",IF(AND(AVERAGE(L138:O138)>=2.6),"Alto"))) -> Bajo | Q138: 1 | R138: 2 | S138: =IF(AVERAGE(Q138:R138)<=1.5,"Bajo",IF(AND(AVERAGE(Q138:R138)>=1.6,AVERAGE(Q138:R138)<=2.5),"Medio",IF(AND(AVERAGE(Q138:R138)>=2.6),"Alto"))) -> Bajo | T138: =IF(AVERAGE(E138:F138,H138:J138,L138:O138,Q138:R138)<1.6,"ACEPTABLE",IF(AND(AVERAGE(E138:F138,H138:J138,L138:O138,Q138:R138)>=1.6,AVERAGE(E138:F138,H138:J138,L138:O138,Q138:R138)<2.6),"MODERADO",IF(AND(AVERAGE(E138:F138,H138:J138,L138:O138,Q138:R138)>=2.6),"CRITICO"))) -> ACEPTABLE
A139: LIMPIEZA Y DESINFECCION | B139: Limpieza y Desinfección de la planta. | C139: Acumulación de residuos en canaleta | D139: Riesgos a la salud, contaminación del entorno, | E139: 2 | F139: 2 | G139: =IF(AVERAGE(E139:F139)<=1.5,"Bajo",IF(AND(AVERAGE(E139:F139)>=1.6,AVERAGE(E139:F139)<=2.5),"Medio",IF(AND(AVERAGE(E139:F139)>=2.6),"Alto"))) -> Medio | H139: 2 | I139: 1 | J139: 1 | K139: =IF(AVERAGE(H139:J139)<=1.5,"Bajo",IF(AND(AVERAGE(H139:J139)>=1.6,AVERAGE(H139:J139)<=2.5),"Medio",IF(AND(AVERAGE(H139:J139)>=2.6),"Alto"))) -> Bajo | L139: 0 | M139: 2 | N139: 2 | O139: 0 | P139: =IF(AVERAGE(L139:O139)<=1.5,"Bajo",IF(AND(AVERAGE(L139:O139)>=1.6,AVERAGE(L139:O139)<=2.5),"Medio",IF(AND(AVERAGE(L139:O139)>=2.6),"Alto"))) -> Bajo | Q139: 2 | R139: 2 | S139: =IF(AVERAGE(Q139:R139)<=1.5,"Bajo",IF(AND(AVERAGE(Q139:R139)>=1.6,AVERAGE(Q139:R139)<=2.5),"Medio",IF(AND(AVERAGE(Q139:R139)>=2.6),"Alto"))) -> Medio | T139: =IF(AVERAGE(E139:F139,H139:J139,L139:O139,Q139:R139)<1.6,"ACEPTABLE",IF(AND(AVERAGE(E139:F139,H139:J139,L139:O139,Q139:R139)>=1.6,AVERAGE(E139:F139,H139:J139,L139:O139,Q139:R139)<2.6),"MODERADO",IF(AND(AVERAGE(E139:F139,H139:J139,L139:O139,Q139:R139)>=2.6),"CRITICO"))) -> ACEPTABLE
A140: LIMPIEZA Y DESINFECCION | B140: Limpieza y Desinfección de la planta. | C140: Vertimientos líquidos | D140: Contaminación en el afluente | E140: 2 | F140: 2 | G140: =IF(AVERAGE(E140:F140)<=1.5,"Bajo",IF(AND(AVERAGE(E140:F140)>=1.6,AVERAGE(E140:F140)<=2.5),"Medio",IF(AND(AVERAGE(E140:F140)>=2.6),"Alto"))) -> Medio | H140: 2 | I140: 2 | J140: 2 | K140: =IF(AVERAGE(H140:J140)<=1.5,"Bajo",IF(AND(AVERAGE(H140:J140)>=1.6,AVERAGE(H140:J140)<=2.5),"Medio",IF(AND(AVERAGE(H140:J140)>=2.6),"Alto"))) -> Medio | L140: 0 | M140: 2 | N140: 2 | O140: 0 | P140: =IF(AVERAGE(L140:O140)<=1.5,"Bajo",IF(AND(AVERAGE(L140:O140)>=1.6,AVERAGE(L140:O140)<=2.5),"Medio",IF(AND(AVERAGE(L140:O140)>=2.6),"Alto"))) -> Bajo | Q140: 1 | R140: 2 | S140: =IF(AVERAGE(Q140:R140)<=1.5,"Bajo",IF(AND(AVERAGE(Q140:R140)>=1.6,AVERAGE(Q140:R140)<=2.5),"Medio",IF(AND(AVERAGE(Q140:R140)>=2.6),"Alto"))) -> Bajo | T140: =IF(AVERAGE(E140:F140,H140:J140,L140:O140,Q140:R140)<1.6,"ACEPTABLE",IF(AND(AVERAGE(E140:F140,H140:J140,L140:O140,Q140:R140)>=1.6,AVERAGE(E140:F140,H140:J140,L140:O140,Q140:R140)<2.6),"MODERADO",IF(AND(AVERAGE(E140:F140,H140:J140,L140:O140,Q140:R140)>=2.6),"CRITICO"))) -> ACEPTABLE
A141: LIMPIEZA Y DESINFECCION | B141: Limpieza y Desinfección de la planta. | C141: Residuos remanentes de descargue | D141: Riesgos a la salud, contaminación del entorno, | E141: 3 | F141: 2 | G141: =IF(AVERAGE(E141:F141)<=1.5,"Bajo",IF(AND(AVERAGE(E141:F141)>=1.6,AVERAGE(E141:F141)<=2.5),"Medio",IF(AND(AVERAGE(E141:F141)>=2.6),"Alto"))) -> Medio | H141: 3 | I141: 1 | J141: 1 | K141: =IF(AVERAGE(H141:J141)<=1.5,"Bajo",IF(AND(AVERAGE(H141:J141)>=1.6,AVERAGE(H141:J141)<=2.5),"Medio",IF(AND(AVERAGE(H141:J141)>=2.6),"Alto"))) -> Medio | L141: 0 | M141: 2 | N141: 3 | O141: 0 | P141: =IF(AVERAGE(L141:O141)<=1.5,"Bajo",IF(AND(AVERAGE(L141:O141)>=1.6,AVERAGE(L141:O141)<=2.5),"Medio",IF(AND(AVERAGE(L141:O141)>=2.6),"Alto"))) -> Bajo | Q141: 2 | R141: 2 | S141: =IF(AVERAGE(Q141:R141)<=1.5,"Bajo",IF(AND(AVERAGE(Q141:R141)>=1.6,AVERAGE(Q141:R141)<=2.5),"Medio",IF(AND(AVERAGE(Q141:R141)>=2.6),"Alto"))) -> Medio | T141: =IF(AVERAGE(E141:F141,H141:J141,L141:O141,Q141:R141)<1.6,"ACEPTABLE",IF(AND(AVERAGE(E141:F141,H141:J141,L141:O141,Q141:R141)>=1.6,AVERAGE(E141:F141,H141:J141,L141:O141,Q141:R141)<2.6),"MODERADO",IF(AND(AVERAGE(E141:F141,H141:J141,L141:O141,Q141:R141)>=2.6),"CRITICO"))) -> MODERADO
G142: =IF(AVERAGE(E142:F142)<=1.5,"Bajo",IF(AND(AVERAGE(E142:F142)>=1.6,AVERAGE(E142:F142)<=2.5),"Medio",IF(AND(AVERAGE(E142:F142)>=2.6),"Alto"))) -> #DIV/0! | K142: =IF(AVERAGE(H142:J142)<=1.5,"Bajo",IF(AND(AVERAGE(H142:J142)>=1.6,AVERAGE(H142:J142)<=2.5),"Medio",IF(AND(AVERAGE(H142:J142)>=2.6),"Alto"))) -> #DIV/0! | P142: =IF(AVERAGE(L142:O142)<=1.5,"Bajo",IF(AND(AVERAGE(L142:O142)>=1.6,AVERAGE(L142:O142)<=2.5),"Medio",IF(AND(AVERAGE(L142:O142)>=2.6),"Alto"))) -> #DIV/0! | S142: =IF(AVERAGE(Q142:R142)<=1.5,"Bajo",IF(AND(AVERAGE(Q142:R142)>=1.6,AVERAGE(Q142:R142)<=2.5),"Medio",IF(AND(AVERAGE(Q142:R142)>=2.6),"Alto"))) -> #DIV/0! | T142: =IF(AVERAGE(E142:F142,H142:J142,L142:O142,Q142:R142)<1.6,"ACEPTABLE",IF(AND(AVERAGE(E142:F142,H142:J142,L142:O142,Q142:R142)>=1.6,AVERAGE(E142:F142,H142:J142,L142:O142,Q142:R142)<2.6),"MODERADO",IF(AND(AVERAGE(E142:F142,H142:J142,L142:O142,Q142:R142)>=2.6),"CRITICO"))) -> #DIV/0!
G143: =IF(AVERAGE(E143:F143)<=1.5,"Bajo",IF(AND(AVERAGE(E143:F143)>=1.6,AVERAGE(E143:F143)<=2.5),"Medio",IF(AND(AVERAGE(E143:F143)>=2.6),"Alto"))) -> #DIV/0! | K143: =IF(AVERAGE(H143:J143)<=1.5,"Bajo",IF(AND(AVERAGE(H143:J143)>=1.6,AVERAGE(H143:J143)<=2.5),"Medio",IF(AND(AVERAGE(H143:J143)>=2.6),"Alto"))) -> #DIV/0! | P143: =IF(AVERAGE(L143:O143)<=1.5,"Bajo",IF(AND(AVERAGE(L143:O143)>=1.6,AVERAGE(L143:O143)<=2.5),"Medio",IF(AND(AVERAGE(L143:O143)>=2.6),"Alto"))) -> #DIV/0! | S143: =IF(AVERAGE(Q143:R143)<=1.5,"Bajo",IF(AND(AVERAGE(Q143:R143)>=1.6,AVERAGE(Q143:R143)<=2.5),"Medio",IF(AND(AVERAGE(Q143:R143)>=2.6),"Alto"))) -> #DIV/0! | T143: =IF(AVERAGE(E143:F143,H143:J143,L143:O143,Q143:R143)<1.6,"ACEPTABLE",IF(AND(AVERAGE(E143:F143,H143:J143,L143:O143,Q143:R143)>=1.6,AVERAGE(E143:F143,H143:J143,L143:O143,Q143:R143)<2.6),"MODERADO",IF(AND(AVERAGE(E143:F143,H143:J143,L143:O143,Q143:R143)>=2.6),"CRITICO"))) -> #DIV/0!
G144: =IF(AVERAGE(E144:F144)<=1.5,"Bajo",IF(AND(AVERAGE(E144:F144)>=1.6,AVERAGE(E144:F144)<=2.5),"Medio",IF(AND(AVERAGE(E144:F144)>=2.6),"Alto"))) -> #DIV/0! | K144: =IF(AVERAGE(H144:J144)<=1.5,"Bajo",IF(AND(AVERAGE(H144:J144)>=1.6,AVERAGE(H144:J144)<=2.5),"Medio",IF(AND(AVERAGE(H144:J144)>=2.6),"Alto"))) -> #DIV/0! | P144: =IF(AVERAGE(L144:O144)<=1.5,"Bajo",IF(AND(AVERAGE(L144:O144)>=1.6,AVERAGE(L144:O144)<=2.5),"Medio",IF(AND(AVERAGE(L144:O144)>=2.6),"Alto"))) -> #DIV/0! | S144: =IF(AVERAGE(Q144:R144)<=1.5,"Bajo",IF(AND(AVERAGE(Q144:R144)>=1.6,AVERAGE(Q144:R144)<=2.5),"Medio",IF(AND(AVERAGE(Q144:R144)>=2.6),"Alto"))) -> #DIV/0! | T144: =IF(AVERAGE(E144:F144,H144:J144,L144:O144,Q144:R144)<1.6,"ACEPTABLE",IF(AND(AVERAGE(E144:F144,H144:J144,L144:O144,Q144:R144)>=1.6,AVERAGE(E144:F144,H144:J144,L144:O144,Q144:R144)<2.6),"MODERADO",IF(AND(AVERAGE(E144:F144,H144:J144,L144:O144,Q144:R144)>=2.6),"CRITICO"))) -> #DIV/0!
G145: =IF(AVERAGE(E145:F145)<=1.5,"Bajo",IF(AND(AVERAGE(E145:F145)>=1.6,AVERAGE(E145:F145)<=2.5),"Medio",IF(AND(AVERAGE(E145:F145)>=2.6),"Alto"))) -> #DIV/0! | K145: =IF(AVERAGE(H145:J145)<=1.5,"Bajo",IF(AND(AVERAGE(H145:J145)>=1.6,AVERAGE(H145:J145)<=2.5),"Medio",IF(AND(AVERAGE(H145:J145)>=2.6),"Alto"))) -> #DIV/0! | P145: =IF(AVERAGE(L145:O145)<=1.5,"Bajo",IF(AND(AVERAGE(L145:O145)>=1.6,AVERAGE(L145:O145)<=2.5),"Medio",IF(AND(AVERAGE(L145:O145)>=2.6),"Alto"))) -> #DIV/0! | S145: =IF(AVERAGE(Q145:R145)<=1.5,"Bajo",IF(AND(AVERAGE(Q145:R145)>=1.6,AVERAGE(Q145:R145)<=2.5),"Medio",IF(AND(AVERAGE(Q145:R145)>=2.6),"Alto"))) -> #DIV/0! | T145: =IF(AVERAGE(E145:F145,H145:J145,L145:O145,Q145:R145)<1.6,"ACEPTABLE",IF(AND(AVERAGE(E145:F145,H145:J145,L145:O145,Q145:R145)>=1.6,AVERAGE(E145:F145,H145:J145,L145:O145,Q145:R145)<2.6),"MODERADO",IF(AND(AVERAGE(E145:F145,H145:J145,L145:O145,Q145:R145)>=2.6),"CRITICO"))) -> #DIV/0!
G146: =IF(AVERAGE(E146:F146)<=1.5,"Bajo",IF(AND(AVERAGE(E146:F146)>=1.6,AVERAGE(E146:F146)<=2.5),"Medio",IF(AND(AVERAGE(E146:F146)>=2.6),"Alto"))) -> #DIV/0! | K146: =IF(AVERAGE(H146:J146)<=1.5,"Bajo",IF(AND(AVERAGE(H146:J146)>=1.6,AVERAGE(H146:J146)<=2.5),"Medio",IF(AND(AVERAGE(H146:J146)>=2.6),"Alto"))) -> #DIV/0! | P146: =IF(AVERAGE(L146:O146)<=1.5,"Bajo",IF(AND(AVERAGE(L146:O146)>=1.6,AVERAGE(L146:O146)<=2.5),"Medio",IF(AND(AVERAGE(L146:O146)>=2.6),"Alto"))) -> #DIV/0! | S146: =IF(AVERAGE(Q146:R146)<=1.5,"Bajo",IF(AND(AVERAGE(Q146:R146)>=1.6,AVERAGE(Q146:R146)<=2.5),"Medio",IF(AND(AVERAGE(Q146:R146)>=2.6),"Alto"))) -> #DIV/0! | T146: =IF(AVERAGE(E146:F146,H146:J146,L146:O146,Q146:R146)<1.6,"ACEPTABLE",IF(AND(AVERAGE(E146:F146,H146:J146,L146:O146,Q146:R146)>=1.6,AVERAGE(E146:F146,H146:J146,L146:O146,Q146:R146)<2.6),"MODERADO",IF(AND(AVERAGE(E146:F146,H146:J146,L146:O146,Q146:R146)>=2.6),"CRITICO"))) -> #DIV/0!
G147: =IF(AVERAGE(E147:F147)<=1.5,"Bajo",IF(AND(AVERAGE(E147:F147)>=1.6,AVERAGE(E147:F147)<=2.5),"Medio",IF(AND(AVERAGE(E147:F147)>=2.6),"Alto"))) -> #DIV/0! | K147: =IF(AVERAGE(H147:J147)<=1.5,"Bajo",IF(AND(AVERAGE(H147:J147)>=1.6,AVERAGE(H147:J147)<=2.5),"Medio",IF(AND(AVERAGE(H147:J147)>=2.6),"Alto"))) -> #DIV/0! | P147: =IF(AVERAGE(L147:O147)<=1.5,"Bajo",IF(AND(AVERAGE(L147:O147)>=1.6,AVERAGE(L147:O147)<=2.5),"Medio",IF(AND(AVERAGE(L147:O147)>=2.6),"Alto"))) -> #DIV/0! | S147: =IF(AVERAGE(Q147:R147)<=1.5,"Bajo",IF(AND(AVERAGE(Q147:R147)>=1.6,AVERAGE(Q147:R147)<=2.5),"Medio",IF(AND(AVERAGE(Q147:R147)>=2.6),"Alto"))) -> #DIV/0! | T147: =IF(AVERAGE(E147:F147,H147:J147,L147:O147,Q147:R147)<1.6,"ACEPTABLE",IF(AND(AVERAGE(E147:F147,H147:J147,L147:O147,Q147:R147)>=1.6,AVERAGE(E147:F147,H147:J147,L147:O147,Q147:R147)<2.6),"MODERADO",IF(AND(AVERAGE(E147:F147,H147:J147,L147:O147,Q147:R147)>=2.6),"CRITICO"))) -> #DIV/0!
G148: =IF(AVERAGE(E148:F148)<=1.5,"Bajo",IF(AND(AVERAGE(E148:F148)>=1.6,AVERAGE(E148:F148)<=2.5),"Medio",IF(AND(AVERAGE(E148:F148)>=2.6),"Alto"))) -> #DIV/0! | K148: =IF(AVERAGE(H148:J148)<=1.5,"Bajo",IF(AND(AVERAGE(H148:J148)>=1.6,AVERAGE(H148:J148)<=2.5),"Medio",IF(AND(AVERAGE(H148:J148)>=2.6),"Alto"))) -> #DIV/0! | P148: =IF(AVERAGE(L148:O148)<=1.5,"Bajo",IF(AND(AVERAGE(L148:O148)>=1.6,AVERAGE(L148:O148)<=2.5),"Medio",IF(AND(AVERAGE(L148:O148)>=2.6),"Alto"))) -> #DIV/0! | S148: =IF(AVERAGE(Q148:R148)<=1.5,"Bajo",IF(AND(AVERAGE(Q148:R148)>=1.6,AVERAGE(Q148:R148)<=2.5),"Medio",IF(AND(AVERAGE(Q148:R148)>=2.6),"Alto"))) -> #DIV/0! | T148: =IF(AVERAGE(E148:F148,H148:J148,L148:O148,Q148:R148)<1.6,"ACEPTABLE",IF(AND(AVERAGE(E148:F148,H148:J148,L148:O148,Q148:R148)>=1.6,AVERAGE(E148:F148,H148:J148,L148:O148,Q148:R148)<2.6),"MODERADO",IF(AND(AVERAGE(E148:F148,H148:J148,L148:O148,Q148:R148)>=2.6),"CRITICO"))) -> #DIV/0!
G149: =IF(AVERAGE(E149:F149)<=1.5,"Bajo",IF(AND(AVERAGE(E149:F149)>=1.6,AVERAGE(E149:F149)<=2.5),"Medio",IF(AND(AVERAGE(E149:F149)>=2.6),"Alto"))) -> #DIV/0! | K149: =IF(AVERAGE(H149:J149)<=1.5,"Bajo",IF(AND(AVERAGE(H149:J149)>=1.6,AVERAGE(H149:J149)<=2.5),"Medio",IF(AND(AVERAGE(H149:J149)>=2.6),"Alto"))) -> #DIV/0! | P149: =IF(AVERAGE(L149:O149)<=1.5,"Bajo",IF(AND(AVERAGE(L149:O149)>=1.6,AVERAGE(L149:O149)<=2.5),"Medio",IF(AND(AVERAGE(L149:O149)>=2.6),"Alto"))) -> #DIV/0! | S149: =IF(AVERAGE(Q149:R149)<=1.5,"Bajo",IF(AND(AVERAGE(Q149:R149)>=1.6,AVERAGE(Q149:R149)<=2.5),"Medio",IF(AND(AVERAGE(Q149:R149)>=2.6),"Alto"))) -> #DIV/0! | T149: =IF(AVERAGE(E149:F149,H149:J149,L149:O149,Q149:R149)<1.6,"ACEPTABLE",IF(AND(AVERAGE(E149:F149,H149:J149,L149:O149,Q149:R149)>=1.6,AVERAGE(E149:F149,H149:J149,L149:O149,Q149:R149)<2.6),"MODERADO",IF(AND(AVERAGE(E149:F149,H149:J149,L149:O149,Q149:R149)>=2.6),"CRITICO"))) -> #DIV/0!
G150: =IF(AVERAGE(E150:F150)<=1.5,"Bajo",IF(AND(AVERAGE(E150:F150)>=1.6,AVERAGE(E150:F150)<=2.5),"Medio",IF(AND(AVERAGE(E150:F150)>=2.6),"Alto"))) -> #DIV/0! | K150: =IF(AVERAGE(H150:J150)<=1.5,"Bajo",IF(AND(AVERAGE(H150:J150)>=1.6,AVERAGE(H150:J150)<=2.5),"Medio",IF(AND(AVERAGE(H150:J150)>=2.6),"Alto"))) -> #DIV/0! | P150: =IF(AVERAGE(L150:O150)<=1.5,"Bajo",IF(AND(AVERAGE(L150:O150)>=1.6,AVERAGE(L150:O150)<=2.5),"Medio",IF(AND(AVERAGE(L150:O150)>=2.6),"Alto"))) -> #DIV/0! | S150: =IF(AVERAGE(Q150:R150)<=1.5,"Bajo",IF(AND(AVERAGE(Q150:R150)>=1.6,AVERAGE(Q150:R150)<=2.5),"Medio",IF(AND(AVERAGE(Q150:R150)>=2.6),"Alto"))) -> #DIV/0! | T150: =IF(AVERAGE(E150:F150,H150:J150,L150:O150,Q150:R150)<1.6,"ACEPTABLE",IF(AND(AVERAGE(E150:F150,H150:J150,L150:O150,Q150:R150)>=1.6,AVERAGE(E150:F150,H150:J150,L150:O150,Q150:R150)<2.6),"MODERADO",IF(AND(AVERAGE(E150:F150,H150:J150,L150:O150,Q150:R150)>=2.6),"CRITICO"))) -> #DIV/0!
G151: =IF(AVERAGE(E151:F151)<=1.5,"Bajo",IF(AND(AVERAGE(E151:F151)>=1.6,AVERAGE(E151:F151)<=2.5),"Medio",IF(AND(AVERAGE(E151:F151)>=2.6),"Alto"))) -> #DIV/0! | K151: =IF(AVERAGE(H151:J151)<=1.5,"Bajo",IF(AND(AVERAGE(H151:J151)>=1.6,AVERAGE(H151:J151)<=2.5),"Medio",IF(AND(AVERAGE(H151:J151)>=2.6),"Alto"))) -> #DIV/0! | P151: =IF(AVERAGE(L151:O151)<=1.5,"Bajo",IF(AND(AVERAGE(L151:O151)>=1.6,AVERAGE(L151:O151)<=2.5),"Medio",IF(AND(AVERAGE(L151:O151)>=2.6),"Alto"))) -> #DIV/0! | S151: =IF(AVERAGE(Q151:R151)<=1.5,"Bajo",IF(AND(AVERAGE(Q151:R151)>=1.6,AVERAGE(Q151:R151)<=2.5),"Medio",IF(AND(AVERAGE(Q151:R151)>=2.6),"Alto"))) -> #DIV/0! | T151: =IF(AVERAGE(E151:F151,H151:J151,L151:O151,Q151:R151)<1.6,"ACEPTABLE",IF(AND(AVERAGE(E151:F151,H151:J151,L151:O151,Q151:R151)>=1.6,AVERAGE(E151:F151,H151:J151,L151:O151,Q151:R151)<2.6),"MODERADO",IF(AND(AVERAGE(E151:F151,H151:J151,L151:O151,Q151:R151)>=2.6),"CRITICO"))) -> #DIV/0!
G152: =IF(AVERAGE(E152:F152)<=1.5,"Bajo",IF(AND(AVERAGE(E152:F152)>=1.6,AVERAGE(E152:F152)<=2.5),"Medio",IF(AND(AVERAGE(E152:F152)>=2.6),"Alto"))) -> #DIV/0! | K152: =IF(AVERAGE(H152:J152)<=1.5,"Bajo",IF(AND(AVERAGE(H152:J152)>=1.6,AVERAGE(H152:J152)<=2.5),"Medio",IF(AND(AVERAGE(H152:J152)>=2.6),"Alto"))) -> #DIV/0! | P152: =IF(AVERAGE(L152:O152)<=1.5,"Bajo",IF(AND(AVERAGE(L152:O152)>=1.6,AVERAGE(L152:O152)<=2.5),"Medio",IF(AND(AVERAGE(L152:O152)>=2.6),"Alto"))) -> #DIV/0! | S152: =IF(AVERAGE(Q152:R152)<=1.5,"Bajo",IF(AND(AVERAGE(Q152:R152)>=1.6,AVERAGE(Q152:R152)<=2.5),"Medio",IF(AND(AVERAGE(Q152:R152)>=2.6),"Alto"))) -> #DIV/0! | T152: =IF(AVERAGE(E152:F152,H152:J152,L152:O152,Q152:R152)<1.6,"ACEPTABLE",IF(AND(AVERAGE(E152:F152,H152:J152,L152:O152,Q152:R152)>=1.6,AVERAGE(E152:F152,H152:J152,L152:O152,Q152:R152)<2.6),"MODERADO",IF(AND(AVERAGE(E152:F152,H152:J152,L152:O152,Q152:R152)>=2.6),"CRITICO"))) -> #DIV/0!
G153: =IF(AVERAGE(E153:F153)<=1.5,"Bajo",IF(AND(AVERAGE(E153:F153)>=1.6,AVERAGE(E153:F153)<=2.5),"Medio",IF(AND(AVERAGE(E153:F153)>=2.6),"Alto"))) -> #DIV/0! | K153: =IF(AVERAGE(H153:J153)<=1.5,"Bajo",IF(AND(AVERAGE(H153:J153)>=1.6,AVERAGE(H153:J153)<=2.5),"Medio",IF(AND(AVERAGE(H153:J153)>=2.6),"Alto"))) -> #DIV/0! | P153: =IF(AVERAGE(L153:O153)<=1.5,"Bajo",IF(AND(AVERAGE(L153:O153)>=1.6,AVERAGE(L153:O153)<=2.5),"Medio",IF(AND(AVERAGE(L153:O153)>=2.6),"Alto"))) -> #DIV/0! | S153: =IF(AVERAGE(Q153:R153)<=1.5,"Bajo",IF(AND(AVERAGE(Q153:R153)>=1.6,AVERAGE(Q153:R153)<=2.5),"Medio",IF(AND(AVERAGE(Q153:R153)>=2.6),"Alto"))) -> #DIV/0! | T153: =IF(AVERAGE(E153:F153,H153:J153,L153:O153,Q153:R153)<1.6,"ACEPTABLE",IF(AND(AVERAGE(E153:F153,H153:J153,L153:O153,Q153:R153)>=1.6,AVERAGE(E153:F153,H153:J153,L153:O153,Q153:R153)<2.6),"MODERADO",IF(AND(AVERAGE(E153:F153,H153:J153,L153:O153,Q153:R153)>=2.6),"CRITICO"))) -> #DIV/0!
... G371: =IF(AVERAGE(E371:F371)<=1.5,"Bajo",IF(AND(AVERAGE(E371:F371)>=1.6,AVERAGE(E371:F371)<=2.5),"Medio",IF(AND(AVERAGE(E371:F371)>=2.6),"Alto"))) -> #DIV/0! | K371: =IF(AVERAGE(H371:J371)<=1.5,"Bajo",IF(AND(AVERAGE(H371:J371)>=1.6,AVERAGE(H371:J371)<=2.5),"Medio",IF(AND(AVERAGE(H371:J371)>=2.6),"Alto"))) -> #DIV/0! | P371: =IF(AVERAGE(L371:O371)<=1.5,"Bajo",IF(AND(AVERAGE(L371:O371)>=1.6,AVERAGE(L371:O371)<=2.5),"Medio",IF(AND(AVERAGE(L371:O371)>=2.6),"Alto"))) -> #DIV/0! | S371: =IF(AVERAGE(Q371:R371)<=1.5,"Bajo",IF(AND(AVERAGE(Q371:R371)>=1.6,AVERAGE(Q371:R371)<=2.5),"Medio",IF(AND(AVERAGE(Q371:R371)>=2.6),"Alto"))) -> #DIV/0! | T371: =IF(AVERAGE(E371:F371,H371:J371,L371:O371,Q371:R371)<1.6,"ACEPTABLE",IF(AND(AVERAGE(E371:F371,H371:J371,L371:O371,Q371:R371)>=1.6,AVERAGE(E371:F371,H371:J371,L371:O371,Q371:R371)<2.6),"MODERADO",IF(AND(AVERAGE(E371:F371,H371:J371,L371:O371,Q371:R371)>=2.6),"CRITICO"))) -> #DIV/0!

Sheet RIS
B1: RESUMEN DE ASPECTOS E IMPACTOS AMBIENTALES SIGNIFICATIVOS | G1: Código: GA-MT-01
G2: Versión: 001
B3: E.S.E. HOSPITAL REGIONAL CENTRO | G3: Actualización: 04/04/2025
G4: Página 1 de 1
A5: Fecha: 27/06/2017 | C5: Responsable: JUAN CAMILO MOSQUERA GOMEZ | F5: OBJETIVO: VISUALIZAR LOS IMPACTOS CRITICOS Y MODERADOS PARA CADA UNA DE LAS AREAS, PARA SU DIFSION
A6: SERVICIO GENERAL
A7: ACTIVIDAD | B7: ASPECTO AMBIENTAL | C7: DESCRIPCIÓN DEL ASPECTO AMBIENTAL | D7: IMPACTO AMBIENTAL | E7: DESCRIPCIÓN DEL IMPACTO AMBIENTAL | F7: CONTROL OPERACIONAL | G7: CONDICIÓN AMBIENTAL | H7: NIVEL DE SIGNIFICANCIA
A8: =MAIA!B8 -> Recolección de residuos comunes | B8: =MAIA!C8 -> Generación de olores | C8: Se generan malos olores debido principalmente a la compactación de los residuos con el vehículo | D8: =MAIA!D8 -> Contaminación del aire | E8: impacto intermitente debido a que es un proceso necesario para el transporte de los residuos | F8: Los conductores cuentan con los EPPS | G8: Proceso de compactación realizarlo, solo cuando se termine el cargar el material, o cuando este muy lleno | H8: =MAIA!T8 -> MODERADO
A9: =MAIA!B9 -> Recolección de residuos comunes | B9: =MAIA!C9 -> Derrames de fluidos | C9: Se genera este aspecto debido a que la canaleta no esta en optimas condiciones | D9: =MAIA!D9 -> Contaminación del suelo/Riesgos a la salud | E9: Se evidencia cuando se realiza proceso de compactación y cuando el vehículo esta muy lleno | F9: Mantenimiento preventivo al vehículo compactador | G9: Posibles derrames durante la recolección y transporte, generando un mal aspecto | H9: =MAIA!T9 -> MODERADO
A10: =MAIA!B10 -> Recolección de residuos comunes | B10: =MAIA!C10 -> Generación de ruido | C10: Ruido generado por el proceso de compactación y tamaño del vehículo | D10: =MAIA!D10 -> Contaminación del entorno | E10: Ruido generado por el proceso de compactación y tamaño del vehículo | F10: / | G10: / | H10: =MAIA!T10 -> MODERADO
A11: =MAIA!B11 -> Recolección de residuos comunes | B11: =MAIA!C15 -> Generación de lixiviados | C11: Acumulación de lixiviados en canaleta y no se genera una buena contención | D11: =MAIA!D15 -> Contaminación en el efluente | E11: Al monito de descargar el lixiviado se genera contaminación en el fluente | F11: Se cuenta con un sistema de tratamiento pero no es suficiente | G11: Aumento en los parámetros de evaluación, afectado su resultado | H11: =MAIA!T11 -> MODERADO
A12: =MAIA!B16 -> Recolección residuos riesgo biológico | B12: =MAIA!C16 -> Generación de olores | C12: Se generan malos olores debido a las características de los residuos (Hospitalarios) | D12: =MAIA!D16 -> Contaminación en el aire | E12: impacto intermitente debido a la naturaleza de los residuos. | F12: Los conductores cuentan con los EPPS | G12: Algunos conductores no utilizan los elementos entregados. | H12: =MAIA!T16 -> MODERADO
A13: =MAIA!B17 -> Recolección residuos riesgo biológico | B13: =MAIA!C17 -> Derrames de fluidos | C13: Se genera derrames por la presentación de los residuos por parte de los clientes | D13: =MAIA!D17 -> Contaminación del suelo/Riesgos a la salud | E13: Posibles derrames durante la recolección y transporte, generando un mal aspecto | F13: / | G13: Al generar derrames de fluidos puede ocasionar riesgos de salud | H13: =MAIA!T17 -> MODERADO
A14: =MAIA!B18 -> Recolección residuos riesgo biológico | B14: =MAIA!C18 -> Emisión de gases | C14: Se genera emisión de gases debido a la descomposición de los residuos y la mala presentación de los clientes | D14: =MAIA!D18 -> Contaminación en el aire | E14: Afectaciones en el entorno y en los operarios | F14: Los conductores cuentan con los EPPS | G14: / | H14: =MAIA!T18 -> MODERADO
A15: ACTIVIDAD | B15: ASPECTO AMBIENTAL | C15: DESCRIPCIÓN DEL ASPECTO AMBIENTAL | D15: IMPACTO AMBIENTAL | E15: DESCRIPCIÓN DEL IMPACTO AMBIENTAL | F15: CONTROL OPERACIONAL | G15: CONDICIÓN AMBIENTAL | H15: NIVEL DE SIGNIFICANCIA
A16: =MAIA!B19 -> Recolección residuos riesgo biológico | B16: =MAIA!C20 -> Generación de residuos sueltos | C16: Al momento de realizar el pesaje de los residuos algunas bosas se rasgan liberando su material | D16: Riesgos a la salud, contaminación del entorno | E16: Los residuos sueltos de esta categoría contiene una alta carga de agentes patógenos | F16: Los conductores cuentan con los EPPS | G16: Los conductores cuentan con los EPPS | H16: MODERADO
A17: =MAIA!B20 -> Recolección residuos riesgo biológico | B17: Generación de lixiviados | C17: Existe una mala presentación de los residuos anatomopatológicos, generando mayor carga de lixiviado | D17: Contaminación en el efluente | E17: Acumulación de lixiviado generante contaminación en el afluente | F17: Se cuenta con un sistema de tratamiento pero no es suficiente | G17: Posibles afectaciones en los parámetros fisicoquímicos | H17: MODERADO
A18: Recolección residuos riesgo químico | B18: Emisión de gases | C18: Aspecto generado debido a las características de los residuos industriales | D18: Contaminación en el aire | E18: Riesgo en la salud por manejo de residuos industriales | F18: Los operarios cuentan con los EPPS | G18: / | H18: MODERADO
A19: Descargue de residuos de riesgo biológico | B19: Emisión de olores | C19: Se genera emisión de gases debido a la descomposición de los residuos durante el proceso de recolección | D19: Riesgos a la salud, contaminación del entorno | E19: impacto intermitente debido a la naturaleza de los residuos. | F19: No se cuenta con una adecuado mantenimiento del sistema de enfriamiento en el vehículo | G19: Los operarios cuentan con los EPPS | H19: MODERADO
A20: Descargue de residuos de riesgo biológico | B20: Vertimiento de lixiviados | C20: los vertimientos de lixiviados se realiza a diario ocasionando aumento de carga el sistema de tratamiento | D20: Riesgos a la salud, contaminación del entorno | E20: Si la carga del lixiviado es muy alta puede ocasionar diversos problemas en el sistema de tratamiento | F20: Mantenimiento preventivo al sistema de tratamiento | G20: Posibles afectaciones en los parámetros fisicoquímicos | H20: MODERADO
A21: Descargue de residuos de riesgo químico | B21: Generación de gases y olores | C21: Acumulación de gases generados en el transcurso de la recolección | D21: Contaminación del aire y Posibles afectaciones respiratorias | E21: Al momento de realizar el descargue se liberan los gases acumulados | F21: Los operarios cuentan con los EPPS | G21: / | H21: MODERADO
A23: Gestion Documental.
A24: Líder del área ambiental: | E24: Líder Planeación
E25: Oscar Rivas
B32: GESTIÓN AMBIENTAL | G32: Código: GA-MT-01
G33: Versión: 001
B34: RESUMEN DE ASPECTOS E IMPACTOS AMBIENTALES SIGNIFICATIVOS | G34: Actualización: 04/04/2025
G35: Página 1 de 1
A36: Fecha: | C36: Responsable: ___________________________________________ | F36: OBJETIVO: VISUALIZAR LOS IMPACTOS CRITICOS Y MODERADOS PARA CADA UNA DE LAS AREAS, PARA SU DIFSION
A37: AREA: ESTERILIZACION
A38: ACTIVIDAD | B38: ASPECTO AMBIENTAL | C38: DESCRIPCIÓN DEL ASPECTO AMBIENTAL | D38: IMPACTO AMBIENTAL | E38: DESCRIPCIÓN DEL IMPACTO AMBIENTAL | F38: CONTROL OPERACIONAL | G38: CONDICIÓN AMBIENTAL | H38: NIVEL DE SIGNIFICANCIA
A39: Almacenamiento de residuos biosanitarios | B39: Derrames de fluidos | C39: Se evidencia derrames de fluidos provenientes de las bolsas por interacción con otras | D39: Riesgos a la salud, contaminación del entorno, | E39: Los derrames principalmente son sangre en descomposición que pueden afectar a los operarios | F39: Se cuenta con góndolas y tinas para el transporte de residuos infecciosos | G39: Derrames que pueden generar riesgos en la salud | H39: MODERADO
A40: Almacenamiento de residuos biosanitarios | B40: Acumulación de residuos | C40: Cuando los equipos entran en periodo de mantenimiento, se genera exceso de residuos acumulados | D40: Riesgos a la salud, contaminación del entorno, | E40: Debido a la acumulación se proliferan vectores que pueden ocasionar problemas en la salud | F40: Se contrata gestores externos en donde se permite realizar el tratamiento de los residuos | G40: Se verifica que los vehículos contratados cuenten con las normas de transporte de sustancias peligrosas. *Se cuenta con un programa de control de vectores. | H40: MODERADO
A41: Almacenamiento de residuos biosanitarios | B41: Emisión de olores | C41: Descomposición de los residuos generando malos olores | D41: Posibles afectaciones respiratorias y bioacumulación de agentes tóxicos | E41: Olores que pueden afectar a los operarios | F41: Los operarios cuentan con los EPPS | G41: Al no utilizar sus EEPS, se pueden generar riesgos futuros | H41: MODERADO
A42: Empaqué y Amarre | B42: Derrames de fluidos | C42: Fluidos provenientes de las bolsas y durante el proceso de alistamiento de material | D42: Riesgos a la salud | E42: Fluidos en el suelo que pueden causar riesgo para la salud | F42: Programa de desinfección de la planta | G42: Derrames que pueden generar riesgos en la salud | H42: MODERADO
A43: Empaqué y Amarre | B43: Emisión de olores | C43: Olores generados por la naturaleza de los residuos | D43: Riesgos a la salud, contaminación del entorno, | E43: Al empacar los residuos en sacos se generan malos olores que pueden afectar la salud | F43: Los operarios cuentan con los EPPS | G43: Al no utilizar sus EEPS, se pueden generar riesgos futuros | H43: MODERADO
A45: AREA: ESTERILIZACION
A46: ACTIVIDAD | B46: ASPECTO AMBIENTAL | C46: DESCRIPCIÓN DEL ASPECTO AMBIENTAL | D46: IMPACTO AMBIENTAL | E46: DESCRIPCIÓN DEL IMPACTO AMBIENTAL | F46: CONTROL OPERACIONAL | G46: CONDICIÓN AMBIENTAL | H46: NIVEL DE SIGNIFICANCIA
A47: Esterilización | B47: Emisión de gases y olores | C47: Gases generados por la aplicación de vapor a alta temperatura y esterilización de los residuos | D47: Riesgos a la salud, contaminación del entorno, | E47: Estos vapores a altas temperaturas pueden generar riesgos en la salud | F47: Mantenimiento preventivo a los equipos | G47: Al no utilizar sus EEPS, se pueden generar riesgos futuros | H47: MODERADO
A48: Esterilización | B48: Manipulación inapropiada | C48: Al momento de descargar los sacos de residuos no se realiza de la mejor manera | D48: Riesgos a la salud, contaminación del entorno, | E48: Debido a las altas temperaturas de los sacos cuando termina el ciclo son arrojados a las góndolas para su disposición | F48: Los operarios cuentan con los EPPS | G48: / | H48: MODERADO
A49: Esterilización | B49: Generación de ruido | C49: Ruido generado por las bioclaves | D49: Riesgos a la salud, contaminación del entorno, | E49: El ruido puede ser molesto sin los elementos de protección | F49: Los operarios cuentan con los EPPS | G49: Al no utilizar sus EEPS, se pueden generar riesgos futuros | H49: MODERADO
A50: Esterilización | B50: Proliferación de vectores | C50: Debido a que el área de cargue de residuos se encuentra abierta, pueden ingresar vectores | D50: Riesgos a la salud, contaminación del entorno, | E50: Vectores que pueden ocasionar riesgos en la salud | F50: Programa de control de plagas y vectores | G50: Aplicación mensual del programa de fumigación | H50: MODERADO
A51: Cargue de material | B51: Emisión de olores, y ruido | C51: Olores y ruido generados por el proceso de compactación de los residuos esterilizados | D51: Riesgos a la salud, contaminación del entorno, | E51: Afectaciones al personal y a la comunidad aledaña. | F51: Los operarios cuentan con los EPPS | G51: Al no utilizar sus EEPS, se pueden generar riesgos futuros | H51: MODERADO
A52: Cargue de material | B52: Derrames de lixiviado | C52: Se genera derrames de lixiviado debido a que las canaletas del vehículo no dan abasto y/o no se encuentran en buen estado | D52: Riesgos a la salud, contaminación del entorno, | E52: Ocasiona contaminación del entorno si el vehículo sale en malas condiciones de la planta. | F52: Mantenimiento preventivo al vehículo | G52: Genera aumentó en la carga del sistema de tratamiento | H52: MODERADO
A54: Gestion Documental.
A55: Líder del área ambiental: | E55: Líder Planeación
B63: GESTIÓN AMBIENTAL | G63: Código: GA-MT-01
G64: Versión: 001
B65: RESUMEN DE ASPECTOS E IMPACTOS AMBIENTALES SIGNIFICATIVOS | G65: Actualización: 04/04/2025
G66: Página 1 de 1
A67: Fecha: | C67: Responsable: ___________________________________________ | F67: OBJETIVO: VISUALIZAR LOS IMPACTOS CRITICOS Y MODERADOS PARA CADA UNA DE LAS AREAS, PARA SU DIFSION
A68: LABORATORIO Y TOMA DE MUESTRAS
A69: ACTIVIDAD | B69: ASPECTO AMBIENTAL | C69: DESCRIPCIÓN DEL ASPECTO AMBIENTAL | D69: IMPACTO AMBIENTAL | E69: DESCRIPCIÓN DEL IMPACTO AMBIENTAL | F69: CONTROL OPERACIONAL | G69: CONDICIÓN AMBIENTAL | H69: NIVEL DE SIGNIFICANCIA
A70: Almacenamiento de Anatomopatológicos, Corto punzantes | B70: Acumulación de residuos peligrosos | C70: Los residuos se almacenan en la UTA pero en diferentes ocasiones no da abasto generando esta acumulación | D70: Riesgos a la salud, contaminación del entorno, | E70: Al no almacenar los residuos dentro de la UTA se generan riesgos en el ambiente | F70: Poner en funcionamiento los dos hornos cuando la carga supera el nivel de almacenamiento | G70: Desinfección de las unidades de almacenamiento. | H70: MODERADO
A71: Almacenamiento de Anatomopatológicos, Corto puntanzates y animales | B71: Generación de olores | C71: Olores ocasionados por la descomposición de residuos | D71: Riesgos a la salud, contaminación del entorno, | E71: Acumulación de olores generando un ambiente de contaminación por descomposición | F71: Los operarios cuentan con los EPPS | G71: Los operarios cuentan con los EPPS | H71: MODERADO
A72: Alistamiento de material para incineración | B72: Generación de olores | C72: Al momento de realizar el proceso de cargue al horno se desprende malos olores por la naturaleza de los residuos | D72: Riesgos a la salud, contaminación del entorno, | E72: Provoca un ambiente de estrés por los malos olores | F72: Los operarios cuentan con los EPPS | G72: Los operarios cuentan con los EPPS | H72: MODERADO
A73: Incineración | B73: Generación de gases, vapores, olores y calor | C73: Generados en el momento de alimentar el horno al abrir la compuerta se desprenden gases y vapores de los residuos que se están incinerando | D73: Aumento de gasas de efecto invernadero | E73: Estos ganes generan aumento de calor en el área de operación y además pueden causar problemas respiratorios | F73: Se requiere de un sistema de extracción que permita minimizar el aumento de estos gases en el área | G73: Al no utilizar sus EEPS, se pueden generar riesgos futuros | H73: MODERADO
A74: Incineración y Descargue | B74: Generación de cenizas | C74: Cenizas provenientes del procesos de incineración de residuos y del sistema de tratamiento de emisiones (filtro de mangas) | D74: Riesgos a la salud, contaminación del entorno, | E74: Debido a la manipulación que se genera se puede generar riesgos en la salud | F74: Los operarios cuentan con los EPPS | G74: Importante realizar trazabilidad y protocolo para evitar los riesgos que genera | H74: MODERADO
B76: GESTIÓN AMBIENTAL | G76: Código: GA-MT-01
G77: Versión: 001
B78: RESUMEN DE ASPECTOS E IMPACTOS AMBIENTALES SIGNIFICATIVOS | G78: Actualización: 04/04/2025
G79: Página 1 de 1
A80: Fecha: | C80: Responsable: ___________________________________________ | F80: OBJETIVO: VISUALIZAR LOS IMPACTOS CRITICOS Y MODERADOS PARA CADA UNA DE LAS AREAS, PARA SU DIFSION
A81: AREA: RESPEL
A82: ACTIVIDAD | B82: ASPECTO AMBIENTAL | C82: DESCRIPCIÓN DEL ASPECTO AMBIENTAL | D82: IMPACTO AMBIENTAL | E82: DESCRIPCIÓN DEL IMPACTO AMBIENTAL | F82: CONTROL OPERACIONAL | G82: CONDICIÓN AMBIENTAL | H82: NIVEL DE SIGNIFICANCIA
A83: Clasificación de material | B83: Exposición a gases y malos olores | C83: Se requiere realizar segregación de los residuos que ingresan a la planta para saber si se trata por incineración o gestores externos | D83: Riesgos a la salud, contaminación del entorno, | E83: Debido a la segregación se generan gases y malos olores que pueden afectar la salud | F83: Los operarios cuentan con los EPPS | G83: Al no utilizar sus EEPS, se pueden generar riesgos futuros | H83: MODERADO
A84: Almacenamiento, Alistamientos para el horno y gestores | B84: Generación de olores | C84: Olores generados debido a la naturaleza de los residuos para preparación y alistamiento del material | D84: Riesgos a la salud, contaminación del entorno | E84: Acumulación de gases por interacción con el ambiente | F84: Los operarios cuentan con los EPPS | G84: Al no utilizar sus EEPS, se pueden generar riesgos futuros | H84: MODERADO
A85: Alistamiento de material para gestores | B85: Acumulación de residuos químicos | C85: Cuando se retrasan las salidas por afata de vehículo | D85: Riesgos a la salud, contaminación del entorno, | E85: Acumulación de residuos que pueden afectar la movilidad en la bodega | F85: Salida programada (Martes y Jueves) | G85: / | H85: MODERADO
A86: Alistamiento de material para gestores | B86: Generación de gases y vapores | C86: Se generan gases y vapores en el momento de realizar el alistamiento. | D86: Riesgos a la salud, contaminación del entorno, | E86: se generan riesgos por manipulación inadecuada de los residuos químicos | F86: Los operarios cuentan con los EPPS | G86: Al no utilizar sus EEPS, se pueden generar riesgos futuros | H86: MODERADO
A87: Salida de cenizas | B87: Emisiones de material volátil | C87: Alistamiento de cenizas de fondo del horno y volátiles del filtro de mangas cargue | D87: Riesgos a la salud, contaminación del entorno, | E87: se generan efectos en la salud debido a las cualidades de los residuos incinerados | F87: Los operarios cuentan con los EPPS | G87: Al no utilizar sus EEPS, se pueden generar riesgos futuros | H87: MODERADO
A88: Salida de cenizas | B88: Manipulación de residuos peligrosos | C88: Los operarios realizan el traspaso de cenizas de las tinas a los bigbags | D88: Riesgos a la salud, contaminación del entorno, | E88: Debido a la manipulación de cenizas, se generan riesgos a la salud | F88: Los operarios cuentan con los EPPS | G88: Indispensable el uso adecuado de los EEPS | H88: MODERADO
A89: Salida de cenizas | B89: Generación de ruido | C89: Ruido generado por el uso de la montacargas | D89: Riesgos a la salud, contaminación del entorno, | E89: Impacto intermitente ya que se requiere para el manejo de mercancía de alto peso | F89: / | G89: / | H89: MODERADO
B90: GESTIÓN AMBIENTAL | G90: Código: GA-MT-01
G91: Versión: 001
B92: RESUMEN DE ASPECTOS E IMPACTOS AMBIENTALES SIGNIFICATIVOS | G92: Actualización: 04/04/2025
G93: Página 1 de 1
A94: Fecha: | C94: Responsable: ___________________________________________ | F94: OBJETIVO: VISUALIZAR LOS IMPACTOS CRITICOS Y MODERADOS PARA CADA UNA DE LAS AREAS, PARA SU DIFSION
A95: AREA: LIMPIEZA Y DESINFECCION
A96: ACTIVIDAD | B96: ASPECTO AMBIENTAL | C96: DESCRIPCIÓN DEL ASPECTO AMBIENTAL | D96: IMPACTO AMBIENTAL | E96: DESCRIPCIÓN DEL IMPACTO AMBIENTAL | F96: CONTROL OPERACIONAL | G96: CONDICIÓN AMBIENTAL | H96: NIVEL DE SIGNIFICANCIA
A97: Trituración y Destrucción | B97: Generación de vibraciones y ruido | C97: Ruido y Vibraciones generadas debido al la maquina trituradora | D97: Riesgos a la salud, contaminación del entorno, | E97: Exposiciones mayores de 5 horas seguidas puede provocar riesgos en la salud | F97: / | G97: Al no utilizar sus EEPS, se pueden generar riesgos futuros | H97: MODERADO
A98: Salida de material | B98: Generación de lixiviado | C98: Lixiviado generado por la trituradora | D98: Contaminación en el afluente | E98: Ocasiona contaminación del entorno si el vehículo sale en malas condiciones de la planta. | F98: Sistema de tratamiento de aguas residuales | G98: Lixiviado tratado por el sistema | H98: MODERADO
A99: AREA: LIMPIEZA Y DESINFECCION
A100: Limpieza y Desinfección de la planta. | B100: Residuos remanentes de descargue | C100: Residuos peligrosos remanentes de la descarga en planta | D100: Riesgos a la salud, contaminación del entorno, | E100: Afecta directamente al personal de lavado y el sistema de tratamiento | F100: Los operarios cuentan con los EPPS | G100: Estos residuos pueden generar factores de riesgo en el personal encargado de esta área | H100: MODERADO
A102: Gestion Documental.
A103: Líder área ambiental | E103: Líder Planeación
D1048568: Riesgos a la salud, contaminación del entorno,

Sheet Encuesta
C1: GESTION AMBIENTAL | H1: Código: GA-PR-01
H2: Versión: 001
C3: Encuesta de ruido y olores | H3: Actualización:19/05/2025
A5: FECHA DE REVISION | B5: DD | C5: MM | D5: AA | E5: Responsable:
A7: Encuesta de RUIDO al personal de la E.S.E. Hospital Regional Centro
A8: Pregunta: | F8: Si | G8: No | H8: Observación
A9: ¿Consideras que en tu puesto de trabajo, el ruido supone un riesgo grave para tu salud? | F9: 31 | G9: 115
A11: Pregunta: ¿Cual de las siguientes áreas consideras que genera más ruido? | F11: 1.Soportable sin protección | G11: 2.Soportable con protección | H11: 3.Insoportable sin protección | I11: 4.Insoportable con protección
A12: Descargue de material | F12: 112
A13: Almacenamiento de residuos | G13: 140
A14: Empaque y Amarre | F14: 34
A15: Esterilización
A16: Incineración
A17: RESPEL | H17: =146-H18 -> 61
A18: Destrucción y Trituración | H18: 85
A19: Lavado de vehículos | F19: 146
A20: Preguntas | F20: Si | G20: No | H20: Observación
A21: ¿La empresa ha hecho alguna vez exámenes auditivos? | G21: 100
A22: ¿Tienes alguna sugerencia para mejorar algún proceso de trabajo con la finalidad de disminuir el ruido intermitente en la fábrica?
A25: Nombre del Entrevistado:
A26: Firma:
A28: Líder de Gestion Ambiental.
C43: GESTION AMBIENTAL | H43: Código: GA-PR-01
H44: Versión: 001
C45: Encuesta de ruido y olores | H45: Actualización:19/05/2025
A47: FECHA DE REVISION | B47: DD | C47: MM | D47: AA | E47: Responsable:
A49: Encuesta para la comunidad.
A50: Pregunta: | F50: Si | G50: No | H50: Observación
A51: ¿Considera la ESE HRC genera mucho ruido, generando un riesgo grave para su salud? | F51: 4 | G51: 83
A52: ¿Considera la ESE HRC genera malos olores, afectando su salud y el entorno? | F52: 3 | G52: 84
A53: ¿Logra identificar que elementos generan mayor cantidad de ruido?
A54: ¿Logra identificar que elementos generan mayor cantidad de malos olores?
A55: ¿Alguna vez a identificado emisiones por la ESE HRC ? | H55: *Si su respuesta es SI. Contestar la pregunta X.
A56: X ¿Cada cuanto ocurre esto?, 4. toda la semana, 3. de dos a tres días. 2. algunas horas. 1. Solo por un par de minutos.
A57: ¿Puede describir alguna problemática generada la ESE HRC?
A59: Nombre del Entrevistado:
A60: Firma:
A62: Líder de Gestion Ambiental.

Sheet Criterios
A1: CRITERIOS PARA VALORACIÓN
A3: Prioridad ambiental | H3: =MAIA!H5 -> Control Operacional | O3: =MAIA!L5 -> Parte interesada | V3: =MAIA!Q5 -> Cumplimiento legal
A4: MAGNITUD: | B4: Gravedad del daño que puede causar al medio ambiente | H4: MAGNITUD: | I4: Gravedad del daño que puede causar al medio ambiente | O4: MAGNITUD: | P4: Gravedad del daño que puede causar al medio ambiente | V4: MAGNITUD: | W4: Gravedad del daño que puede causar al medio ambiente
B5: 5 | C5: Alta | D5: 0.3 | I5: 5 | J5: Alta | K5: 0.3 | P5: 5 | Q5: Alta | R5: 0.3 | W5: 5 | X5: Alta | Y5: 0.3
B6: 3 | C6: Media | I6: 3 | J6: Media | P6: 3 | Q6: Media | W6: 3 | X6: Media
B7: 1 | C7: Baja | I7: 1 | J7: Baja | P7: 1 | Q7: Baja | W7: 1 | X7: Baja
A9: CONTROL: | B9: Incidencia o posibilidad de intervenir el aspecto o impacto | H9: CONTROL: | I9: Incidencia o posibilidad de intervenir el aspecto o impacto | O9: CONTROL: | P9: Incidencia o posibilidad de intervenir el aspecto o impacto | V9: CONTROL: | W9: Incidencia o posibilidad de intervenir el aspecto o impacto
B10: 5 | C10: Control bajo | D10: 0.1 | I10: 5 | J10: Control bajo | K10: 0.1 | P10: 5 | Q10: Control bajo | R10: 0.1 | W10: 5 | X10: Control bajo | Y10: 0.1
B11: 3 | C11: Control medio | I11: 3 | J11: Control medio | P11: 3 | Q11: Control medio | W11: 3 | X11: Control medio
B12: 1 | C12: Control alto | I12: 1 | J12: Control alto | P12: 1 | Q12: Control alto | W12: 1 | X12: Control alto
A14: REQUISITO LEGAL: | C14: Se refiere a la legislacion ambiental que le aplica al aspecto | H14: REQUISITO LEGAL: | J14: Se refiere a la legislacion ambiental que le aplica al aspecto | O14: REQUISITO LEGAL: | Q14: Se refiere a la legislacion ambiental que le aplica al aspecto | V14: REQUISITO LEGAL: | X14: Se refiere a la legislacion ambiental que le aplica al aspecto
B15: 5 | C15: Existe y no se cumple | D15: 0.3 | I15: 5 | J15: Existe y no se cumple | K15: 0.3 | P15: 5 | Q15: Existe y no se cumple | R15: 0.3 | W15: 5 | X15: Existe y no se cumple | Y15: 0.3
B16: 2 | C16: Existe y se cumple | I16: 2 | J16: Existe y se cumple | P16: 2 | Q16: Existe y se cumple | W16: 2 | X16: Existe y se cumple
B17: 1 | C17: No existe requisito | I17: 1 | J17: No existe requisito | P17: 1 | Q17: No existe requisito | W17: 1 | X17: No existe requisito
A19: FRECUENCIA: | C19: Periodicidad con que ocurre o se genera el aspecto | H19: FRECUENCIA: | J19: Periodicidad con que ocurre o se genera el aspecto | O19: FRECUENCIA: | Q19: Periodicidad con que ocurre o se genera el aspecto | V19: FRECUENCIA: | X19: Periodicidad con que ocurre o se genera el aspecto
B20: 5 | C20: Alta | D20: 0.1 | I20: 5 | J20: Alta | K20: 0.1 | P20: 5 | Q20: Alta | R20: 0.1 | W20: 5 | X20: Alta | Y20: 0.1
B21: 3 | C21: Media | I21: 3 | J21: Media | P21: 3 | Q21: Media | W21: 3 | X21: Media
B22: 1 | C22: Baja | I22: 1 | J22: Baja | P22: 1 | Q22: Baja | W22: 1 | X22: Baja
A24: COMUNIDAD: | C24: Posibilidad que tiene el impacto de afectar a las partes interesadas | H24: COMUNIDAD: | J24: Posibilidad que tiene el impacto de afectar a las partes interesadas | O24: COMUNIDAD: | Q24: Posibilidad que tiene el impacto de afectar a las partes interesadas | V24: COMUNIDAD: | X24: Posibilidad que tiene el impacto de afectar a las partes interesadas
B25: 5 | C25: Alta | D25: 0.2 | I25: 5 | J25: Alta | K25: 0.2 | P25: 5 | Q25: Alta | R25: 0.2 | W25: 5 | X25: Alta | Y25: 0.2
B26: 3 | C26: Media | I26: 3 | J26: Media | P26: 3 | Q26: Media | W26: 3 | X26: Media
B27: 1 | C27: Baja | I27: 1 | J27: Baja | P27: 1 | Q27: Baja | W27: 1 | X27: Baja
A28: CALIFICACIÓN
A30: Se asigna valor a cada aspecto
A31: Se multiplica el valor asignado por el porcentaje de ponderación
A32: Se suman las filas
A33: Si el valor de la sumatoria final por fila es igual o mayor a dos se establece que el aspecto es significativo, de lo contrario no
