Workbook

Sheet Instructivo
B2: EVALUACIÓN INDEPENDIENTE SISTEMA DE CONTROL INTERNO Entidades Pequeñas (instrucciones para su diligenciamiento)
B3: Teniendo en cuenta que con la expedición del Decreto 1499 de 2017 “Por medio del cual se modifica el Decreto 1083 de 2015, Decreto Único Reglamentario del Sector Función Pública, en lo relacionado con el Sistema de Gestión establecido en el artículo 133 de la Ley 1753 de 2015”, se crea un solo Sistema de Gestión y se alinea con el Sistema de Control Interno, hoy todas las entidades públicas requieren actualizar y/o implementar el Modelo Integrado de Planeación y Gestión MIPG, modelo que incorpora el Modelo Estándar de Control Interno MECI a través de la 7a dimensión del mismo. Esta estructura requiere de un análisis articulado frente al desarrollo de las políticas de gestión y desempeño contenidas en el modelo y su efectividad en relación con la estructura de control, este útlimo, aspecto esecial para garantizar el buen manejo de los recursos, que las metas y objetivos se cumplan y se mejore la prestación del servicio a los usuarios, ejes fundamentales para la generación de valor público. Teniendo en cuenta lo anterior y dada la necesidad de dar cumplimiento a la dispuesto en el articulo 156 del Decreto 2106 de 2019, el presente formatobusca que las entidades cuenten con una herramienta para evaluar sus Sistemas de Control Interno de manera integral y permitirle al Jefe de Control Interno o quien haga sus veces llevar a cabo el informe de evaluación independiente sobre el mismo para su publicación cada seis (6) meses, en el sitio web de la entidad. La estructura propuesta es diferencial para aquellas entidades de municipios de 6a categoría (Personerías y Concejos Municipales) que son entidades con 1 y hasta 5 servidores en sus plantas de personal. Estas entidades deben tener en cuenta que de acuerdo con el parágrafo del artículo ARTÍCULO 2.2.22.2.1. del Decreto 1499 de 2017, las políticas de gestión y desempeño contenidas en el Modelo Integrado de Planeación y Gestión MIPG, deben ser aplicadas acorde con las normas que las regulan, por lo que deben analizar dichas políticas e implementarlas en armonía con el MECI.
B5: Orientaciones Generales
B6: El archivo contiene las siguientes hojas: - 1 Pestaña que desarrolla la estructura para evaluar el estado del Sistema de Control Interno: Se desagrega en "Ambiente de Control", "Evaluación de riesgos", "Actividades de control", "Información y Comunicación", y " Actividades de Monitoreo", componentes actuales del Modelo Estándar de Control Interno MECI. La estructura es la siguiente para el diligenciamiento:
C9: Columna | E9: Descripción
C10: Componente del MECI asociado | E10: Esta columna define los componentes del MECI.
C11: Lineamiento General por Componente | E11: En esta columna establece el lineamientos general para cada uno de los componentes del MECI
C12: Requerimiento Asociado al Componente | E12: Se muestran una serie de preguntas con 3 opciones de respuesta así: 1. SI 2.NO 3. EN PROCESO
C13: Evidencia de Seguimiento al Control | E13: Establezca actividades adelantadas de aplicación del documento o elemento antes identificado (esto cuando se responde SI o bien EN PROCESO)
B15: - Análisis de Resultados: Esta hoja permite consolidar los resultados para cada componente evaluado.
C16: Clasificación | E16: Observaciones del Control
C17: Mantenimiento del Control | E17: Existe requerimiento pero se requiere actividades dirigidas a su mantenimiento dentro del marco de las lineas de defensa.
C18: Oportunidad de Mejora | E18: Se encuentra en proceso, pero requiere continuar con acciones dirigidas a contar con dicho aspecto de control
C19: Deficiencia del Control | E19: No se encuentra el aspecto por lo tanto la entidad debera generar acciones dirigidas a que se cumpla con el requerimiento .
B22: - Conclusiones: Esta hoja permite establecer el estado del Sistema de Control Interno evaluado, información a partir de la cual se definen las acciones de mejora correspondientes. Esta hoja será el informe para publicación en página web, o bien para ubicar en un lugar visible en la sede de la entidad (esto para aquellas que no cuentan con conectividad o página web en operación).

Sheet Estado SCI
B14: MEDICION ESTADO DEL SISTEMA DE CONTROL INTERNO EN LA ENTIDAD
B15: No. | C15: Componente del MECI asociado | D15: Lineamiento General por Componente | E15: Literal | F15: Requerimiento asociado al componente | G15: Seguimiento al control (Si, No, En proceso) | H15: Evidencia de seguimiento al control (Establezca actividades adelantadas de aplicación del documento o elemento antes identificado, esto cuando se responde SI o bien EN PROCESO | I15: Evaluación
A16: =1&E16 -> 1a | B16: 1 | C16: AMBIENTE DE CONTROL | D16: El ambiente de control institucional está integrado por todas esas condiciones mínimas que debe garantizar cualquier entidad pública para el ejercicio del control interno. Para el caso de su entidad indique si se cuenta con: | E16: a | F16: Documento interno o adopción del MECI actualizado | G16: No | H16: NO SE HA EFECTUADO ACTO ADMINISTRATIVO PARA LA ADOPCIÓN DEL MODELO ESTANDAR DE CONTROL INTERNO- MECI-. | I16: =+IF(G16="Si","Mantenimiento del control",IF(G16="En proceso","Oportunidad de mejora","Deficiencia de control")) -> Deficiencia de control | J16: =+IF(G16="Si",20,IF(G16="En proceso",10,0)) -> 0 | K16: 0.123 | L16: =+J16+K16 -> 0.123
A17: =1&E17 -> 1b | E17: b | F17: Un documento tal como un código de ética, integridad u otro que formalice los estándares de conducta, los principios institucionales o los valores del servicio público | G17: Si | H17: PUBLICACIÓN DEL CÓDIGO DE ÉTICA Y/ O CÓDIGO DE INTEGRIDAD EN LA PÁGINA WEB INSTITUCIONAL. | I17: =+IF(G17="Si","Mantenimiento del control",IF(G17="En proceso","Oportunidad de mejora","Deficiencia de control")) -> Mantenimiento del control | J17: =+IF(G17="Si",20,IF(G17="En proceso",10,0)) -> 20 | K17: 0.1234 | L17: =+J17+K17 -> 20.1234
A18: =1&E18 -> 1c | E18: c | F18: Planes, programas y proyectos de acuerdo con las normas que rigen y atendiendo con su propósito fundamental institucional (misión) | G18: Si | H18: PLAN DE DESARROLLO INSTITUCIONAL Y, PLAN DE GESTIÓN. | I18: =+IF(G18="Si","Mantenimiento del control",IF(G18="En proceso","Oportunidad de mejora","Deficiencia de control")) -> Mantenimiento del control | J18: =+IF(G18="Si",20,IF(G18="En proceso",10,0)) -> 20 | K18: 0.12345 | L18: =+J18+K18 -> 20.12345
A19: =1&E19 -> 1d | E19: d | F19: Una estructura organizacional formalizada (organigrama) | G19: Si | H19: ORGANIGRAMA APROBADO POR JUNTA DIRECTIVA DE LA ESE, REQUIERE ACTUALIZACIÓN. | I19: =+IF(G19="Si","Mantenimiento del control",IF(G19="En proceso","Oportunidad de mejora","Deficiencia de control")) -> Mantenimiento del control | J19: =+IF(G19="Si",20,IF(G19="En proceso",10,0)) -> 20 | K19: 0.123456 | L19: =+J19+K19 -> 20.123456
A20: =1&E20 -> 1e | E20: e | F20: Un manual de funciones que describa los empleos de la entidad | G20: En proceso | H20: MANUAL DE FUNCIONES MODIFICADO MEDIANTE ACUERDO No.004 DE MAYO DEL 2019, APROBADO POR JUNTA DIRECTIVA, ACTUALMENTE DESACTUALIZADO. | I20: =+IF(G20="Si","Mantenimiento del control",IF(G20="En proceso","Oportunidad de mejora","Deficiencia de control")) -> Oportunidad de mejora | J20: =+IF(G20="Si",20,IF(G20="En proceso",10,0)) -> 10 | K20: 0.12345678 | L20: =+J20+K20 -> 10.123457
A21: =1&E21 -> 1f | E21: f | F21: La documentación de sus procesos y procedimientos o bien una lista de actividades principales que permitan conocer el estado de su gestión | G21: En proceso | H21: LOS PROCESOS Y PROCEDIMIENTOS, SE ENCUENTRAN DOCUMENTADOS, LOS CUALES REQUIEREN RETROALIMENTACIÓN; IGUALMENTE, EXISTE EL DRIVE Y, CARACTERIZADOR DE PROCESOS POR ÁREAS. | I21: =+IF(G21="Si","Mantenimiento del control",IF(G21="En proceso","Oportunidad de mejora","Deficiencia de control")) -> Oportunidad de mejora | J21: =+IF(G21="Si",20,IF(G21="En proceso",10,0)) -> 10 | K21: 0.12345679 | L21: =+J21+K21 -> 10.123457
A22: =1&E22 -> 1g | E22: g | F22: Vinculación de los servidores públicos de acuerdo con el marco normativo que les rige (carrera administrativa, libre nombramiento y remoción, entre otros) | G22: Si | H22: ACTOS ADMINISTRTIVOS DE NOMBRANIENTO Y DE POSESIÓN DE LOS FUNCIONARIOS VINCULADOS A LA INSTITUCIÓN, BIEN SEAN A LA PLANTA CENTRAL O COMO PROFESIONALES DE SERVICIO SOCIAL OBLIGATORIO- SSO- EN EL ÁREA ASISTENCIAL. | I22: =+IF(G22="Si","Mantenimiento del control",IF(G22="En proceso","Oportunidad de mejora","Deficiencia de control")) -> Mantenimiento del control | J22: =+IF(G22="Si",20,IF(G22="En proceso",10,0)) -> 20 | K22: 0.12345679 | L22: =+J22+K22 -> 20.123457
A23: =1&E23 -> 1h | E23: h | F23: Procesos de inducción, capacitación y bienestar social para sus servidores públicos, de manera directa o en asociación con otras entidades municipales | G23: Si | H23: PROGRAMA INSTITUCIONAL DE CAPACITACIÓN Y, DE BIENESTAR SOCIAL, PROCESO DE INDUCCIÓN A NUEVOS FUNCIONARIOS Y, CAPACITACIONES VIRTUALES Y/O PRESENCIALES CONJUNTAMENTE CON LA ARL POSITIVA, LIDERADOS POR EL ÁREA DE SEGURIDAD Y SALUD EN EL TRABAJO. | I23: =+IF(G23="Si","Mantenimiento del control",IF(G23="En proceso","Oportunidad de mejora","Deficiencia de control")) -> Mantenimiento del control | J23: =+IF(G23="Si",20,IF(G23="En proceso",10,0)) -> 20 | K23: 0.12345679 | L23: =+J23+K23 -> 20.123457
A24: =1&E24 -> 1i | E24: i | F24: Evaluación a los servidores públicos de acuerdo con el marco normativo que le rige | G24: No | H24: SE VERIFICO QUE NO SE PROCEDIO A LA EVALUACIÓN DE LOS SERVIDORES PÚBLICOS DE CARRERA ADMINISTRATIVA VINCULADOS A LA ENTIDAD, DURENTE LA VIGENCIA FISCAL 2024, POR PARTE DEL JEFE DE TALENTO HUMANO DE LA ENTIDAD. | I24: =+IF(G24="Si","Mantenimiento del control",IF(G24="En proceso","Oportunidad de mejora","Deficiencia de control")) -> Deficiencia de control | J24: =+IF(G24="Si",20,IF(G24="En proceso",10,0)) -> 0 | K24: 0.12345679 | L24: =+J24+K24 -> 0.12345679
A25: =1&E25 -> 1j | E25: j | F25: Procesos de desvinculación de servidores de acuerdo con lo previsto en la Constitución Política y las leyes | G25: Si | H25: DESVINCULACIÓN DE FUNCIONARIOS, CUANDO ADQUIEREN EL STATUS DE JUBILACIÓN, PREVIO CUMPLIMIENTO DE LA NORMATIVIDAD LEGAL VIGENTE EN LA MATERIA, ASIMISMO, POR TERMINACIÓN DE S.S.O. | I25: =+IF(G25="Si","Mantenimiento del control",IF(G25="En proceso","Oportunidad de mejora","Deficiencia de control")) -> Mantenimiento del control | J25: =+IF(G25="Si",20,IF(G25="En proceso",10,0)) -> 20 | K25: 0.12345679 | L25: =+J25+K25 -> 20.123457
A26: =1&E26 -> 1k | E26: k | F26: Mecanismos de rendición de cuentas a la ciudadanía | G26: Si | H26: PROCESO DE RENDICIÓN DE CUENTAS CORRESPONDIENTE A LA VIGENCIA 2023, RENDICIÓN EFECTUADA DURANTE EL MES DE MARZO/2024. | I26: =+IF(G26="Si","Mantenimiento del control",IF(G26="En proceso","Oportunidad de mejora","Deficiencia de control")) -> Mantenimiento del control | J26: =+IF(G26="Si",20,IF(G26="En proceso",10,0)) -> 20 | K26: 0.12345679 | L26: =+J26+K26 -> 20.123457
A27: =1&E27 -> 1l | E27: l | F27: Presentación oportuna de sus informes de gestión a las autoridades competentes | G27: Si | H27: EVALUACIÓN INDICADORES DE GESTIÓN VIGENCIA 2023, POR PARTE DE LA JUNTA DIRECTIVA DE LA ESE, ASI COMO LA PRESENTACIÓN TRIMESTRAL DEL INFORME DE RIPS, POR PARTE DE LA GERENCIA Y SU EQUIPO DEL ÁREA DE CALIDAD,. | I27: =+IF(G27="Si","Mantenimiento del control",IF(G27="En proceso","Oportunidad de mejora","Deficiencia de control")) -> Mantenimiento del control | J27: =+IF(G27="Si",20,IF(G27="En proceso",10,0)) -> 20 | K27: 0.12345679 | L27: =+J27+K27 -> 20.123457
A28: =2&E28 -> 2a | B28: 2 | C28: EVALUACION DEL RIESGO | D28: Toda entidad debe identificar, evaluar y gestionar eventos potenciales, tanto internos como externos, que puedan afectar el logro de los objetivos institucionales. Para el caso de su entidad indique si se cuenta con: | E28: a | F28: Identificación de cambios en su entorno que pueden generar consecuencias negativas en su gestión | G28: Si | H28: ANALISIS DE FACTORES INTERNOS Y EXTERNOS, QUE AFECTEN O IMPIDAN EL CUMPLIMIENTO DE LOS OBJETIVOS INSTITUCIONALES. | I28: =+IF(G28="Si","Mantenimiento del control",IF(G28="En proceso","Oportunidad de mejora","Deficiencia de control")) -> Mantenimiento del control | J28: =+IF(G28="Si",40,IF(G28="En proceso",30,20)) -> 40 | K28: 0.23 | L28: =+J28+K28 -> 40.23
A29: =2&E29 -> 2b | E29: b | F29: Identificación de aquellos problemas o aspectos que pueden afectar el cumplimiento de los planes de la entidad y en general su gestión institucional (riesgos) | G29: En proceso | H29: SE REQUIERE POR PARTE DEL ÁREA DE PLANEACIÓN, LA IDENTIFICACIÓN DE RIESGOS QUE, IMPIDAN EL CUMPLIMIENTO DE LA GESTIÓN INSTITUCIONAL. | I29: =+IF(G29="Si","Mantenimiento del control",IF(G29="En proceso","Oportunidad de mejora","Deficiencia de control")) -> Oportunidad de mejora | J29: =+IF(G29="Si",40,IF(G29="En proceso",30,20)) -> 30 | K29: 0.234 | L29: =+J29+K29 -> 30.234
A30: =2&E30 -> 2c | E30: c | F30: Identificación de los riesgos relacionados con posibles actos de corrupción en el ejercicio de sus funciones | G30: En proceso | H30: EVALUACIÓN Y SEGUIMIENTO PLAN ANTICORRUPCIÓN Y DE ATENCIÓN AL CIUDADANO, PUBLICADO EN LA PÁGINA WEB. | I30: =+IF(G30="Si","Mantenimiento del control",IF(G30="En proceso","Oportunidad de mejora","Deficiencia de control")) -> Oportunidad de mejora | J30: =+IF(G30="Si",40,IF(G30="En proceso",30,20)) -> 30 | K30: 0.2345 | L30: =+J30+K30 -> 30.2345
A31: =2&E31 -> 2d | E31: d | F31: Si su capacidad e infraestructura lo permite, identificación de riesgos asociados a las tecnologías de la información y las comunicaciones | G31: No | H31: DEFICIENCIAS EN LA RED DE CONECTIVIDAD EN CADA UNA DE LAS IPS, ATRIBUIBLES A FACTORES GEOGRÁFICOS Y DE CONECTIVIDAD EN CADA UNO DE LOS MUNICIPIOS QUE CONFORMAN LA ESE. NO EXISTE DOCUMENTO RELACIONADO CON RIESGOS ASOCIADOS A LAS TECNOLOGÍAS DE LA INFORMACIÓN Y COMUNICACIONES. | I31: =+IF(G31="Si","Mantenimiento del control",IF(G31="En proceso","Oportunidad de mejora","Deficiencia de control")) -> Deficiencia de control | J31: =+IF(G31="Si",40,IF(G31="En proceso",30,20)) -> 20 | K31: 0.23456 | L31: =+J31+K31 -> 20.23456
A32: =3&E32 -> 3a | B32: 3 | C32: EVALUACION DEL RIESGO | D32: Los líderes de los programas, proyectos, o procesos de la entidad junto con sus equipos de trabajo: | E32: a | F32: Hacen seguimiento a los problemas (riesgos) que pueden afectar el cumplimiento de sus procesos, programas o proyectos a cargo | G32: Si | H32: REUNIONES TRIMESTRALES Y SUSCRIPCIÓN DE ACTAS DE LOS COMITES INSTITUCIONALES DEL ÁREA ASISTENCIAL Y ADMINISTRATIVA, QUE SE ENCUENTRAN EN OPERATIVIDAD EN LA ESE HOSPITAL REGIONAL CENTRO. | I32: =+IF(G32="Si","Mantenimiento del control",IF(G32="En proceso","Oportunidad de mejora","Deficiencia de control")) -> Mantenimiento del control | J32: =+IF(G32="Si",40,IF(G32="En proceso",30,20)) -> 40 | K32: 0.234567 | L32: =+J32+K32 -> 40.234567
A33: =3&E33 -> 3b | E33: b | F33: Informan de manera periódica a quien corresponda sobre el desempeño de las actividades de gestión de riesgos | G33: En proceso | H33: SE ANALIZAN PERIODICAMENTE EN LAS REUNIONES CON LA ALTA DIRECCIÓN Y EN EL COMITÉ INSTITUCIONAL COORDINADOR DE CONTROL INTERNO. | I33: =+IF(G33="Si","Mantenimiento del control",IF(G33="En proceso","Oportunidad de mejora","Deficiencia de control")) -> Oportunidad de mejora | J33: =+IF(G33="Si",40,IF(G33="En proceso",30,20)) -> 30 | K33: 0.2345678 | L33: =+J33+K33 -> 30.234568
A34: =3&E34 -> 3c | E34: c | F34: Identifican deficiencias en las maneras de controlar los riesgos o problemas en sus procesos, programas o proyectos, y propone los ajustes necesarios | G34: Si | H34: SI, SE RETROALIMENTAN LOS PROCESOS, IGUALMENTE, SE ANALIZAN LOS CONTROLES ESTABLECIDOS PARA LA MITIGACIÓN DE RIESGOS. | I34: =+IF(G34="Si","Mantenimiento del control",IF(G34="En proceso","Oportunidad de mejora","Deficiencia de control")) -> Mantenimiento del control | J34: =+IF(G34="Si",40,IF(G34="En proceso",30,20)) -> 40 | K34: 0.23456789 | L34: =+J34+K34 -> 40.234568
A35: =4&E35 -> 4a | B35: 4 | C35: EVALUACION DEL RIESGO | D35: Para el manejo de los problemas que afectan el cumplimiento de las metas u objetivos institucionales (riesgos), el jefe de control interno o quien haga sus veces, ha podido evidenciar si en la entidad: | E35: a | F35: Se definen espacios de reunión para conocerlos y proponer acciones para su solución | G35: Si | H35: REUNIONES CON SUS RESPECTIVAS ACTAS, DEL COMITÉ INSTITUCIONAL DE COORDINACIÓN DE CONTROL INTERNO Y, DEL COMITÉ INSTITUCIONES DE GESTIÓN Y DESEMPEÑO. | I35: =+IF(G35="Si","Mantenimiento del control",IF(G35="En proceso","Oportunidad de mejora","Deficiencia de control")) -> Mantenimiento del control | J35: =+IF(G35="Si",40,IF(G35="En proceso",30,20)) -> 40 | K35: 0.23456789 | L35: =+J35+K35 -> 40.234568
A36: =4&E36 -> 4b | E36: b | F36: Cada líder del equipo autónomamente toma las acciones para solucionarlos. | G36: En proceso | H36: LAS DEFICIENCIAS OBSERVADAS, SON EVALUADAS EN EL COMITÉ INSTITUCIONAL DE CONTROL INTERNO Y, EN EL COMITÉ INSTITUCIONAL DE GESTIÓN Y DESEMPEÑO. | I36: =+IF(G36="Si","Mantenimiento del control",IF(G36="En proceso","Oportunidad de mejora","Deficiencia de control")) -> Oportunidad de mejora | J36: =+IF(G36="Si",40,IF(G36="En proceso",30,20)) -> 30 | K36: 0.23456789 | L36: =+J36+K36 -> 30.234568
A37: =4&E37 -> 4c | E37: c | F37: Solamente hasta que un organismo de control actúa se definen acciones de mejora. | G37: Si | H37: INFORMES DE AUDITORIA INTERNA Y EXTERNA, Y DE ORGANISMOS DE CONTROL. | I37: =+IF(G37="Si","Mantenimiento del control",IF(G37="En proceso","Oportunidad de mejora","Deficiencia de control")) -> Mantenimiento del control | J37: =+IF(G37="Si",40,IF(G37="En proceso",30,20)) -> 40 | K37: 0.23456789 | L37: =+J37+K37 -> 40.234568
A38: =5&E38 -> 5a | B38: 5 | C38: ACTIVIDADES DE CONTROL | D38: Una vez identificados los problemas que afectan el cumplimiento de los planes de la entidad o su gestión institucional, la entidad debe diseñar los controles o mecanismos para darles tratamiento. Para el caso de su entidad indique si se cuenta con: | E38: a | F38: La definición de acciones o actividades para para dar tratamiento a los problemas identificados (mitigación de riesgos), incluyendo aquellos asociados a posibles actos de corrupción | G38: Si | H38: MATRIZ DE RIESGOS DE CORRUPCIÓN Y, PLAN ANTICORRUPCIÓN Y DE ATENCIÓN AL CIUDADANO. | I38: =+IF(G38="Si","Mantenimiento del control",IF(G38="En proceso","Oportunidad de mejora","Deficiencia de control")) -> Mantenimiento del control | J38: =+IF(G38="Si",60,IF(G38="En proceso",50,40)) -> 60 | K38: 0.31 | L38: =+J38+K38 -> 60.31
A39: =5&E39 -> 5b | E39: b | F39: Mecanismos de verificación de si se están o no mitigando los riesgos, o en su defecto, elaboración de planes de contingencia para subsanar sus consecuencias | G39: En proceso | H39: MEDIANTE EVALUACIÓN Y SEGUIMIENTO A LA MATRIZ DE RIESGOS Y, A LOS PLANES DE MEJORAMIENTO SUSCRITOS. | I39: =+IF(G39="Si","Mantenimiento del control",IF(G39="En proceso","Oportunidad de mejora","Deficiencia de control")) -> Oportunidad de mejora | J39: =+IF(G39="Si",60,IF(G39="En proceso",50,40)) -> 50 | K39: 0.323 | L39: =+J39+K39 -> 50.323
A40: =5&E40 -> 5c | E40: c | F40: Planes, acciones o estrategias que permitan subsanar las consecuencias de la materialización de los riesgos, cuando se presentan | G40: En proceso | H40: ANALISIS Y RETROALIMENTACIÓN DE LA MATRIZ DE RIEGOS. | I40: =+IF(G40="Si","Mantenimiento del control",IF(G40="En proceso","Oportunidad de mejora","Deficiencia de control")) -> Oportunidad de mejora | J40: =+IF(G40="Si",60,IF(G40="En proceso",50,40)) -> 50 | K40: 0.324 | L40: =+J40+K40 -> 50.324
A41: =5&E41 -> 5d | E41: d | F41: Un documento que consolide los riesgos y el tratamiento que se les da, incluyendo aquellos que conllevan posibles actos de corrupción y si la capacidad e infraestructura lo permite, los asociados con las tecnologías de la información y las comunicaciones | G41: En proceso | H41: RETROALIMENTACIÓN POR PARTE DEL ÁREA DE PLANEACIÓN DE LA MATRIZ DE RIEGOS. | I41: =+IF(G41="Si","Mantenimiento del control",IF(G41="En proceso","Oportunidad de mejora","Deficiencia de control")) -> Oportunidad de mejora | J41: =+IF(G41="Si",60,IF(G41="En proceso",50,40)) -> 50 | K41: 0.325 | L41: =+J41+K41 -> 50.325
A42: =5&E42 -> 5e | E42: e | F42: Un plan anticorrupción y de servicio al ciudadano con los temas que le aplican, publicado en algún medio para conocimiento de la ciudadanía | G42: Si | H42: PLAN ANTICORRUPCIÓN Y DE ATENCIÓN AL CIUDADANO, PUBLICADO EN LA PÁGINA WEB INSTITUCIONAL. | I42: =+IF(G42="Si","Mantenimiento del control",IF(G42="En proceso","Oportunidad de mejora","Deficiencia de control")) -> Mantenimiento del control | J42: =+IF(G42="Si",60,IF(G42="En proceso",50,40)) -> 60 | K42: 0.326 | L42: =+J42+K42 -> 60.326
A43: =6&E43 -> 6a | B43: 6 | C43: INFORMACION Y COMUNICACIÓN | D43: Las entidades deben procurar, de acuerdo con sus propias capacidades internas, que la información y la comunicación que requiere para su gestión y control interno fluya de manera clara. Acorde con lo anterior, indique si se cuenta con: | E43: a | F43: Responsables de la información institucional | G43: Si | H43: GERENCIA, ÁREA DE CONTABILIDAD, PRESUPUESTO, ÁREA DE SIAU Y ESTADISTICA, CONTRATACIÓN, JURIDICA, CALIDAD, CONTROL INTERNO. | I43: =+IF(G43="Si","Mantenimiento del control",IF(G43="En proceso","Oportunidad de mejora","Deficiencia de control")) -> Mantenimiento del control | J43: =+IF(G43="Si",80,IF(G43="En proceso",70,60)) -> 80 | K43: 0.412 | L43: =+J43+K43 -> 80.412
A44: =6&E44 -> 6b | E44: b | F44: Canales de comunicación con los ciudadanos | G44: Si | H44: CORREOS ELECTRONICOS, PÁGINA WEB INSTITUCIONAL,FACEBOOK.COM E INSTAGRAM.COM/ESECENTRO. | I44: =+IF(G44="Si","Mantenimiento del control",IF(G44="En proceso","Oportunidad de mejora","Deficiencia de control")) -> Mantenimiento del control | J44: =+IF(G44="Si",80,IF(G44="En proceso",70,60)) -> 80 | K44: 0.4123 | L44: =+J44+K44 -> 80.4123
A45: =6&E45 -> 6c | E45: c | F45: Canales de comunicación o mecanismos de reporte de información a otros organismos gubernamentales o de control | G45: Si | H45: INFORME TRIMESTRAL DECRETO 2193/2004, EN PLATAFORMA SIHO- MINISTERIO DE SALUD Y PROTECCIÓN SOCIAL , PLATAFORMA SIA OBSERVA- CONTRALORIA GENERAL DEL DPTO NORTE DE SANTANDER- INFORME A LA PLATAFORMA CUIPO- CONTADURÍA GENERAL DE LA NACIÓN, INFORME A LA PLATAFORMA PISIS DEL MINISTERIO DE SALUD Y, CHIP DE LA CONTADURÍA GENERAL DE LA NACIÓN. | I45: =+IF(G45="Si","Mantenimiento del control",IF(G45="En proceso","Oportunidad de mejora","Deficiencia de control")) -> Mantenimiento del control | J45: =+IF(G45="Si",80,IF(G45="En proceso",70,60)) -> 80 | K45: 0.41234 | L45: =+J45+K45 -> 80.41234
A46: =6&E46 -> 6d | E46: d | F46: Lineamientos para dar tratamiento a la información de carácter reservado | G46: En proceso | H46: NO SE HA EXPEDIDO ACTO ADMINISTRATIVO PARA TRATAMIENTO DE LA INFORMACIÓN DE CARÁCTER RESERVADO. SIN EMBARGO EXISTEN LINEAMIENTOS PARA TAL FIN, EN LA CONFIDENCIALIDAD EN LOS PROCESOS DE FACTURACIÓN Y MANEJO DE HISTORIAS CLINICAS. | I46: =+IF(G46="Si","Mantenimiento del control",IF(G46="En proceso","Oportunidad de mejora","Deficiencia de control")) -> Oportunidad de mejora | J46: =+IF(G46="Si",80,IF(G46="En proceso",70,60)) -> 70 | K46: 0.412345 | L46: =+J46+K46 -> 70.412345
A47: =6&E47 -> 6e | E47: e | F47: Identificación de información que produce en el marco de su gestión (Para los ciudadanos, organismos de control, organismos gubernamentales, entre otros) | G47: Si | H47: LA INFORMACIÓN GENERADA ES DE CARÁCTER PUBLICA, DE CONOCIMIENTO DE LOS CIUDADANOS, COMUNIDAD EN GENERAL Y, ORGANOS DE CONTROL, QUE LA REQUIERAN. | I47: =+IF(G47="Si","Mantenimiento del control",IF(G47="En proceso","Oportunidad de mejora","Deficiencia de control")) -> Mantenimiento del control | J47: =+IF(G47="Si",80,IF(G47="En proceso",70,60)) -> 80 | K47: 0.4123456 | L47: =+J47+K47 -> 80.412346
A48: =6&E48 -> 6f | E48: f | F48: Identificación de información necesaria para la operación de la entidad (normograma, presupuesto, talento humano, infraestructura física y tecnológica) | G48: Si | H48: LA INFORMACIÓN GENERADA EN LA ESE, SE ENCUENTRA PLENAMENTE IDENTICADA POR CADA UNA DE LAS ÁREAS, DE ACUERDO A SU ÁMBITO DE COMPETENCIA. | I48: =+IF(G48="Si","Mantenimiento del control",IF(G48="En proceso","Oportunidad de mejora","Deficiencia de control")) -> Mantenimiento del control | J48: =+IF(G48="Si",80,IF(G48="En proceso",70,60)) -> 80 | K48: 0.41234567 | L48: =+J48+K48 -> 80.412346
A49: =6&E49 -> 6g | E49: g | F49: Si su capacidad e infraestructura lo permite, tecnologías de la información y las comunicaciones que soporten estos procesos | G49: No | H49: NO EXISTE UN PROCESO DOCUMENTADO PARA TAL FIN. | I49: =+IF(G49="Si","Mantenimiento del control",IF(G49="En proceso","Oportunidad de mejora","Deficiencia de control")) -> Deficiencia de control | J49: =+IF(G49="Si",80,IF(G49="En proceso",70,60)) -> 60 | K49: 0.41234568 | L49: =+J49+K49 -> 60.412346
A50: =7&E50 -> 7a | B50: 7 | C50: ACTIVIDADES DE MONITOREO | D50: Las entidades deben valorar: la eficiencia y eficacia de su gestión y la efectividad del control interno de la entidad pública con el propósito de detectar desviaciones y generar recomendaciones para la mejora. Para el caso de su entidad indique si se cuenta con: | E50: a | F50: Mecanismos de evaluación de la gestión (cronogramas, indicadores, listas de chequeo u otros) | G50: Si | H50: EVALUACIÓN DE INDICADORES DE GESTIÓN, DE CONFORMIDAD A LO ESTABLECIDO EN LA RESOLUCIÓN No. 000408 DEL 15 FEBRERO DE 2018, EMANADA DEL MINISTERIO DE SALUD Y PROTECIÓN SOCIAL.. | I50: =+IF(G50="Si","Mantenimiento del control",IF(G50="En proceso","Oportunidad de mejora","Deficiencia de control")) -> Mantenimiento del control | J50: =+IF(G50="Si",120,IF(G50="En proceso",100,80)) -> 120 | K50: 0.851 | L50: =+J50+K50 -> 120.851
A51: =7&E51 -> 7d | E51: d | F51: Algún mecanismo para monitorear o supervisar el sistema de control interno institucional, ya sea por parte del representante legal, o del área de control interno (si la entidad cuenta con ella), o bien a través del Comité departamental o municipal de Auditoría. | G51: Si | H51: MONITOREO Y EVALUACIÓN, A TRAVÉS DEL COMITÉ INSTITUCIONAL DE COORDINACIÓN CONTROL INTERNO, ASIMISMO, SEGUIMIENTO Y EVALUACIÓN AL PLAN ANUAL DE AUDITORIAS,CONJUNTAMENTECON LOS INFORMES DE EVALUACIÓN INDEPENDIENTE DEL ESTADO DEL SISTEMA DE CONTROL INTERNO. | I51: =+IF(G51="Si","Mantenimiento del control",IF(G51="En proceso","Oportunidad de mejora","Deficiencia de control")) -> Mantenimiento del control | J51: =+IF(G51="Si",120,IF(G51="En proceso",100,80)) -> 120 | K51: 0.8512 | L51: =+J51+K51 -> 120.8512
A52: =7&E52 -> 7f | E52: f | F52: Medidas correctivas en caso de detectarse deficiencias en los ejercicios de evaluación, seguimiento o auditoría | G52: Si | H52: ELABORACIÓN DE PLANES DE MEJORAMIENTO. | I52: =+IF(G52="Si","Mantenimiento del control",IF(G52="En proceso","Oportunidad de mejora","Deficiencia de control")) -> Mantenimiento del control | J52: =+IF(G52="Si",120,IF(G52="En proceso",100,80)) -> 120 | K52: 0.85123 | L52: =+J52+K52 -> 120.85123
A53: =7&E53 -> 7g | E53: g | F53: Seguimiento a los planes de mejoramiento suscritos con instancias de control internas o externas | G53: Si | H53: LA OFICINA DE CONTROL INTERNO, REALIZA SEGUIMIENTO A LOS PLANES DE MEJORAMIENTO, SUSCRITOS POR LA ENTIDAD Y, RINDE INFORME A LA CONTRALORÍA GENERAL DEL DEPARTEMENTO NORTE DE SANTANDER, SOBRE EL CUMPLIMIENTO DE LAS ACCIONES CORRECTIVAS. | I53: =+IF(G53="Si","Mantenimiento del control",IF(G53="En proceso","Oportunidad de mejora","Deficiencia de control")) -> Mantenimiento del control | J53: =+IF(G53="Si",120,IF(G53="En proceso",100,80)) -> 120 | K53: 0.851234 | L53: =+J53+K53 -> 120.85123
...

Sheet Análisis Resultados
C7: ANÁLISIS DE RESULTADOS PARA LA TOMA DE DECISIONES
C9: Clasificación | E9: Observaciones del Control
C10: Mantenimiento del Control | E10: Existe requerimiento pero se requiere actividades dirigidas a su mantenimiento dentro del marco de las lineas de defensa. | H10: 1
C11: Oportunidad de Mejora | E11: Se encuentra en proceso, pero requiere continuar con acciones dirigidas a contar con dicho aspecto de control. | G11: Se encuentra presente y funcionando, pero requiere mejoras frente a su diseño, ya que opera de manera efectiva | H11: 0.75
C12: Deficiencia del Control | E12: No se encuentra el aspecto por lo tanto la entidad debera generar acciones dirigidas a que se cumpla con el requerimiento. | H12: 0.25
C17: RESULTADOS | D17: FUENTE DEL ANALISIS | F17: Seguimiento al control | G17: OBSERVACIONES DEL CONTROL | I17: NIVEL DE CUMPLIMIENTO-ASPECTOS PARTICULARES POR COMPONENTE | J17: NIVEL DE CUMPLIMIENTO COMPONENTE
D18: componente | E18: Requerimiento asociado al componente
C19: 1 | D19: AMBIENTE DE CONTROL | E19: =+IFERROR(INDEX(Hoja1!$E$2:$E$45,MATCH('Análisis Resultados'!C19,Hoja1!$H$2:$H$45,0)),"") -> Documento interno o adopción del MECI actualizado | F19: =+IFERROR(VLOOKUP(C19,Hoja1!$H$2:$I$45,2,0),"") -> No | G19: =+IF(F19="Si","Existe requerimiento pero se requiere actividades dirigidas a su mantenimiento dentro del marco de las lineas de defensa.",IF(F19="En proceso","Se encuentra en proceso, pero requiere continuar con acciones dirigidas a contar con dicho aspecto de control.","No se encuentra el aspecto por lo tanto la entidad debera generar acciones dirigidas a que se cumpla con el requerimiento.")) -> No se encuentra el aspecto por lo tanto la entidad debera generar acciones dirigidas a que se cumpla con el requerimiento. | I19: =+IF(F19="Si",1,IF(F19="En proceso",0.5,0)) -> 0 | J19: =+AVERAGE(I19:I30) -> 0.75
C20: 2 | E20: =+IFERROR(INDEX(Hoja1!$E$2:$E$45,MATCH('Análisis Resultados'!C20,Hoja1!$H$2:$H$45,0)),"") -> Evaluación a los servidores públicos de acuerdo con el marco normativo que le rige | F20: =+IFERROR(VLOOKUP(C20,Hoja1!$H$2:$I$45,2,0),"") -> No | G20: =+IF(F20="Si","Existe requerimiento pero se requiere actividades dirigidas a su mantenimiento dentro del marco de las lineas de defensa.",IF(F20="En proceso","Se encuentra en proceso, pero requiere continuar con acciones dirigidas a contar con dicho aspecto de control.","No se encuentra el aspecto por lo tanto la entidad debera generar acciones dirigidas a que se cumpla con el requerimiento.")) -> No se encuentra el aspecto por lo tanto la entidad debera generar acciones dirigidas a que se cumpla con el requerimiento. | I20: =+IF(F20="Si",1,IF(F20="En proceso",0.5,0)) -> 0
C21: 3 | E21: =+IFERROR(INDEX(Hoja1!$E$2:$E$45,MATCH('Análisis Resultados'!C21,Hoja1!$H$2:$H$45,0)),"") -> Un manual de funciones que describa los empleos de la entidad | F21: =+IFERROR(VLOOKUP(C21,Hoja1!$H$2:$I$45,2,0),"") -> En proceso | G21: =+IF(F21="Si","Existe requerimiento pero se requiere actividades dirigidas a su mantenimiento dentro del marco de las lineas de defensa.",IF(F21="En proceso","Se encuentra en proceso, pero requiere continuar con acciones dirigidas a contar con dicho aspecto de control.","No se encuentra el aspecto por lo tanto la entidad debera generar acciones dirigidas a que se cumpla con el requerimiento.")) -> Se encuentra en proceso, pero requiere continuar con acciones dirigidas a contar con dicho aspecto de control. | I21: =+IF(F21="Si",1,IF(F21="En proceso",0.5,0)) -> 0.5
C22: 4 | E22: =+IFERROR(INDEX(Hoja1!$E$2:$E$45,MATCH('Análisis Resultados'!C22,Hoja1!$H$2:$H$45,0)),"") -> La documentación de sus procesos y procedimientos o bien una lista de actividades principales que permitan conocer el estado de su gestión | F22: =+IFERROR(VLOOKUP(C22,Hoja1!$H$2:$I$45,2,0),"") -> En proceso | G22: =+IF(F22="Si","Existe requerimiento pero se requiere actividades dirigidas a su mantenimiento dentro del marco de las lineas de defensa.",IF(F22="En proceso","Se encuentra en proceso, pero requiere continuar con acciones dirigidas a contar con dicho aspecto de control.","No se encuentra el aspecto por lo tanto la entidad debera generar acciones dirigidas a que se cumpla con el requerimiento.")) -> Se encuentra en proceso, pero requiere continuar con acciones dirigidas a contar con dicho aspecto de control. | I22: =+IF(F22="Si",1,IF(F22="En proceso",0.5,0)) -> 0.5
C23: 5 | E23: =+IFERROR(INDEX(Hoja1!$E$2:$E$45,MATCH('Análisis Resultados'!C23,Hoja1!$H$2:$H$45,0)),"") -> Un documento tal como un código de ética, integridad u otro que formalice los estándares de conducta, los principios institucionales o los valores del servicio público | F23: =+IFERROR(VLOOKUP(C23,Hoja1!$H$2:$I$45,2,0),"") -> Si | G23: =+IF(F23="Si","Existe requerimiento pero se requiere actividades dirigidas a su mantenimiento dentro del marco de las lineas de defensa.",IF(F23="En proceso","Se encuentra en proceso, pero requiere continuar con acciones dirigidas a contar con dicho aspecto de control.","No se encuentra el aspecto por lo tanto la entidad debera generar acciones dirigidas a que se cumpla con el requerimiento.")) -> Existe requerimiento pero se requiere actividades dirigidas a su mantenimiento dentro del marco de las lineas de defensa. | I23: =+IF(F23="Si",1,IF(F23="En proceso",0.5,0)) -> 1
C24: 6 | E24: =+IFERROR(INDEX(Hoja1!$E$2:$E$45,MATCH('Análisis Resultados'!C24,Hoja1!$H$2:$H$45,0)),"") -> Planes, programas y proyectos de acuerdo con las normas que rigen y atendiendo con su propósito fundamental institucional (misión) | F24: =+IFERROR(VLOOKUP(C24,Hoja1!$H$2:$I$45,2,0),"") -> Si | G24: =+IF(F24="Si","Existe requerimiento pero se requiere actividades dirigidas a su mantenimiento dentro del marco de las lineas de defensa.",IF(F24="En proceso","Se encuentra en proceso, pero requiere continuar con acciones dirigidas a contar con dicho aspecto de control.","No se encuentra el aspecto por lo tanto la entidad debera generar acciones dirigidas a que se cumpla con el requerimiento.")) -> Existe requerimiento pero se requiere actividades dirigidas a su mantenimiento dentro del marco de las lineas de defensa. | I24: =+IF(F24="Si",1,IF(F24="En proceso",0.5,0)) -> 1
C25: 7 | E25: =+IFERROR(INDEX(Hoja1!$E$2:$E$45,MATCH('Análisis Resultados'!C25,Hoja1!$H$2:$H$45,0)),"") -> Una estructura organizacional formalizada (organigrama) | F25: =+IFERROR(VLOOKUP(C25,Hoja1!$H$2:$I$45,2,0),"") -> Si | G25: =+IF(F25="Si","Existe requerimiento pero se requiere actividades dirigidas a su mantenimiento dentro del marco de las lineas de defensa.",IF(F25="En proceso","Se encuentra en proceso, pero requiere continuar con acciones dirigidas a contar con dicho aspecto de control.","No se encuentra el aspecto por lo tanto la entidad debera generar acciones dirigidas a que se cumpla con el requerimiento.")) -> Existe requerimiento pero se requiere actividades dirigidas a su mantenimiento dentro del marco de las lineas de defensa. | I25: =+IF(F25="Si",1,IF(F25="En proceso",0.5,0)) -> 1
C26: 8 | E26: =+IFERROR(INDEX(Hoja1!$E$2:$E$45,MATCH('Análisis Resultados'!C26,Hoja1!$H$2:$H$45,0)),"") -> Vinculación de los servidores públicos de acuerdo con el marco normativo que les rige (carrera administrativa, libre nombramiento y remoción, entre otros) | F26: =+IFERROR(VLOOKUP(C26,Hoja1!$H$2:$I$45,2,0),"") -> Si | G26: =+IF(F26="Si","Existe requerimiento pero se requiere actividades dirigidas a su mantenimiento dentro del marco de las lineas de defensa.",IF(F26="En proceso","Se encuentra en proceso, pero requiere continuar con acciones dirigidas a contar con dicho aspecto de control.","No se encuentra el aspecto por lo tanto la entidad debera generar acciones dirigidas a que se cumpla con el requerimiento.")) -> Existe requerimiento pero se requiere actividades dirigidas a su mantenimiento dentro del marco de las lineas de defensa. | I26: =+IF(F26="Si",1,IF(F26="En proceso",0.5,0)) -> 1
C27: 9 | E27: =+IFERROR(INDEX(Hoja1!$E$2:$E$45,MATCH('Análisis Resultados'!C27,Hoja1!$H$2:$H$45,0)),"") -> Procesos de inducción, capacitación y bienestar social para sus servidores públicos, de manera directa o en asociación con otras entidades municipales | F27: =+IFERROR(VLOOKUP(C27,Hoja1!$H$2:$I$45,2,0),"") -> Si | G27: =+IF(F27="Si","Existe requerimiento pero se requiere actividades dirigidas a su mantenimiento dentro del marco de las lineas de defensa.",IF(F27="En proceso","Se encuentra en proceso, pero requiere continuar con acciones dirigidas a contar con dicho aspecto de control.","No se encuentra el aspecto por lo tanto la entidad debera generar acciones dirigidas a que se cumpla con el requerimiento.")) -> Existe requerimiento pero se requiere actividades dirigidas a su mantenimiento dentro del marco de las lineas de defensa. | I27: =+IF(F27="Si",1,IF(F27="En proceso",0.5,0)) -> 1
C28: 10 | E28: =+IFERROR(INDEX(Hoja1!$E$2:$E$45,MATCH('Análisis Resultados'!C28,Hoja1!$H$2:$H$45,0)),"") -> Procesos de desvinculación de servidores de acuerdo con lo previsto en la Constitución Política y las leyes | F28: =+IFERROR(VLOOKUP(C28,Hoja1!$H$2:$I$45,2,0),"") -> Si | G28: =+IF(F28="Si","Existe requerimiento pero se requiere actividades dirigidas a su mantenimiento dentro del marco de las lineas de defensa.",IF(F28="En proceso","Se encuentra en proceso, pero requiere continuar con acciones dirigidas a contar con dicho aspecto de control.","No se encuentra el aspecto por lo tanto la entidad debera generar acciones dirigidas a que se cumpla con el requerimiento.")) -> Existe requerimiento pero se requiere actividades dirigidas a su mantenimiento dentro del marco de las lineas de defensa. | I28: =+IF(F28="Si",1,IF(F28="En proceso",0.5,0)) -> 1
C29: 11 | E29: =+IFERROR(INDEX(Hoja1!$E$2:$E$45,MATCH('Análisis Resultados'!C29,Hoja1!$H$2:$H$45,0)),"") -> Mecanismos de rendición de cuentas a la ciudadanía | F29: =+IFERROR(VLOOKUP(C29,Hoja1!$H$2:$I$45,2,0),"") -> Si | G29: =+IF(F29="Si","Existe requerimiento pero se requiere actividades dirigidas a su mantenimiento dentro del marco de las lineas de defensa.",IF(F29="En proceso","Se encuentra en proceso, pero requiere continuar con acciones dirigidas a contar con dicho aspecto de control.","No se encuentra el aspecto por lo tanto la entidad debera generar acciones dirigidas a que se cumpla con el requerimiento.")) -> Existe requerimiento pero se requiere actividades dirigidas a su mantenimiento dentro del marco de las lineas de defensa. | I29: =+IF(F29="Si",1,IF(F29="En proceso",0.5,0)) -> 1
C30: 12 | E30: =+IFERROR(INDEX(Hoja1!$E$2:$E$45,MATCH('Análisis Resultados'!C30,Hoja1!$H$2:$H$45,0)),"") -> Presentación oportuna de sus informes de gestión a las autoridades competentes | F30: =+IFERROR(VLOOKUP(C30,Hoja1!$H$2:$I$45,2,0),"") -> Si | G30: =+IF(F30="Si","Existe requerimiento pero se requiere actividades dirigidas a su mantenimiento dentro del marco de las lineas de defensa.",IF(F30="En proceso","Se encuentra en proceso, pero requiere continuar con acciones dirigidas a contar con dicho aspecto de control.","No se encuentra el aspecto por lo tanto la entidad debera generar acciones dirigidas a que se cumpla con el requerimiento.")) -> Existe requerimiento pero se requiere actividades dirigidas a su mantenimiento dentro del marco de las lineas de defensa. | I30: =+IF(F30="Si",1,IF(F30="En proceso",0.5,0)) -> 1
C31: 13 | D31: EVALUACION DEL RIESGO | E31: =+IFERROR(INDEX(Hoja1!$E$2:$E$45,MATCH('Análisis Resultados'!C31,Hoja1!$H$2:$H$45,0)),"") -> Si su capacidad e infraestructura lo permite, identificación de riesgos asociados a las tecnologías de la información y las comunicaciones | F31: =+IFERROR(VLOOKUP(C31,Hoja1!$H$2:$I$45,2,0),"") -> No | G31: =+IF(F31="Si","Existe requerimiento pero se requiere actividades dirigidas a su mantenimiento dentro del marco de las lineas de defensa.",IF(F31="En proceso","Se encuentra en proceso, pero requiere continuar con acciones dirigidas a contar con dicho aspecto de control.","No se encuentra el aspecto por lo tanto la entidad debera generar acciones dirigidas a que se cumpla con el requerimiento.")) -> No se encuentra el aspecto por lo tanto la entidad debera generar acciones dirigidas a que se cumpla con el requerimiento. | I31: =+IF(F31="Si",1,IF(F31="En proceso",0.5,0)) -> 0 | J31: =+AVERAGE(I31:I40) -> 0.7
C32: 14 | E32: =+IFERROR(INDEX(Hoja1!$E$2:$E$45,MATCH('Análisis Resultados'!C32,Hoja1!$H$2:$H$45,0)),"") -> La identificación de aquellos problemas o aspectos que pueden afectar el cumplimiento de los planes de la entidad y en general su gestión institucional (riesgos) | F32: =+IFERROR(VLOOKUP(C32,Hoja1!$H$2:$I$45,2,0),"") -> En proceso | G32: =+IF(F32="Si","Existe requerimiento pero se requiere actividades dirigidas a su mantenimiento dentro del marco de las lineas de defensa.",IF(F32="En proceso","Se encuentra en proceso, pero requiere continuar con acciones dirigidas a contar con dicho aspecto de control.","No se encuentra el aspecto por lo tanto la entidad debera generar acciones dirigidas a que se cumpla con el requerimiento.")) -> Se encuentra en proceso, pero requiere continuar con acciones dirigidas a contar con dicho aspecto de control. | I32: =+IF(F32="Si",1,IF(F32="En proceso",0.5,0)) -> 0.5
C33: 15 | E33: =+IFERROR(INDEX(Hoja1!$E$2:$E$45,MATCH('Análisis Resultados'!C33,Hoja1!$H$2:$H$45,0)),"") -> La identificación de los riesgos relacionados con posibles actos de corrupción en el ejercicio de sus funciones | F33: =+IFERROR(VLOOKUP(C33,Hoja1!$H$2:$I$45,2,0),"") -> En proceso | G33: =+IF(F33="Si","Existe requerimiento pero se requiere actividades dirigidas a su mantenimiento dentro del marco de las lineas de defensa.",IF(F33="En proceso","Se encuentra en proceso, pero requiere continuar con acciones dirigidas a contar con dicho aspecto de control.","No se encuentra el aspecto por lo tanto la entidad debera generar acciones dirigidas a que se cumpla con el requerimiento.")) -> Se encuentra en proceso, pero requiere continuar con acciones dirigidas a contar con dicho aspecto de control. | I33: =+IF(F33="Si",1,IF(F33="En proceso",0.5,0)) -> 0.5
C34: 16 | E34: =+IFERROR(INDEX(Hoja1!$E$2:$E$45,MATCH('Análisis Resultados'!C34,Hoja1!$H$2:$H$45,0)),"") -> Informan de manera periódica a quien corresponda sobre el desempeño de las actividades de gestión de riesgos | F34: =+IFERROR(VLOOKUP(C34,Hoja1!$H$2:$I$45,2,0),"") -> En proceso | G34: =+IF(F34="Si","Existe requerimiento pero se requiere actividades dirigidas a su mantenimiento dentro del marco de las lineas de defensa.",IF(F34="En proceso","Se encuentra en proceso, pero requiere continuar con acciones dirigidas a contar con dicho aspecto de control.","No se encuentra el aspecto por lo tanto la entidad debera generar acciones dirigidas a que se cumpla con el requerimiento.")) -> Se encuentra en proceso, pero requiere continuar con acciones dirigidas a contar con dicho aspecto de control. | I34: =+IF(F34="Si",1,IF(F34="En proceso",0.5,0)) -> 0.5
C35: 17 | E35: =+IFERROR(INDEX(Hoja1!$E$2:$E$45,MATCH('Análisis Resultados'!C35,Hoja1!$H$2:$H$45,0)),"") -> Cada líder del equipo autónomamente toma las acciones para solucionarlos. | F35: =+IFERROR(VLOOKUP(C35,Hoja1!$H$2:$I$45,2,0),"") -> En proceso | G35: =+IF(F35="Si","Existe requerimiento pero se requiere actividades dirigidas a su mantenimiento dentro del marco de las lineas de defensa.",IF(F35="En proceso","Se encuentra en proceso, pero requiere continuar con acciones dirigidas a contar con dicho aspecto de control.","No se encuentra el aspecto por lo tanto la entidad debera generar acciones dirigidas a que se cumpla con el requerimiento.")) -> Se encuentra en proceso, pero requiere continuar con acciones dirigidas a contar con dicho aspecto de control. | I35: =+IF(F35="Si",1,IF(F35="En proceso",0.5,0)) -> 0.5
C36: 18 | E36: =+IFERROR(INDEX(Hoja1!$E$2:$E$45,MATCH('Análisis Resultados'!C36,Hoja1!$H$2:$H$45,0)),"") -> La identificación de cambios en su entorno que pueden generar consecuencias negativas en su gestión | F36: =+IFERROR(VLOOKUP(C36,Hoja1!$H$2:$I$45,2,0),"") -> Si | G36: =+IF(F36="Si","Existe requerimiento pero se requiere actividades dirigidas a su mantenimiento dentro del marco de las lineas de defensa.",IF(F36="En proceso","Se encuentra en proceso, pero requiere continuar con acciones dirigidas a contar con dicho aspecto de control.","No se encuentra el aspecto por lo tanto la entidad debera generar acciones dirigidas a que se cumpla con el requerimiento.")) -> Existe requerimiento pero se requiere actividades dirigidas a su mantenimiento dentro del marco de las lineas de defensa. | I36: =+IF(F36="Si",1,IF(F36="En proceso",0.5,0)) -> 1
C37: 19 | E37: =+IFERROR(INDEX(Hoja1!$E$2:$E$45,MATCH('Análisis Resultados'!C37,Hoja1!$H$2:$H$45,0)),"") -> Hacen seguimiento a los problemas (riesgos) que pueden afectar el cumplimiento de sus procesos, programas o proyectos a cargo | F37: =+IFERROR(VLOOKUP(C37,Hoja1!$H$2:$I$45,2,0),"") -> Si | G37: =+IF(F37="Si","Existe requerimiento pero se requiere actividades dirigidas a su mantenimiento dentro del marco de las lineas de defensa.",IF(F37="En proceso","Se encuentra en proceso, pero requiere continuar con acciones dirigidas a contar con dicho aspecto de control.","No se encuentra el aspecto por lo tanto la entidad debera generar acciones dirigidas a que se cumpla con el requerimiento.")) -> Existe requerimiento pero se requiere actividades dirigidas a su mantenimiento dentro del marco de las lineas de defensa. | I37: =+IF(F37="Si",1,IF(F37="En proceso",0.5,0)) -> 1
C38: 20 | E38: =+IFERROR(INDEX(Hoja1!$E$2:$E$45,MATCH('Análisis Resultados'!C38,Hoja1!$H$2:$H$45,0)),"") -> Identifican deficiencias en las maneras de controlar los riesgos o problemas en sus procesos, programas o proyectos, y propone los ajustes necesarios | F38: =+IFERROR(VLOOKUP(C38,Hoja1!$H$2:$I$45,2,0),"") -> Si | G38: =+IF(F38="Si","Existe requerimiento pero se requiere actividades dirigidas a su mantenimiento dentro del marco de las lineas de defensa.",IF(F38="En proceso","Se encuentra en proceso, pero requiere continuar con acciones dirigidas a contar con dicho aspecto de control.","No se encuentra el aspecto por lo tanto la entidad debera generar acciones dirigidas a que se cumpla con el requerimiento.")) -> Existe requerimiento pero se requiere actividades dirigidas a su mantenimiento dentro del marco de las lineas de defensa. | I38: =+IF(F38="Si",1,IF(F38="En proceso",0.5,0)) -> 1
C39: 21 | E39: =+IFERROR(INDEX(Hoja1!$E$2:$E$45,MATCH('Análisis Resultados'!C39,Hoja1!$H$2:$H$45,0)),"") -> Se definen espacios de reunión para conocerlos y proponer acciones para su solución | F39: =+IFERROR(VLOOKUP(C39,Hoja1!$H$2:$I$45,2,0),"") -> Si | G39: =+IF(F39="Si","Existe requerimiento pero se requiere actividades dirigidas a su mantenimiento dentro del marco de las lineas de defensa.",IF(F39="En proceso","Se encuentra en proceso, pero requiere continuar con acciones dirigidas a contar con dicho aspecto de control.","No se encuentra el aspecto por lo tanto la entidad debera generar acciones dirigidas a que se cumpla con el requerimiento.")) -> Existe requerimiento pero se requiere actividades dirigidas a su mantenimiento dentro del marco de las lineas de defensa. | I39: =+IF(F39="Si",1,IF(F39="En proceso",0.5,0)) -> 1
C40: 22 | E40: =+IFERROR(INDEX(Hoja1!$E$2:$E$45,MATCH('Análisis Resultados'!C40,Hoja1!$H$2:$H$45,0)),"") -> Solamente hasta que un organismo de control actúa se definen acciones de mejora. | F40: =+IFERROR(VLOOKUP(C40,Hoja1!$H$2:$I$45,2,0),"") -> Si | G40: =+IF(F40="Si","Existe requerimiento pero se requiere actividades dirigidas a su mantenimiento dentro del marco de las lineas de defensa.",IF(F40="En proceso","Se encuentra en proceso, pero requiere continuar con acciones dirigidas a contar con dicho aspecto de control.","No se encuentra el aspecto por lo tanto la entidad debera generar acciones dirigidas a que se cumpla con el requerimiento.")) -> Existe requerimiento pero se requiere actividades dirigidas a su mantenimiento dentro del marco de las lineas de defensa. | I40: =+IF(F40="Si",1,IF(F40="En proceso",0.5,0)) -> 1
C41: 23 | D41: ACTIVIDADES DE CONTROL | E41: =+IFERROR(INDEX(Hoja1!$E$2:$E$45,MATCH('Análisis Resultados'!C41,Hoja1!$H$2:$H$45,0)),"") -> Mecanismos de verificación de si se están o no mitigando los riesgos, o en su defecto, elaboración de planes de contingencia para subsanar sus consecuencias | F41: =+IFERROR(VLOOKUP(C41,Hoja1!$H$2:$I$45,2,0),"") -> En proceso | G41: =+IF(F41="Si","Existe requerimiento pero se requiere actividades dirigidas a su mantenimiento dentro del marco de las lineas de defensa.",IF(F41="En proceso","Se encuentra en proceso, pero requiere continuar con acciones dirigidas a contar con dicho aspecto de control.","No se encuentra el aspecto por lo tanto la entidad debera generar acciones dirigidas a que se cumpla con el requerimiento.")) -> Se encuentra en proceso, pero requiere continuar con acciones dirigidas a contar con dicho aspecto de control. | I41: =+IF(F41="Si",1,IF(F41="En proceso",0.5,0)) -> 0.5 | J41: =+AVERAGE(I41:I45) -> 0.7
C42: 24 | E42: =+IFERROR(INDEX(Hoja1!$E$2:$E$45,MATCH('Análisis Resultados'!C42,Hoja1!$H$2:$H$45,0)),"") -> Planes, acciones o estrategias que permitan subsanar las consecuencias de la materialización de los riesgos, cuando se presentan | F42: =+IFERROR(VLOOKUP(C42,Hoja1!$H$2:$I$45,2,0),"") -> En proceso | G42: =+IF(F42="Si","Existe requerimiento pero se requiere actividades dirigidas a su mantenimiento dentro del marco de las lineas de defensa.",IF(F42="En proceso","Se encuentra en proceso, pero requiere continuar con acciones dirigidas a contar con dicho aspecto de control.","No se encuentra el aspecto por lo tanto la entidad debera generar acciones dirigidas a que se cumpla con el requerimiento.")) -> Se encuentra en proceso, pero requiere continuar con acciones dirigidas a contar con dicho aspecto de control. | I42: =+IF(F42="Si",1,IF(F42="En proceso",0.5,0)) -> 0.5
C43: 25 | E43: =+IFERROR(INDEX(Hoja1!$E$2:$E$45,MATCH('Análisis Resultados'!C43,Hoja1!$H$2:$H$45,0)),"") -> Un documento que consolide los riesgos y el tratamiento que se les da, incluyendo aquellos que conllevan posibles actos de corrupción y si la capacidad e infraestructura lo permite, los asociados con las tecnologías de la información y las comunicaciones | F43: =+IFERROR(VLOOKUP(C43,Hoja1!$H$2:$I$45,2,0),"") -> En proceso | G43: =+IF(F43="Si","Existe requerimiento pero se requiere actividades dirigidas a su mantenimiento dentro del marco de las lineas de defensa.",IF(F43="En proceso","Se encuentra en proceso, pero requiere continuar con acciones dirigidas a contar con dicho aspecto de control.","No se encuentra el aspecto por lo tanto la entidad debera generar acciones dirigidas a que se cumpla con el requerimiento.")) -> Se encuentra en proceso, pero requiere continuar con acciones dirigidas a contar con dicho aspecto de control. | I43: =+IF(F43="Si",1,IF(F43="En proceso",0.5,0)) -> 0.5
C44: 26 | E44: =+IFERROR(INDEX(Hoja1!$E$2:$E$45,MATCH('Análisis Resultados'!C44,Hoja1!$H$2:$H$45,0)),"") -> La definición de acciones o actividades para para dar tratamiento a los problemas identificados (mitigación de riesgos), incluyendo aquellos asociados a posibles actos de corrupción | F44: =+IFERROR(VLOOKUP(C44,Hoja1!$H$2:$I$45,2,0),"") -> Si | G44: =+IF(F44="Si","Existe requerimiento pero se requiere actividades dirigidas a su mantenimiento dentro del marco de las lineas de defensa.",IF(F44="En proceso","Se encuentra en proceso, pero requiere continuar con acciones dirigidas a contar con dicho aspecto de control.","No se encuentra el aspecto por lo tanto la entidad debera generar acciones dirigidas a que se cumpla con el requerimiento.")) -> Existe requerimiento pero se requiere actividades dirigidas a su mantenimiento dentro del marco de las lineas de defensa. | I44: =+IF(F44="Si",1,IF(F44="En proceso",0.5,0)) -> 1
C45: 27 | E45: =+IFERROR(INDEX(Hoja1!$E$2:$E$45,MATCH('Análisis Resultados'!C45,Hoja1!$H$2:$H$45,0)),"") -> Un plan anticorrupción y de servicio al ciudadano con los temas que le aplican, publicado en algún medio para conocimiento de la ciudadanía | F45: =+IFERROR(VLOOKUP(C45,Hoja1!$H$2:$I$45,2,0),"") -> Si | G45: =+IF(F45="Si","Existe requerimiento pero se requiere actividades dirigidas a su mantenimiento dentro del marco de las lineas de defensa.",IF(F45="En proceso","Se encuentra en proceso, pero requiere continuar con acciones dirigidas a contar con dicho aspecto de control.","No se encuentra el aspecto por lo tanto la entidad debera generar acciones dirigidas a que se cumpla con el requerimiento.")) -> Existe requerimiento pero se requiere actividades dirigidas a su mantenimiento dentro del marco de las lineas de defensa. | I45: =+IF(F45="Si",1,IF(F45="En proceso",0.5,0)) -> 1
C46: 28 | D46: INFORMACION Y COMUNICACIÓN | E46: =+IFERROR(INDEX(Hoja1!$E$2:$E$45,MATCH('Análisis Resultados'!C46,Hoja1!$H$2:$H$45,0)),"") -> Si su capacidad e infraestructura lo permite, tecnologías de la información y las comunicaciones que soporten estos procesos | F46: =+IFERROR(VLOOKUP(C46,Hoja1!$H$2:$I$45,2,0),"") -> No | G46: =+IF(F46="Si","Existe requerimiento pero se requiere actividades dirigidas a su mantenimiento dentro del marco de las lineas de defensa.",IF(F46="En proceso","Se encuentra en proceso, pero requiere continuar con acciones dirigidas a contar con dicho aspecto de control.","No se encuentra el aspecto por lo tanto la entidad debera generar acciones dirigidas a que se cumpla con el requerimiento.")) -> No se encuentra el aspecto por lo tanto la entidad debera generar acciones dirigidas a que se cumpla con el requerimiento. | I46: =+IF(F46="Si",1,IF(F46="En proceso",0.5,0)) -> 0 | J46: =+AVERAGE(I46:I52) -> 0.78571429
C47: 29 | E47: =+IFERROR(INDEX(Hoja1!$E$2:$E$45,MATCH('Análisis Resultados'!C47,Hoja1!$H$2:$H$45,0)),"") -> Lineamientos para dar tratamiento a la información de carácter reservado | F47: =+IFERROR(VLOOKUP(C47,Hoja1!$H$2:$I$45,2,0),"") -> En proceso | G47: =+IF(F47="Si","Existe requerimiento pero se requiere actividades dirigidas a su mantenimiento dentro del marco de las lineas de defensa.",IF(F47="En proceso","Se encuentra en proceso, pero requiere continuar con acciones dirigidas a contar con dicho aspecto de control.","No se encuentra el aspecto por lo tanto la entidad debera generar acciones dirigidas a que se cumpla con el requerimiento.")) -> Se encuentra en proceso, pero requiere continuar con acciones dirigidas a contar con dicho aspecto de control. | I47: =+IF(F47="Si",1,IF(F47="En proceso",0.5,0)) -> 0.5
C48: 30 | E48: =+IFERROR(INDEX(Hoja1!$E$2:$E$45,MATCH('Análisis Resultados'!C48,Hoja1!$H$2:$H$45,0)),"") -> Responsables de la información institucional | F48: =+IFERROR(VLOOKUP(C48,Hoja1!$H$2:$I$45,2,0),"") -> Si | G48: =+IF(F48="Si","Existe requerimiento pero se requiere actividades dirigidas a su mantenimiento dentro del marco de las lineas de defensa.",IF(F48="En proceso","Se encuentra en proceso, pero requiere continuar con acciones dirigidas a contar con dicho aspecto de control.","No se encuentra el aspecto por lo tanto la entidad debera generar acciones dirigidas a que se cumpla con el requerimiento.")) -> Existe requerimiento pero se requiere actividades dirigidas a su mantenimiento dentro del marco de las lineas de defensa. | I48: =+IF(F48="Si",1,IF(F48="En proceso",0.5,0)) -> 1
C49: 31 | E49: =+IFERROR(INDEX(Hoja1!$E$2:$E$45,MATCH('Análisis Resultados'!C49,Hoja1!$H$2:$H$45,0)),"") -> Canales de comunicación con los ciudadanos | F49: =+IFERROR(VLOOKUP(C49,Hoja1!$H$2:$I$45,2,0),"") -> Si | G49: =+IF(F49="Si","Existe requerimiento pero se requiere actividades dirigidas a su mantenimiento dentro del marco de las lineas de defensa.",IF(F49="En proceso","Se encuentra en proceso, pero requiere continuar con acciones dirigidas a contar con dicho aspecto de control.","No se encuentra el aspecto por lo tanto la entidad debera generar acciones dirigidas a que se cumpla con el requerimiento.")) -> Existe requerimiento pero se requiere actividades dirigidas a su mantenimiento dentro del marco de las lineas de defensa. | I49: =+IF(F49="Si",1,IF(F49="En proceso",0.5,0)) -> 1
C50: 32 | E50: =+IFERROR(INDEX(Hoja1!$E$2:$E$45,MATCH('Análisis Resultados'!C50,Hoja1!$H$2:$H$45,0)),"") -> Canales de comunicación o mecanismos de reporte de información a otros organismos gubernamentales o de control | F50: =+IFERROR(VLOOKUP(C50,Hoja1!$H$2:$I$45,2,0),"") -> Si | G50: =+IF(F50="Si","Existe requerimiento pero se requiere actividades dirigidas a su mantenimiento dentro del marco de las lineas de defensa.",IF(F50="En proceso","Se encuentra en proceso, pero requiere continuar con acciones dirigidas a contar con dicho aspecto de control.","No se encuentra el aspecto por lo tanto la entidad debera generar acciones dirigidas a que se cumpla con el requerimiento.")) -> Existe requerimiento pero se requiere actividades dirigidas a su mantenimiento dentro del marco de las lineas de defensa. | I50: =+IF(F50="Si",1,IF(F50="En proceso",0.5,0)) -> 1
C51: 33 | E51: =+IFERROR(INDEX(Hoja1!$E$2:$E$45,MATCH('Análisis Resultados'!C51,Hoja1!$H$2:$H$45,0)),"") -> Identificación de información que produce en el marco de su gestión (Para los ciudadanos, organismos de control, organismos gubernamentales, entre otros) | F51: =+IFERROR(VLOOKUP(C51,Hoja1!$H$2:$I$45,2,0),"") -> Si | G51: =+IF(F51="Si","Existe requerimiento pero se requiere actividades dirigidas a su mantenimiento dentro del marco de las lineas de defensa.",IF(F51="En proceso","Se encuentra en proceso, pero requiere continuar con acciones dirigidas a contar con dicho aspecto de control.","No se encuentra el aspecto por lo tanto la entidad debera generar acciones dirigidas a que se cumpla con el requerimiento.")) -> Existe requerimiento pero se requiere actividades dirigidas a su mantenimiento dentro del marco de las lineas de defensa. | I51: =+IF(F51="Si",1,IF(F51="En proceso",0.5,0)) -> 1
...

Sheet Conclusión
E4: Nombre de la Entidad: | F4: EMPRESA SOCIAL DEL ESTADO ESE HOSPITAL REGIONAL CENTRO.
E6: Periodo Evaluado: | F6: EVALUACIÓN SISTEMA DE CONTROL INTERNO A 31 DE DICIEMBRE DEL AÑO 2024. NELSON IBARRA BLANCO.
I8: Estado del sistema de Control Interno de la entidad | M8: =+AVERAGE(G26,G28,G30,G32,G34) -> 0.74714286
C18: Conclusión general sobre la evaluación del Sistema de Control Interno
C20: ¿Están todos los componentes operando juntos y de manera integrada? (Si / en proceso / No) (Justifique su respuesta): | E20: En proceso | F20: LA ESE HOSPITAL REGIONAL CENTRO, CUENTA CON UNA INTEGRACIÓN ENTRE EL SISTEMA DE PLANEACIÓN Y GESTIÓN Y EL SISTEMA DE CONTROL INTERNO, TENIENDO EN CUENTA EL CUMPLIMIENTO DE LAS RESPONSABILIDADES ASIGNADAS A CADA UNA DE LAS LINEAS DE DEFENSA, VERIFICANDOSE LA INTEGRACIÓN Y EL CUMPLIMIENTO DE LOS OBJETIVOS ESTRATEGICOS INSTITUCIONALES. SE HA EFECTUADO RETROLIMENTACIÓN DE LOS PROCESOS Y PROCEDIMIENTOS EN EL ÁREA ADMINISTRATIVA Y ASISTENCIAL, CON EL OBJETO QUE LA ENTIDAD CUMPLA CON LO ESTABLECIDO EN LA NORMATIVIDAD.
C21: ¿Es efectivo el sistema de control interno para los objetivos evaluados? (Si/No) (Justifique su respuesta): | E21: Si | F21: EL SISTEMA DE CONTROL INTERNO IMPLEMENTADO EN LA ESE HOSPITAL REGIONAL CENTRO, HA EVIDENCIADO SU EFECTIVIDAD. EL SISTEMA MONITOREA Y EFECTUA SEGUIMIENTO A LOS PROCESOS Y PROCEDIMIENTOS A TRAVÉS DE LA PRIMERA LINEA DE DEFENSA , CON EL APOYO DE LA SEGUNDA LINEA; ADICIONALMENTE SE REALIZA EVALUACIÓN INDEPENDIENTE DEL SISTEMA, A CARGO DE LA DEPENDENCIA DE CONTROL INTERNO, TENIENDO COMO BASE LA MATRIZ DE RIESGOS SE EFECTUA SEGUIMIENTO CONSTANTE Y, AUDITORIAS INTERNAS, CUYOS RESULTADOS SON COMUNICADOS A LAS AREAS INVOLUCRADAS Y, A LA ALTA DIRECCIÓN, CON EL PROPOSITO DE IDENTIFICAR MEJORAS, CUYOS RESULTADOS SERVIRAN COMO INSUMO PARA LA TOMA DE DECISIONES, QUE PERMITAN ALCANZAR EL CUMPLIMIENTO DE LOS OBJETIVOS INSTITUCIONALES.
